BEGIN:VCALENDAR
VERSION:2.0
PRODID:-//Squamish Arts - ECPv6.15.18//NONSGML v1.0//EN
CALSCALE:GREGORIAN
METHOD:PUBLISH
X-WR-CALNAME:Squamish Arts
X-ORIGINAL-URL:https://squamisharts.com
X-WR-CALDESC:Events for Squamish Arts
REFRESH-INTERVAL;VALUE=DURATION:PT1H
X-Robots-Tag:noindex
X-PUBLISHED-TTL:PT1H
BEGIN:VTIMEZONE
TZID:America/Vancouver
BEGIN:DAYLIGHT
TZOFFSETFROM:-0800
TZOFFSETTO:-0700
TZNAME:PDT
DTSTART:20250309T100000
END:DAYLIGHT
BEGIN:STANDARD
TZOFFSETFROM:-0700
TZOFFSETTO:-0800
TZNAME:PST
DTSTART:20251102T090000
END:STANDARD
BEGIN:DAYLIGHT
TZOFFSETFROM:-0800
TZOFFSETTO:-0700
TZNAME:PDT
DTSTART:20260308T100000
END:DAYLIGHT
BEGIN:STANDARD
TZOFFSETFROM:-0700
TZOFFSETTO:-0800
TZNAME:PST
DTSTART:20261101T090000
END:STANDARD
BEGIN:DAYLIGHT
TZOFFSETFROM:-0800
TZOFFSETTO:-0700
TZNAME:PDT
DTSTART:20270314T100000
END:DAYLIGHT
BEGIN:STANDARD
TZOFFSETFROM:-0700
TZOFFSETTO:-0800
TZNAME:PST
DTSTART:20271107T090000
END:STANDARD
END:VTIMEZONE
BEGIN:VEVENT
DTSTART;TZID=America/Vancouver:20260312T173000
DTEND;TZID=America/Vancouver:20260312T220000
DTSTAMP:20260420T182805
CREATED:20260228T223434Z
LAST-MODIFIED:20260228T223435Z
UID:10000729-1773336600-1773352800@squamisharts.com
SUMMARY:Open Mic at The BAG
DESCRIPTION:Instructor				\n				\n				\n						\n					\n			\n							\n		\n				\n			\n							\n		\n					\n		\n				\n				\n							\n			\n		\n						\n				\n					\n		\n					\n		\n				\n						\n					\n			\n						\n				\n							\n			\n		\n						\n				\n					\n		\n					\n		\n				\n						\n					\n			\n						\n				\n					Tickets
URL:https://squamisharts.com/sa-event/open-mic-at-the-bag-9/
LOCATION:BC
CATEGORIES:Community Event
ATTACH;FMTTYPE=image/png:https://squamisharts.com/wp-content/uploads/2026/02/Screenshot-2026-02-26-at-6.01.40-PM-1cb6e280c7b0f9a625c22220d9168617.png
END:VEVENT
BEGIN:VEVENT
DTSTART;TZID=America/Vancouver:20260313T190000
DTEND;TZID=America/Vancouver:20260313T220000
DTSTAMP:20260420T182805
CREATED:20260310T180504Z
LAST-MODIFIED:20260310T180504Z
UID:10000745-1773428400-1773439200@squamisharts.com
SUMMARY:Create Public Art Info Night
DESCRIPTION:Instructor				\n				\n				\n						\n					\n			\n							\n		\n				\n			\n							\n		\n					\n		\n				\n				\n							\n			\n		\n						\n				\n					\n		\n					\n		\n				\n						\n					\n			\n						\n				\n							\n			\n		\n						\n				\n					\n		\n					\n		\n				\n						\n					\n			\n						\n				\n					Tickets
URL:https://squamisharts.com/sa-event/create-public-art-info-night/
LOCATION:BC
CATEGORIES:Community Event
ATTACH;FMTTYPE=image/png:https://squamisharts.com/wp-content/uploads/2026/03/info-night-eventbrite-14d876b808903f62fdcc0eba2b7efce6.png
END:VEVENT
BEGIN:VEVENT
DTSTART;TZID=America/Vancouver:20260313T210000
DTEND;TZID=America/Vancouver:20260313T230000
DTSTAMP:20260420T182805
CREATED:20260228T223402Z
LAST-MODIFIED:20260228T223402Z
UID:10000730-1773435600-1773442800@squamisharts.com
SUMMARY:Last Reminisced Heroes & Shiny Red Button
DESCRIPTION:Instructor				\n				\n				\n						\n					\n			\n							\n		\n				\n			\n							\n		\n					\n		\n				\n				\n							\n			\n		\n						\n				\n					\n		\n					\n		\n				\n						\n					\n			\n						\n				\n							\n			\n		\n						\n				\n					\n		\n					\n		\n				\n						\n					\n			\n						\n				\n					Tickets
URL:https://squamisharts.com/sa-event/last-reminisced-heroes-shiny-red-button/
LOCATION:BC
CATEGORIES:Community Event
ATTACH;FMTTYPE=image/png:https://squamisharts.com/wp-content/uploads/2026/02/Screenshot-2026-02-26-at-6.24.25-PM-64a7d899c78e700989f2413b5e5607bd.png
END:VEVENT
BEGIN:VEVENT
DTSTART;TZID=America/Vancouver:20260314T200000
DTEND;TZID=America/Vancouver:20260314T230000
DTSTAMP:20260420T182805
CREATED:20260228T223339Z
LAST-MODIFIED:20260228T223339Z
UID:10000731-1773518400-1773529200@squamisharts.com
SUMMARY:KASADOR
DESCRIPTION:Instructor				\n				\n				\n						\n					\n			\n							\n		\n				\n			\n							\n		\n					\n		\n				\n				\n							\n			\n		\n						\n				\n					\n		\n					\n		\n				\n						\n					\n			\n						\n				\n							\n			\n		\n						\n				\n					\n		\n					\n		\n				\n						\n					\n			\n						\n				\n					Tickets
URL:https://squamisharts.com/sa-event/kasador/
LOCATION:BC
CATEGORIES:Community Event
ATTACH;FMTTYPE=image/png:https://squamisharts.com/wp-content/uploads/2026/02/Screenshot-2026-02-26-at-7.21.19-PM-60315db8c2397e2686b4ea909abb4e11.png
END:VEVENT
BEGIN:VEVENT
DTSTART;TZID=America/Vancouver:20260316T183000
DTEND;TZID=America/Vancouver:20260316T203000
DTSTAMP:20260420T182805
CREATED:20260228T053503Z
LAST-MODIFIED:20260228T053503Z
UID:10000732-1773685800-1773693000@squamisharts.com
SUMMARY:Line Dancing with Sharon Slater
DESCRIPTION:Instructor				\n				\n				\n						\n					\n			\n							\n		\n				\n			\n							\n		\n					\n		\n				\n				\n							\n			\n		\n						\n				\n					\n		\n					\n		\n				\n						\n					\n			\n						\n				\n							\n			\n		\n						\n				\n					\n		\n					\n		\n				\n						\n					\n			\n						\n				\n					Tickets
URL:https://squamisharts.com/sa-event/line-dancing-with-sharon-slater/
LOCATION:BC
CATEGORIES:Community Event
ATTACH;FMTTYPE=image/png:https://squamisharts.com/wp-content/uploads/2026/02/Screenshot-2026-02-26-at-7.39.53-PM-b070c59523255d29ed48d76dc0aba2f7.png
END:VEVENT
BEGIN:VEVENT
DTSTART;TZID=America/Vancouver:20260317T180000
DTEND;TZID=America/Vancouver:20260317T200000
DTSTAMP:20260420T182805
CREATED:20260219T231352Z
LAST-MODIFIED:20260219T232217Z
UID:10000724-1773770400-1773777600@squamisharts.com
SUMMARY:Art Gym
DESCRIPTION:Instructor				\n				\n				\n						\n					\n			\n							\n		\n				\n			\n							\n		\n					\n		\n				\n				\n							\n			\n		\n						\n				\n					\n		\n					\n		\n				\n						\n					\n			\n						\n				\n							\n			\n		\n						\n				\n					\n		\n					\n		\n				\n						\n					\n			\n						\n				\n					Tickets
URL:https://squamisharts.com/sa-event/art-gym-03-17/
LOCATION:The 55 Activity Centre\, 1201 Village Green Way Squamish\, Squamish\, BC\, V8B 0N6\, Canada
CATEGORIES:Art School,Community Event
ATTACH;FMTTYPE=image/png:https://squamisharts.com/wp-content/uploads/2025/10/Art-Gym-2025-Banner.png
ORGANIZER;CN="Squamish Arts":MAILTO:info@squamisharts.com
END:VEVENT
BEGIN:VEVENT
DTSTART;TZID=America/Vancouver:20260317T180000
DTEND;TZID=America/Vancouver:20260317T230000
DTSTAMP:20260420T182805
CREATED:20260228T053436Z
LAST-MODIFIED:20260228T053436Z
UID:10000733-1773770400-1773788400@squamisharts.com
SUMMARY:St Patrick's Day Party at The BAG
DESCRIPTION:Instructor				\n				\n				\n						\n					\n			\n							\n		\n				\n			\n							\n		\n					\n		\n				\n				\n							\n			\n		\n						\n				\n					\n		\n					\n		\n				\n						\n					\n			\n						\n				\n							\n			\n		\n						\n				\n					\n		\n					\n		\n				\n						\n					\n			\n						\n				\n					Tickets
URL:https://squamisharts.com/sa-event/st-patricks-day-party-at-the-bag/
LOCATION:BC
CATEGORIES:Community Event
ATTACH;FMTTYPE=image/png:https://squamisharts.com/wp-content/uploads/2026/02/Screenshot-2026-02-26-at-7.54.43-PM-39afcc4d38e150beab972639a7b0db5f.png
END:VEVENT
BEGIN:VEVENT
DTSTART;TZID=America/Vancouver:20260318T180000
DTEND;TZID=America/Vancouver:20260318T203000
DTSTAMP:20260420T182805
CREATED:20260312T200120Z
LAST-MODIFIED:20260312T200120Z
UID:10000746-1773856800-1773865800@squamisharts.com
SUMMARY:Pet Portraits Class
DESCRIPTION:Instructor				\n				\n				\n						\n					\n			\n							\n		\n				\n			\n							\n		\n					\n		\n				\n				\n							\n			\n		\n						\n				\n					\n		\n					\n		\n				\n						\n					\n			\n						\n				\n							\n			\n		\n						\n				\n					\n		\n					\n		\n				\n						\n					\n			\n						\n				\n					Tickets
URL:https://squamisharts.com/sa-event/pet-portraits-class/
LOCATION:BC
CATEGORIES:Community Event
ATTACH;FMTTYPE=image/png:https://squamisharts.com/wp-content/uploads/2026/03/1-CLASS-1d75cfe7adf2b586281d6bf123cd7206.png
END:VEVENT
BEGIN:VEVENT
DTSTART;TZID=America/Vancouver:20260318T183000
DTEND;TZID=America/Vancouver:20260318T210000
DTSTAMP:20260420T182805
CREATED:20260306T010525Z
LAST-MODIFIED:20260306T010525Z
UID:10000741-1773858600-1773867600@squamisharts.com
SUMMARY:Poet Next Door
DESCRIPTION:Instructor				\n				\n				\n						\n					\n			\n							\n		\n				\n			\n							\n		\n					\n		\n				\n				\n							\n			\n		\n						\n				\n					\n		\n					\n		\n				\n						\n					\n			\n						\n				\n							\n			\n		\n						\n				\n					\n		\n					\n		\n				\n						\n					\n			\n						\n				\n					Tickets
URL:https://squamisharts.com/sa-event/poet-next-door-2/
LOCATION:BC
CATEGORIES:Community Event
ATTACH;FMTTYPE=image/png:https://squamisharts.com/wp-content/uploads/2026/03/Screenshot-2026-03-04-at-7.10.13-PM-e9259984fee053ec9cd91abff9a17d93.png
END:VEVENT
BEGIN:VEVENT
DTSTART;TZID=America/Vancouver:20260318T193000
DTEND;TZID=America/Vancouver:20260318T213000
DTSTAMP:20260420T182805
CREATED:20260204T205141Z
LAST-MODIFIED:20260204T205141Z
UID:10000715-1773862200-1773869400@squamisharts.com
SUMMARY:The Squishy Squamedy Show
DESCRIPTION:Instructor				\n				\n				\n						\n					\n			\n							\n		\n				\n			\n							\n		\n					\n		\n				\n				\n							\n			\n		\n						\n				\n					\n		\n					\n		\n				\n						\n					\n			\n						\n				\n							\n			\n		\n						\n				\n					\n		\n					\n		\n				\n						\n					\n			\n						\n				\n					Tickets
URL:https://squamisharts.com/sa-event/the-squishy-squamedy-show-3/
LOCATION:BC
CATEGORIES:Community Event
ATTACH;FMTTYPE=image/png:https://squamisharts.com/wp-content/uploads/2026/02/Squishy-Squamedy-show-cover-March-18-2026-506b602c6257efd177aa8152b094a3ec.png
END:VEVENT
BEGIN:VEVENT
DTSTART;TZID=America/Vancouver:20260319T173000
DTEND;TZID=America/Vancouver:20260319T220000
DTSTAMP:20260420T182805
CREATED:20260228T053334Z
LAST-MODIFIED:20260228T053334Z
UID:10000734-1773941400-1773957600@squamisharts.com
SUMMARY:Open Mic at The BAG
DESCRIPTION:Instructor				\n				\n				\n						\n					\n			\n							\n		\n				\n			\n							\n		\n					\n		\n				\n				\n							\n			\n		\n						\n				\n					\n		\n					\n		\n				\n						\n					\n			\n						\n				\n							\n			\n		\n						\n				\n					\n		\n					\n		\n				\n						\n					\n			\n						\n				\n					Tickets
URL:https://squamisharts.com/sa-event/open-mic-at-the-bag-8/
LOCATION:BC
CATEGORIES:Community Event
ATTACH;FMTTYPE=image/png:https://squamisharts.com/wp-content/uploads/2026/02/Screenshot-2026-02-26-at-6.01.40-PM-463afbba7b5cada69a3f14e232a679cf.png
END:VEVENT
BEGIN:VEVENT
DTSTART;TZID=America/Vancouver:20260320T200000
DTEND;TZID=America/Vancouver:20260320T230000
DTSTAMP:20260420T182805
CREATED:20260228T053122Z
LAST-MODIFIED:20260228T053122Z
UID:10000735-1774036800-1774047600@squamisharts.com
SUMMARY:Vox Rea
DESCRIPTION:Instructor				\n				\n				\n						\n					\n			\n							\n		\n				\n			\n							\n		\n					\n		\n				\n				\n							\n			\n		\n						\n				\n					\n		\n					\n		\n				\n						\n					\n			\n						\n				\n							\n			\n		\n						\n				\n					\n		\n					\n		\n				\n						\n					\n			\n						\n				\n					Tickets
URL:https://squamisharts.com/sa-event/vox-rea/
LOCATION:BC
CATEGORIES:Community Event
ATTACH;FMTTYPE=image/png:https://squamisharts.com/wp-content/uploads/2026/02/Screenshot-2026-02-26-at-8.29.44-PM-b8d5dbf3629e8cf600a5a112434e4a88.png
END:VEVENT
BEGIN:VEVENT
DTSTART;TZID=America/Vancouver:20260321T200000
DTEND;TZID=America/Vancouver:20260321T223000
DTSTAMP:20260420T182805
CREATED:20260228T053017Z
LAST-MODIFIED:20260228T053017Z
UID:10000736-1774123200-1774132200@squamisharts.com
SUMMARY:BC Songbook
DESCRIPTION:Instructor				\n				\n				\n						\n					\n			\n							\n		\n				\n			\n							\n		\n					\n		\n				\n				\n							\n			\n		\n						\n				\n					\n		\n					\n		\n				\n						\n					\n			\n						\n				\n							\n			\n		\n						\n				\n					\n		\n					\n		\n				\n						\n					\n			\n						\n				\n					Tickets
URL:https://squamisharts.com/sa-event/bc-songbook/
LOCATION:BC
CATEGORIES:Community Event
ATTACH;FMTTYPE=image/png:https://squamisharts.com/wp-content/uploads/2026/02/Screenshot-2026-02-26-at-8.57.58-PM-a4efc8092e90347747ed37448424ef34.png
END:VEVENT
BEGIN:VEVENT
DTSTART;TZID=America/Vancouver:20260324T180000
DTEND;TZID=America/Vancouver:20260324T200000
DTSTAMP:20260420T182805
CREATED:20260219T232121Z
LAST-MODIFIED:20260219T232322Z
UID:10000725-1774375200-1774382400@squamisharts.com
SUMMARY:Art Gym
DESCRIPTION:Instructor				\n				\n				\n						\n					\n			\n							\n		\n				\n			\n							\n		\n					\n		\n				\n				\n							\n			\n		\n						\n				\n					\n		\n					\n		\n				\n						\n					\n			\n						\n				\n							\n			\n		\n						\n				\n					\n		\n					\n		\n				\n						\n					\n			\n						\n				\n					Tickets
URL:https://squamisharts.com/sa-event/art-gym-16/
LOCATION:The 55 Activity Centre\, 1201 Village Green Way Squamish\, Squamish\, BC\, V8B 0N6\, Canada
CATEGORIES:Art School,Community Event
ATTACH;FMTTYPE=image/png:https://squamisharts.com/wp-content/uploads/2025/10/Art-Gym-2025-Banner.png
ORGANIZER;CN="Squamish Arts":MAILTO:info@squamisharts.com
END:VEVENT
BEGIN:VEVENT
DTSTART;TZID=America/Vancouver:20260324T190000
DTEND;TZID=America/Vancouver:20260324T213000
DTSTAMP:20260420T182805
CREATED:20260306T010448Z
LAST-MODIFIED:20260306T010448Z
UID:10000742-1774378800-1774387800@squamisharts.com
SUMMARY:Nude Doodz
DESCRIPTION:Instructor				\n				\n				\n						\n					\n			\n							\n		\n				\n			\n							\n		\n					\n		\n				\n				\n							\n			\n		\n						\n				\n					\n		\n					\n		\n				\n						\n					\n			\n						\n				\n							\n			\n		\n						\n				\n					\n		\n					\n		\n				\n						\n					\n			\n						\n				\n					Tickets
URL:https://squamisharts.com/sa-event/nude-doodz-9/
LOCATION:BC
CATEGORIES:Community Event
ATTACH;FMTTYPE=image/png:https://squamisharts.com/wp-content/uploads/2026/03/Screenshot-2026-02-26-at-9.03.58-PM-743a11e6d9c2610f444c86cbaf1ffb88.png
END:VEVENT
BEGIN:VEVENT
DTSTART;TZID=America/Vancouver:20260325T190000
DTEND;TZID=America/Vancouver:20260325T210000
DTSTAMP:20260420T182805
CREATED:20260306T010416Z
LAST-MODIFIED:20260306T010416Z
UID:10000743-1774465200-1774472400@squamisharts.com
SUMMARY:Trivia Night with Paige Sotham
DESCRIPTION:Instructor				\n				\n				\n						\n					\n			\n							\n		\n				\n			\n							\n		\n					\n		\n				\n				\n							\n			\n		\n						\n				\n					\n		\n					\n		\n				\n						\n					\n			\n						\n				\n							\n			\n		\n						\n				\n					\n		\n					\n		\n				\n						\n					\n			\n						\n				\n					Tickets
URL:https://squamisharts.com/sa-event/trivia-night-with-paige-sotham-4/
LOCATION:BC
CATEGORIES:Community Event
ATTACH;FMTTYPE=image/png:https://squamisharts.com/wp-content/uploads/2026/03/Screenshot-2026-02-26-at-9.08.19-PM-1b87f1d475995a2ef7bb2ab5111c158f.png
END:VEVENT
BEGIN:VEVENT
DTSTART;TZID=America/Vancouver:20260326T180000
DTEND;TZID=America/Vancouver:20260326T200000
DTSTAMP:20260420T182805
CREATED:20260306T184836Z
LAST-MODIFIED:20260306T184836Z
UID:10000744-1774548000-1774555200@squamisharts.com
SUMMARY:Paint Night with Hope Johnson
DESCRIPTION:Instructor				\n				\n				\n						\n					\n			\n							\n		\n				\n			\n							\n		\n					\n		\n				\n				\n							\n			\n		\n						\n				\n					\n		\n					\n		\n				\n						\n					\n			\n						\n				\n							\n			\n		\n						\n				\n					\n		\n					\n		\n				\n						\n					\n			\n						\n				\n					Tickets
URL:https://squamisharts.com/sa-event/paint-night-with-hope-johnson/
LOCATION:BC
CATEGORIES:Community Event
ATTACH;FMTTYPE=image/png:https://squamisharts.com/wp-content/uploads/2026/03/Screenshot-2026-03-05-at-6.44.19-PM-23421ef138e8d3a496c69cd9cdb8a6d9.png
END:VEVENT
BEGIN:VEVENT
DTSTART;TZID=America/Vancouver:20260327T200000
DTEND;TZID=America/Vancouver:20260327T230000
DTSTAMP:20260420T182805
CREATED:20260317T190453Z
LAST-MODIFIED:20260317T190453Z
UID:10000748-1774641600-1774652400@squamisharts.com
SUMMARY:The Paperboys
DESCRIPTION:Instructor				\n				\n				\n						\n					\n			\n							\n		\n				\n			\n							\n		\n					\n		\n				\n				\n							\n			\n		\n						\n				\n					\n		\n					\n		\n				\n						\n					\n			\n						\n				\n							\n			\n		\n						\n				\n					\n		\n					\n		\n				\n						\n					\n			\n						\n				\n					Tickets
URL:https://squamisharts.com/sa-event/the-paperboys/
LOCATION:BC
CATEGORIES:Community Event
ATTACH;FMTTYPE=image/png:https://squamisharts.com/wp-content/uploads/2026/03/Screenshot-2026-02-26-at-9.10.58-PM-302cb2ea1936e4006dca978f653eb597.png
END:VEVENT
BEGIN:VEVENT
DTSTART;TZID=America/Vancouver:20260328T210000
DTEND;TZID=America/Vancouver:20260328T230000
DTSTAMP:20260420T182805
CREATED:20260228T052948Z
LAST-MODIFIED:20260228T052948Z
UID:10000737-1774731600-1774738800@squamisharts.com
SUMMARY:Brass Camel
DESCRIPTION:Instructor				\n				\n				\n						\n					\n			\n							\n		\n				\n			\n							\n		\n					\n		\n				\n				\n							\n			\n		\n						\n				\n					\n		\n					\n		\n				\n						\n					\n			\n						\n				\n							\n			\n		\n						\n				\n					\n		\n					\n		\n				\n						\n					\n			\n						\n				\n					Tickets
URL:https://squamisharts.com/sa-event/brass-camel/
LOCATION:BC
CATEGORIES:Community Event
ATTACH;FMTTYPE=image/png:https://squamisharts.com/wp-content/uploads/2026/02/Screenshot-2026-02-26-at-9.13.27-PM-eb2962e4ec26cf18c5bc3da11ed54204.png
END:VEVENT
BEGIN:VEVENT
DTSTART;TZID=America/Vancouver:20260329T173000
DTEND;TZID=America/Vancouver:20260329T203000
DTSTAMP:20260420T182805
CREATED:20260324T192902Z
LAST-MODIFIED:20260324T192903Z
UID:10000761-1774805400-1774816200@squamisharts.com
SUMMARY:Zephyr Roast Dinners - Sunday Après Series
DESCRIPTION:Instructor				\n				\n				\n						\n					\n			\n							\n		\n				\n			\n							\n		\n					\n		\n				\n				\n							\n			\n		\n						\n				\n					\n		\n					\n		\n				\n						\n					\n			\n						\n				\n							\n			\n		\n						\n				\n					\n		\n					\n		\n				\n						\n					\n			\n						\n				\n					Tickets
URL:https://squamisharts.com/sa-event/zephyr-roast-dinners-sunday-apres-series/
LOCATION:BC
CATEGORIES:Community Event
ATTACH;FMTTYPE=image/png:https://squamisharts.com/wp-content/uploads/2026/03/Screenshot-2026-03-23-at-8.58.16-PM-42e0cf8b1164b1e643ef6472e88163f4.png
END:VEVENT
BEGIN:VEVENT
DTSTART;TZID=America/Vancouver:20260401T163000
DTEND;TZID=America/Vancouver:20260401T193000
DTSTAMP:20260420T182805
CREATED:20260303T212304Z
LAST-MODIFIED:20260309T201014Z
UID:10000739-1775061000-1775071800@squamisharts.com
SUMMARY:Pottery Carving Workshop
DESCRIPTION:Instructor				\n				\n				\n						\n					\n			\n							\n		\n				\n			\n							\n		\n					\n		\n				\n				\n							\n			\n		\n						\n				\n					\n		\n					\n		\n				\n						\n					\n			\n						\n				\n							\n			\n		\n						\n				\n					\n		\n					\n		\n				\n						\n					\n			\n						\n				\n					Tickets
URL:https://squamisharts.com/sa-event/pottery-carving-workshop/
LOCATION:BC
CATEGORIES:Community Event
ATTACH;FMTTYPE=image/jpeg:https://squamisharts.com/wp-content/uploads/2026/03/20200306_Workshop_SmokeBluffs_Flyer-scaled.jpg
END:VEVENT
BEGIN:VEVENT
DTSTART;TZID=America/Vancouver:20260401T190000
DTEND;TZID=America/Vancouver:20260401T210000
DTSTAMP:20260420T182805
CREATED:20260317T190359Z
LAST-MODIFIED:20260317T190359Z
UID:10000749-1775070000-1775077200@squamisharts.com
SUMMARY:Nerd Nite Sea to Sky
DESCRIPTION:Instructor				\n				\n				\n						\n					\n			\n							\n		\n				\n			\n							\n		\n					\n		\n				\n				\n							\n			\n		\n						\n				\n					\n		\n					\n		\n				\n						\n					\n			\n						\n				\n							\n			\n		\n						\n				\n					\n		\n					\n		\n				\n						\n					\n			\n						\n				\n					Tickets
URL:https://squamisharts.com/sa-event/nerd-nite-sea-to-sky-3/
LOCATION:BC
CATEGORIES:Community Event
ATTACH;FMTTYPE=image/png:https://squamisharts.com/wp-content/uploads/2026/03/Screenshot-2026-03-13-at-9.16.31-PM-92cda5efc87642be686bd272a772bc64.png
END:VEVENT
BEGIN:VEVENT
DTSTART;TZID=America/Vancouver:20260404T080000
DTEND;TZID=America/Vancouver:20260405T160000
DTSTAMP:20260420T182805
CREATED:20260402T092750Z
LAST-MODIFIED:20260402T092751Z
UID:10000763-1775289600-1775404800@squamisharts.com
SUMMARY:Easter Weekend Brunch at Zephyr @ The BAG
DESCRIPTION:Instructor				\n				\n				\n						\n					\n			\n							\n		\n				\n			\n							\n		\n					\n		\n				\n				\n							\n			\n		\n						\n				\n					\n		\n					\n		\n				\n						\n					\n			\n						\n				\n							\n			\n		\n						\n				\n					\n		\n					\n		\n				\n						\n					\n			\n						\n				\n					Tickets
URL:https://squamisharts.com/sa-event/easter-weekend-brunch-at-zephyr-the-bag/
LOCATION:BC
CATEGORIES:Community Event
ATTACH;FMTTYPE=image/png:https://squamisharts.com/wp-content/uploads/2026/04/Screenshot-2026-04-01-at-6.33.41-PM-78faf64c0793cf662a85bb93d2d7fb11.png
END:VEVENT
BEGIN:VEVENT
DTSTART;TZID=America/Vancouver:20260404T200000
DTEND;TZID=America/Vancouver:20260404T230000
DTSTAMP:20260420T182805
CREATED:20260324T191821Z
LAST-MODIFIED:20260324T191822Z
UID:10000762-1775332800-1775343600@squamisharts.com
SUMMARY:SPENDO & CHASE THE BEAR
DESCRIPTION:Instructor				\n				\n				\n						\n					\n			\n							\n		\n				\n			\n							\n		\n					\n		\n				\n				\n							\n			\n		\n						\n				\n					\n		\n					\n		\n				\n						\n					\n			\n						\n				\n							\n			\n		\n						\n				\n					\n		\n					\n		\n				\n						\n					\n			\n						\n				\n					Tickets
URL:https://squamisharts.com/sa-event/spendo-chase-the-bear/
LOCATION:BC
CATEGORIES:Community Event
ATTACH;FMTTYPE=image/png:https://squamisharts.com/wp-content/uploads/2026/03/Screenshot-2026-03-23-at-9.50.59-PM-db95dabc8c3afbfb77bf61e34b7afab1.png
END:VEVENT
BEGIN:VEVENT
DTSTART;TZID=America/Vancouver:20260405T190000
DTEND;TZID=America/Vancouver:20260405T230000
DTSTAMP:20260420T182805
CREATED:20260402T092836Z
LAST-MODIFIED:20260402T092837Z
UID:10000764-1775415600-1775430000@squamisharts.com
SUMMARY:Easter After Dark: Adult Easter Egg Hunt & DJ @ The BAG
DESCRIPTION:Instructor				\n				\n				\n						\n					\n			\n							\n		\n				\n			\n							\n		\n					\n		\n				\n				\n							\n			\n		\n						\n				\n					\n		\n					\n		\n				\n						\n					\n			\n						\n				\n							\n			\n		\n						\n				\n					\n		\n					\n		\n				\n						\n					\n			\n						\n				\n					Tickets
URL:https://squamisharts.com/sa-event/easter-after-dark-adult-easter-egg-hunt-dj-the-bag/
LOCATION:BC
CATEGORIES:Community Event
ATTACH;FMTTYPE=image/png:https://squamisharts.com/wp-content/uploads/2026/04/Screenshot-2026-04-01-at-6.52.13-PM-0dd8dac238a4c71e40f0eba3adc5d7c8.png
END:VEVENT
BEGIN:VEVENT
DTSTART;TZID=America/Vancouver:20260407T183000
DTEND;TZID=America/Vancouver:20260407T200000
DTSTAMP:20260420T182805
CREATED:20260317T235226Z
LAST-MODIFIED:20260327T165329Z
UID:10000757-1775586600-1775592000@squamisharts.com
SUMMARY:Hand built Bowl with Sgraffito Decoration
DESCRIPTION:Instructor				\n				\n				\n						\n					\n			\n							\n		\n				\n			\n							\n		\n					\n		\n				\n				\n							\n			\n		\n						\n				\n					\n		\n					\n		\n				\n						\n					\n			\n						\n				\n							\n			\n		\n						\n				\n					\n		\n					\n		\n				\n						\n					\n			\n						\n				\n					Tickets
URL:https://squamisharts.com/sa-event/hand-built-bowl-with-sgraffito-decoration/
LOCATION:The 55 Activity Centre\, 1201 Village Green Way Squamish\, Squamish\, BC\, V8B 0N6\, Canada
CATEGORIES:Art School
ATTACH;FMTTYPE=image/jpeg:https://squamisharts.com/wp-content/uploads/2026/03/squamish-arts-claytivity-bowl.jpg
ORGANIZER;CN="Squamish Arts":MAILTO:info@squamisharts.com
END:VEVENT
BEGIN:VEVENT
DTSTART;TZID=America/Vancouver:20260408T103000
DTEND;TZID=America/Vancouver:20260408T113000
DTSTAMP:20260420T182805
CREATED:20260206T203320Z
LAST-MODIFIED:20260206T203320Z
UID:10000717-1775644200-1775647800@squamisharts.com
SUMMARY:Keepin' It Fresh
DESCRIPTION:Instructor				\n				\n				\n						\n					\n			\n							\n		\n				\n			\n							\n		\n					\n		\n				\n				\n							\n			\n		\n						\n				\n					\n		\n					\n		\n				\n						\n					\n			\n						\n				\n							\n			\n		\n						\n				\n					\n		\n					\n		\n				\n						\n					\n			\n						\n				\n					Tickets
URL:https://squamisharts.com/sa-event/keepin-it-fresh/
LOCATION:BC
CATEGORIES:Community Event
ATTACH;FMTTYPE=image/png:https://squamisharts.com/wp-content/uploads/2026/02/Keepin-it-fresh-show-cover-April-8th-2026-6c88f94d55f0a1489ff97e9dd8bf5575.png
END:VEVENT
BEGIN:VEVENT
DTSTART;TZID=America/Vancouver:20260408T173000
DTEND;TZID=America/Vancouver:20260408T203000
DTSTAMP:20260420T182805
CREATED:20260317T203732Z
LAST-MODIFIED:20260317T203732Z
UID:10000747-1775669400-1775680200@squamisharts.com
SUMMARY:Oil Painting Class Series: Florals
DESCRIPTION:Instructor				\n				\n				\n						\n					\n			\n							\n		\n				\n			\n							\n		\n					\n		\n				\n				\n							\n			\n		\n						\n				\n					\n		\n					\n		\n				\n						\n					\n			\n						\n				\n							\n			\n		\n						\n				\n					\n		\n					\n		\n				\n						\n					\n			\n						\n				\n					Tickets
URL:https://squamisharts.com/sa-event/oil-painting-class-series-florals/
LOCATION:The 55 Activity Centre\, 1201 Village Green Way Squamish\, Squamish\, BC\, V8B 0N6\, Canada
CATEGORIES:Art School
ATTACH;FMTTYPE=image/jpeg:https://squamisharts.com/wp-content/uploads/2026/03/squamish-arts-Elena-Senatorova-oil-painting-flowers.jpg
ORGANIZER;CN="Squamish Arts":MAILTO:info@squamisharts.com
END:VEVENT
BEGIN:VEVENT
DTSTART;TZID=America/Vancouver:20260409T180000
DTEND;TZID=America/Vancouver:20260409T200000
DTSTAMP:20260420T182806
CREATED:20260317T230538Z
LAST-MODIFIED:20260317T230538Z
UID:10000756-1775757600-1775764800@squamisharts.com
SUMMARY:Stew Gathering: Wool Wall Hanging
DESCRIPTION:Instructor				\n				\n				\n						\n					\n			\n							\n		\n				\n			\n							\n		\n					\n		\n				\n				\n							\n			\n		\n						\n				\n					\n		\n					\n		\n				\n						\n					\n			\n						\n				\n							\n			\n		\n						\n				\n					\n		\n					\n		\n				\n						\n					\n			\n						\n				\n					Tickets
URL:https://squamisharts.com/sa-event/stew-gathering-wool-wall-hanging/
LOCATION:The 55 Activity Centre\, 1201 Village Green Way Squamish\, Squamish\, BC\, V8B 0N6\, Canada
CATEGORIES:Art School
ATTACH;FMTTYPE=image/jpeg:https://squamisharts.com/wp-content/uploads/2026/03/squamish-arts-journey-stew-gathering-wall-hanging.jpg
ORGANIZER;CN="Squamish Arts":MAILTO:info@squamisharts.com
END:VEVENT
BEGIN:VEVENT
DTSTART;TZID=America/Vancouver:20260413T180000
DTEND;TZID=America/Vancouver:20260608T200000
DTSTAMP:20260420T182806
CREATED:20260304T025125Z
LAST-MODIFIED:20260304T025125Z
UID:10000740-1776103200-1780948800@squamisharts.com
SUMMARY:Beginner Improv Classes
DESCRIPTION:Instructor				\n				\n				\n						\n					\n			\n							\n		\n				\n			\n							\n		\n					\n		\n				\n				\n							\n			\n		\n						\n				\n					\n		\n					\n		\n				\n						\n					\n			\n						\n				\n							\n			\n		\n						\n				\n					\n		\n					\n		\n				\n						\n					\n			\n						\n				\n					Tickets
URL:https://squamisharts.com/sa-event/beginner-improv-classes-2/
LOCATION:BC
CATEGORIES:Community Event
ATTACH;FMTTYPE=image/png:https://squamisharts.com/wp-content/uploads/2026/03/Beginner-Improv-classes-8.5-x-11-in-Instagram-Post-45-14df787d52ce74b2bafe52869701e069.png
END:VEVENT
END:VCALENDAR