BEGIN:VCALENDAR
VERSION:2.0
PRODID:-//Squamish Arts - ECPv6.15.18//NONSGML v1.0//EN
CALSCALE:GREGORIAN
METHOD:PUBLISH
X-WR-CALNAME:Squamish Arts
X-ORIGINAL-URL:https://squamisharts.com
X-WR-CALDESC:Events for Squamish Arts
REFRESH-INTERVAL;VALUE=DURATION:PT1H
X-Robots-Tag:noindex
X-PUBLISHED-TTL:PT1H
BEGIN:VTIMEZONE
TZID:America/Vancouver
BEGIN:DAYLIGHT
TZOFFSETFROM:-0800
TZOFFSETTO:-0700
TZNAME:PDT
DTSTART:20210314T100000
END:DAYLIGHT
BEGIN:STANDARD
TZOFFSETFROM:-0700
TZOFFSETTO:-0800
TZNAME:PST
DTSTART:20211107T090000
END:STANDARD
BEGIN:DAYLIGHT
TZOFFSETFROM:-0800
TZOFFSETTO:-0700
TZNAME:PDT
DTSTART:20220313T100000
END:DAYLIGHT
BEGIN:STANDARD
TZOFFSETFROM:-0700
TZOFFSETTO:-0800
TZNAME:PST
DTSTART:20221106T090000
END:STANDARD
BEGIN:DAYLIGHT
TZOFFSETFROM:-0800
TZOFFSETTO:-0700
TZNAME:PDT
DTSTART:20230312T100000
END:DAYLIGHT
BEGIN:STANDARD
TZOFFSETFROM:-0700
TZOFFSETTO:-0800
TZNAME:PST
DTSTART:20231105T090000
END:STANDARD
END:VTIMEZONE
BEGIN:VEVENT
DTSTART;TZID=America/Vancouver:20221207T190000
DTEND;TZID=America/Vancouver:20221207T210000
DTSTAMP:20260422T025030
CREATED:20221116T060909Z
LAST-MODIFIED:20221124T210755Z
UID:10000049-1670439600-1670446800@squamisharts.com
SUMMARY:Intro to Relief Printmaking
DESCRIPTION:Instructor\nTickets
URL:https://squamisharts.com/sa-event/intro-to-relief-printmaking-2022-12-07/
LOCATION:The 55 Activity Centre\, 1201 Village Green Way Squamish\, Squamish\, BC\, V8B 0N6\, Canada
CATEGORIES:Art School
ATTACH;FMTTYPE=image/jpeg:https://squamisharts.com/wp-content/uploads/2022/11/squamish-arts-art-school-intro-to-relief-printmaking-olivia-rinne-1200x675-2.jpg
ORGANIZER;CN="Squamish Arts":MAILTO:info@squamisharts.com
END:VEVENT
BEGIN:VEVENT
DTSTART;TZID=America/Vancouver:20221207T160000
DTEND;TZID=America/Vancouver:20221207T173000
DTSTAMP:20260422T025030
CREATED:20221113T064805Z
LAST-MODIFIED:20221118T192851Z
UID:10000035-1670428800-1670434200@squamisharts.com
SUMMARY:Introduction to Photography for Youth
DESCRIPTION:Instructor\nTickets\nPUT EVENTRITE CODE HERE
URL:https://squamisharts.com/sa-event/introduction-to-photography-for-youth-2022-12-07/
LOCATION:The 55 Activity Centre\, 1201 Village Green Way Squamish\, Squamish\, BC\, V8B 0N6\, Canada
CATEGORIES:Art School
ATTACH;FMTTYPE=image/jpeg:https://squamisharts.com/wp-content/uploads/2022/11/squamish-arts-art-school-intro-to-photography-Jacob-Scharfman-1200x675-1.jpg
ORGANIZER;CN="Squamish Arts":MAILTO:info@squamisharts.com
END:VEVENT
BEGIN:VEVENT
DTSTART;TZID=America/Vancouver:20221202T183000
DTEND;TZID=America/Vancouver:20221202T210000
DTSTAMP:20260422T025030
CREATED:20221110T234930Z
LAST-MODIFIED:20221118T080424Z
UID:10000056-1670005800-1670014800@squamisharts.com
SUMMARY:Painting Mountains in Watercolour
DESCRIPTION:Instructor\nTickets
URL:https://squamisharts.com/sa-event/painting-mountains-in-watercolour-2022-12-02/
LOCATION:The 55 Activity Centre\, 1201 Village Green Way Squamish\, Squamish\, BC\, V8B 0N6\, Canada
CATEGORIES:Art School
ATTACH;FMTTYPE=image/jpeg:https://squamisharts.com/wp-content/uploads/2022/11/squamish-arts-art-school-painting-mountains-in-watercolour-monika-loevenmark-3-16x9-1.jpg
ORGANIZER;CN="Squamish Arts":MAILTO:info@squamisharts.com
END:VEVENT
END:VCALENDAR