BEGIN:VCALENDAR
VERSION:2.0
PRODID:-//Squamish Arts - ECPv6.15.18//NONSGML v1.0//EN
CALSCALE:GREGORIAN
METHOD:PUBLISH
X-WR-CALNAME:Squamish Arts
X-ORIGINAL-URL:https://squamisharts.com
X-WR-CALDESC:Events for Squamish Arts
REFRESH-INTERVAL;VALUE=DURATION:PT1H
X-Robots-Tag:noindex
X-PUBLISHED-TTL:PT1H
BEGIN:VTIMEZONE
TZID:America/Vancouver
BEGIN:DAYLIGHT
TZOFFSETFROM:-0800
TZOFFSETTO:-0700
TZNAME:PDT
DTSTART:20250309T100000
END:DAYLIGHT
BEGIN:STANDARD
TZOFFSETFROM:-0700
TZOFFSETTO:-0800
TZNAME:PST
DTSTART:20251102T090000
END:STANDARD
BEGIN:DAYLIGHT
TZOFFSETFROM:-0800
TZOFFSETTO:-0700
TZNAME:PDT
DTSTART:20260308T100000
END:DAYLIGHT
BEGIN:STANDARD
TZOFFSETFROM:-0700
TZOFFSETTO:-0800
TZNAME:PST
DTSTART:20261101T090000
END:STANDARD
BEGIN:DAYLIGHT
TZOFFSETFROM:-0800
TZOFFSETTO:-0700
TZNAME:PDT
DTSTART:20270314T100000
END:DAYLIGHT
BEGIN:STANDARD
TZOFFSETFROM:-0700
TZOFFSETTO:-0800
TZNAME:PST
DTSTART:20271107T090000
END:STANDARD
END:VTIMEZONE
BEGIN:VEVENT
DTSTART;TZID=America/Vancouver:20260205T200000
DTEND;TZID=America/Vancouver:20260205T223000
DTSTAMP:20260420T184311
CREATED:20251201T214841Z
LAST-MODIFIED:20251201T214841Z
UID:10000669-1770321600-1770330600@squamisharts.com
SUMMARY:The Free Label
DESCRIPTION:Instructor				\n				\n				\n						\n					\n			\n							\n		\n				\n			\n							\n		\n					\n		\n				\n				\n							\n			\n		\n						\n				\n					\n		\n					\n		\n				\n						\n					\n			\n						\n				\n							\n			\n		\n						\n				\n					\n		\n					\n		\n				\n						\n					\n			\n						\n				\n					Tickets
URL:https://squamisharts.com/sa-event/the-free-label/
LOCATION:BC
CATEGORIES:Community Event
ATTACH;FMTTYPE=image/png:https://squamisharts.com/wp-content/uploads/2025/11/Screenshot-2025-11-30-at-8.38.25-PM-524f541018ac26d50e701c5e2b146aa8.png
END:VEVENT
BEGIN:VEVENT
DTSTART;TZID=America/Vancouver:20260206T200000
DTEND;TZID=America/Vancouver:20260206T230000
DTSTAMP:20260420T184311
CREATED:20260120T030752Z
LAST-MODIFIED:20260120T030753Z
UID:10000699-1770408000-1770418800@squamisharts.com
SUMMARY:Fresh Cut Grass @ The BAG
DESCRIPTION:Instructor				\n				\n				\n						\n					\n			\n							\n		\n				\n			\n							\n		\n					\n		\n				\n				\n							\n			\n		\n						\n				\n					\n		\n					\n		\n				\n						\n					\n			\n						\n				\n							\n			\n		\n						\n				\n					\n		\n					\n		\n				\n						\n					\n			\n						\n				\n					Tickets
URL:https://squamisharts.com/sa-event/fresh-cut-grass-the-bag/
LOCATION:BC
CATEGORIES:Community Event
ATTACH;FMTTYPE=image/png:https://squamisharts.com/wp-content/uploads/2026/01/Screen-Shot-2026-01-19-at-2.54.19-PM-7effe96f43c0727953cf43bcfda80b5f.png
END:VEVENT
BEGIN:VEVENT
DTSTART;TZID=America/Vancouver:20260207T200000
DTEND;TZID=America/Vancouver:20260207T230000
DTSTAMP:20260420T184311
CREATED:20260120T030710Z
LAST-MODIFIED:20260120T030710Z
UID:10000700-1770494400-1770505200@squamisharts.com
SUMMARY:Grateful Dead Tribute - Songs to Phil The Air
DESCRIPTION:Instructor				\n				\n				\n						\n					\n			\n							\n		\n				\n			\n							\n		\n					\n		\n				\n				\n							\n			\n		\n						\n				\n					\n		\n					\n		\n				\n						\n					\n			\n						\n				\n							\n			\n		\n						\n				\n					\n		\n					\n		\n				\n						\n					\n			\n						\n				\n					Tickets
URL:https://squamisharts.com/sa-event/grateful-dead-tribute-songs-to-phil-the-air/
LOCATION:BC
CATEGORIES:Community Event
ATTACH;FMTTYPE=image/png:https://squamisharts.com/wp-content/uploads/2026/01/Screen-Shot-2026-01-19-at-3.03.24-PM-9f5735ff09c401c3e6d1a66de90371fd.png
END:VEVENT
BEGIN:VEVENT
DTSTART;TZID=America/Vancouver:20260210T183000
DTEND;TZID=America/Vancouver:20260210T210000
DTSTAMP:20260420T184311
CREATED:20260120T212340Z
LAST-MODIFIED:20260120T212340Z
UID:10000706-1770748200-1770757200@squamisharts.com
SUMMARY:Nude Doodz @ The BAG
DESCRIPTION:Instructor				\n				\n				\n						\n					\n			\n							\n		\n				\n			\n							\n		\n					\n		\n				\n				\n							\n			\n		\n						\n				\n					\n		\n					\n		\n				\n						\n					\n			\n						\n				\n							\n			\n		\n						\n				\n					\n		\n					\n		\n				\n						\n					\n			\n						\n				\n					Tickets
URL:https://squamisharts.com/sa-event/nude-doodz-the-bag/
LOCATION:BC
CATEGORIES:Community Event
ATTACH;FMTTYPE=image/png:https://squamisharts.com/wp-content/uploads/2026/01/Screen-Shot-2026-01-20-at-12.36.23-PM-f63b9a93985d20be299f279dfd8eeaf7.png
END:VEVENT
BEGIN:VEVENT
DTSTART;TZID=America/Vancouver:20260211T200000
DTEND;TZID=America/Vancouver:20260211T223000
DTSTAMP:20260420T184311
CREATED:20251203T205746Z
LAST-MODIFIED:20251203T205747Z
UID:10000671-1770840000-1770849000@squamisharts.com
SUMMARY:Hawksley Workman
DESCRIPTION:Instructor				\n				\n				\n						\n					\n			\n							\n		\n				\n			\n							\n		\n					\n		\n				\n				\n							\n			\n		\n						\n				\n					\n		\n					\n		\n				\n						\n					\n			\n						\n				\n							\n			\n		\n						\n				\n					\n		\n					\n		\n				\n						\n					\n			\n						\n				\n					Tickets
URL:https://squamisharts.com/sa-event/hawksley-workman/
LOCATION:BC
CATEGORIES:Community Event
ATTACH;FMTTYPE=image/jpeg:https://squamisharts.com/wp-content/uploads/2025/12/hawk-west-1080x1350-blank-64977a4b6b34b0a62253e4f88e99e306.jpg
END:VEVENT
BEGIN:VEVENT
DTSTART;TZID=America/Vancouver:20260212T180000
DTEND;TZID=America/Vancouver:20260212T203000
DTSTAMP:20260420T184311
CREATED:20260205T203649Z
LAST-MODIFIED:20260205T203649Z
UID:10000716-1770919200-1770928200@squamisharts.com
SUMMARY:Zine-Making Workshop: Art Zines
DESCRIPTION:Instructor				\n				\n				\n						\n					\n			\n							\n		\n				\n			\n							\n		\n					\n		\n				\n				\n							\n			\n		\n						\n				\n					\n		\n					\n		\n				\n						\n					\n			\n						\n				\n							\n			\n		\n						\n				\n					\n		\n					\n		\n				\n						\n					\n			\n						\n				\n					Tickets
URL:https://squamisharts.com/sa-event/zine-making-workshop-art-zines/
LOCATION:BC
CATEGORIES:Community Event
ATTACH;FMTTYPE=image/png:https://squamisharts.com/wp-content/uploads/2026/02/Zine-Making-Workshop-Promo-Image-c3de4435d4bdfb5923cf0e21f8d6d4a3.png
END:VEVENT
BEGIN:VEVENT
DTSTART;TZID=America/Vancouver:20260212T190000
DTEND;TZID=America/Vancouver:20260212T210000
DTSTAMP:20260420T184311
CREATED:20260120T030627Z
LAST-MODIFIED:20260120T030627Z
UID:10000701-1770922800-1770930000@squamisharts.com
SUMMARY:Paint Night with Hope Johnson @ The BAG
DESCRIPTION:Instructor				\n				\n				\n						\n					\n			\n							\n		\n				\n			\n							\n		\n					\n		\n				\n				\n							\n			\n		\n						\n				\n					\n		\n					\n		\n				\n						\n					\n			\n						\n				\n							\n			\n		\n						\n				\n					\n		\n					\n		\n				\n						\n					\n			\n						\n				\n					Tickets
URL:https://squamisharts.com/sa-event/paint-night-with-hope-johnson-the-bag/
LOCATION:BC
CATEGORIES:Community Event
ATTACH;FMTTYPE=image/png:https://squamisharts.com/wp-content/uploads/2026/01/Screen-Shot-2026-01-19-at-3.22.28-PM-37fc8a4405964d209d3ab5527a13e947.png
END:VEVENT
BEGIN:VEVENT
DTSTART;TZID=America/Vancouver:20260213T200000
DTEND;TZID=America/Vancouver:20260213T230000
DTSTAMP:20260420T184311
CREATED:20260120T030612Z
LAST-MODIFIED:20260120T030612Z
UID:10000703-1771012800-1771023600@squamisharts.com
SUMMARY:The Corps with Idioflame & The Subteraliens
DESCRIPTION:Instructor				\n				\n				\n						\n					\n			\n							\n		\n				\n			\n							\n		\n					\n		\n				\n				\n							\n			\n		\n						\n				\n					\n		\n					\n		\n				\n						\n					\n			\n						\n				\n							\n			\n		\n						\n				\n					\n		\n					\n		\n				\n						\n					\n			\n						\n				\n					Tickets
URL:https://squamisharts.com/sa-event/the-corps-with-idioflame-the-subteraliens/
LOCATION:BC
CATEGORIES:Community Event
ATTACH;FMTTYPE=image/png:https://squamisharts.com/wp-content/uploads/2026/01/Screen-Shot-2026-01-19-at-3.55.50-PM-142431af0353ba8b3704082d2e3907ed.png
END:VEVENT
BEGIN:VEVENT
DTSTART;TZID=America/Vancouver:20260217T190000
DTEND;TZID=America/Vancouver:20260217T210000
DTSTAMP:20260420T184311
CREATED:20260113T020639Z
LAST-MODIFIED:20260113T020639Z
UID:10000692-1771354800-1771362000@squamisharts.com
SUMMARY:Horizons Reimagined: The Contemporary Landscapes of Polenova
DESCRIPTION:Instructor				\n				\n				\n						\n					\n			\n							\n		\n				\n			\n							\n		\n					\n		\n				\n				\n							\n			\n		\n						\n				\n					\n		\n					\n		\n				\n						\n					\n			\n						\n				\n							\n			\n		\n						\n				\n					\n		\n					\n		\n				\n						\n					\n			\n						\n				\n					Tickets
URL:https://squamisharts.com/sa-event/horizons-reimagined-the-contemporary-landscapes-of-polenova/
LOCATION:BC
CATEGORIES:Community Event
ATTACH;FMTTYPE=image/jpeg:https://squamisharts.com/wp-content/uploads/2026/01/BAG-Art-Gallery-Garden-4d62c37df12cbae15ccddcceb3137c07-scaled.jpg
END:VEVENT
BEGIN:VEVENT
DTSTART;TZID=America/Vancouver:20260218T180000
DTEND;TZID=America/Vancouver:20260218T220000
DTSTAMP:20260420T184311
CREATED:20260120T025805Z
LAST-MODIFIED:20260120T025805Z
UID:10000702-1771437600-1771452000@squamisharts.com
SUMMARY:Open Mic at the BAG
DESCRIPTION:Instructor				\n				\n				\n						\n					\n			\n							\n		\n				\n			\n							\n		\n					\n		\n				\n				\n							\n			\n		\n						\n				\n					\n		\n					\n		\n				\n						\n					\n			\n						\n				\n							\n			\n		\n						\n				\n					\n		\n					\n		\n				\n						\n					\n			\n						\n				\n					Tickets
URL:https://squamisharts.com/sa-event/open-mic-at-the-bag-7/
LOCATION:BC
CATEGORIES:Community Event
ATTACH;FMTTYPE=image/png:https://squamisharts.com/wp-content/uploads/2026/01/Screen-Shot-2026-01-19-at-3.44.03-PM-cadf7e32bf9ef26e616da07d5d2a135c.png
END:VEVENT
BEGIN:VEVENT
DTSTART;TZID=America/Vancouver:20260221T110000
DTEND;TZID=America/Vancouver:20260221T150000
DTSTAMP:20260420T184311
CREATED:20260211T000445Z
LAST-MODIFIED:20260211T000445Z
UID:10000718-1771671600-1771686000@squamisharts.com
SUMMARY:Squamish Zine Fest
DESCRIPTION:Instructor				\n				\n				\n						\n					\n			\n							\n		\n				\n			\n							\n		\n					\n		\n				\n				\n							\n			\n		\n						\n				\n					\n		\n					\n		\n				\n						\n					\n			\n						\n				\n							\n			\n		\n						\n				\n					\n		\n					\n		\n				\n						\n					\n			\n						\n				\n					Tickets
URL:https://squamisharts.com/sa-event/squamish-zine-fest/
LOCATION:BC
CATEGORIES:Community Event
ATTACH;FMTTYPE=image/png:https://squamisharts.com/wp-content/uploads/2026/02/Zine-Fest-2026-social-post-c9069574cd391c15dfc425f2906a1eec.png
END:VEVENT
BEGIN:VEVENT
DTSTART;TZID=America/Vancouver:20260221T190000
DTEND;TZID=America/Vancouver:20260221T220000
DTSTAMP:20260420T184311
CREATED:20260212T231335Z
LAST-MODIFIED:20260212T231335Z
UID:10000719-1771700400-1771711200@squamisharts.com
SUMMARY:Squamish Has Talent
DESCRIPTION:Instructor				\n				\n				\n						\n					\n			\n							\n		\n				\n			\n							\n		\n					\n		\n				\n				\n							\n			\n		\n						\n				\n					\n		\n					\n		\n				\n						\n					\n			\n						\n				\n							\n			\n		\n						\n				\n					\n		\n					\n		\n				\n						\n					\n			\n						\n				\n					Tickets
URL:https://squamisharts.com/sa-event/squamish-has-talent/
LOCATION:BC
CATEGORIES:Community Event
ATTACH;FMTTYPE=image/png:https://squamisharts.com/wp-content/uploads/2026/02/Squamish-Has-Talent-Poster-1-5ff4a1c34e67b8bec1c7b6da28add818.png
END:VEVENT
BEGIN:VEVENT
DTSTART;TZID=America/Vancouver:20260221T200000
DTEND;TZID=America/Vancouver:20260221T230000
DTSTAMP:20260420T184312
CREATED:20260127T005816Z
LAST-MODIFIED:20260127T005816Z
UID:10000712-1771704000-1771714800@squamisharts.com
SUMMARY:PWR UP
DESCRIPTION:Instructor				\n				\n				\n						\n					\n			\n							\n		\n				\n			\n							\n		\n					\n		\n				\n				\n							\n			\n		\n						\n				\n					\n		\n					\n		\n				\n						\n					\n			\n						\n				\n							\n			\n		\n						\n				\n					\n		\n					\n		\n				\n						\n					\n			\n						\n				\n					Tickets
URL:https://squamisharts.com/sa-event/pwr-up/
LOCATION:BC
CATEGORIES:Community Event
ATTACH;FMTTYPE=image/png:https://squamisharts.com/wp-content/uploads/2026/01/Screen-Shot-2026-01-25-at-3.47.45-PM-290391ee67d3b80935bf4b90d1ec4460.png
END:VEVENT
BEGIN:VEVENT
DTSTART;TZID=America/Vancouver:20260222T173000
DTEND;TZID=America/Vancouver:20260222T193000
DTSTAMP:20260420T184312
CREATED:20260202T215302Z
LAST-MODIFIED:20260202T215302Z
UID:10000713-1771781400-1771788600@squamisharts.com
SUMMARY:Sketchbook Exercises and Artist Trading Cards
DESCRIPTION:Instructor				\n				\n				\n						\n					\n			\n							\n		\n				\n			\n							\n		\n					\n		\n				\n				\n							\n			\n		\n						\n				\n					\n		\n					\n		\n				\n						\n					\n			\n						\n				\n							\n			\n		\n						\n				\n					\n		\n					\n		\n				\n						\n					\n			\n						\n				\n					Tickets
URL:https://squamisharts.com/sa-event/sketchbook-exercises-and-artist-trading-cards/
LOCATION:BC
CATEGORIES:Community Event
ATTACH;FMTTYPE=image/jpeg:https://squamisharts.com/wp-content/uploads/2026/01/IMG_6664-c327d372bf73c97b67319b566147b0d6.jpeg
END:VEVENT
BEGIN:VEVENT
DTSTART;TZID=America/Vancouver:20260224T180000
DTEND;TZID=America/Vancouver:20260224T200000
DTSTAMP:20260420T184312
CREATED:20251218T020844Z
LAST-MODIFIED:20260219T232539Z
UID:10000686-1771956000-1771963200@squamisharts.com
SUMMARY:Art Gym
DESCRIPTION:Instructor				\n				\n				\n						\n					\n			\n							\n		\n				\n			\n							\n		\n					\n		\n				\n				\n							\n			\n		\n						\n				\n					\n		\n					\n		\n				\n						\n					\n			\n						\n				\n							\n			\n		\n						\n				\n					\n		\n					\n		\n				\n						\n					\n			\n						\n				\n					Tickets
URL:https://squamisharts.com/sa-event/art-gym-02-24/
LOCATION:The 55 Activity Centre\, 1201 Village Green Way Squamish\, Squamish\, BC\, V8B 0N6\, Canada
CATEGORIES:Art School,Community Event
ATTACH;FMTTYPE=image/png:https://squamisharts.com/wp-content/uploads/2025/10/Art-Gym-2025-Banner.png
ORGANIZER;CN="Squamish Arts":MAILTO:info@squamisharts.com
END:VEVENT
BEGIN:VEVENT
DTSTART;TZID=America/Vancouver:20260227T200000
DTEND;TZID=America/Vancouver:20260227T230000
DTSTAMP:20260420T184312
CREATED:20260120T025729Z
LAST-MODIFIED:20260120T025729Z
UID:10000704-1772222400-1772233200@squamisharts.com
SUMMARY:David Gogo @ The BAG
DESCRIPTION:Instructor				\n				\n				\n						\n					\n			\n							\n		\n				\n			\n							\n		\n					\n		\n				\n				\n							\n			\n		\n						\n				\n					\n		\n					\n		\n				\n						\n					\n			\n						\n				\n							\n			\n		\n						\n				\n					\n		\n					\n		\n				\n						\n					\n			\n						\n				\n					Tickets
URL:https://squamisharts.com/sa-event/david-gogo-the-bag/
LOCATION:BC
CATEGORIES:Community Event
ATTACH;FMTTYPE=image/png:https://squamisharts.com/wp-content/uploads/2026/01/Screen-Shot-2026-01-19-at-4.08.08-PM-5a8327ff157f0ae574b6085582cfb407.png
END:VEVENT
BEGIN:VEVENT
DTSTART;TZID=America/Vancouver:20260228T200000
DTEND;TZID=America/Vancouver:20260228T223000
DTSTAMP:20260420T184312
CREATED:20260120T025714Z
LAST-MODIFIED:20260120T025714Z
UID:10000705-1772308800-1772317800@squamisharts.com
SUMMARY:Daniel Lapp with Quinn Bachand
DESCRIPTION:Instructor				\n				\n				\n						\n					\n			\n							\n		\n				\n			\n							\n		\n					\n		\n				\n				\n							\n			\n		\n						\n				\n					\n		\n					\n		\n				\n						\n					\n			\n						\n				\n							\n			\n		\n						\n				\n					\n		\n					\n		\n				\n						\n					\n			\n						\n				\n					Tickets
URL:https://squamisharts.com/sa-event/daniel-lapp-with-quinn-bachand/
LOCATION:BC
CATEGORIES:Community Event
ATTACH;FMTTYPE=image/png:https://squamisharts.com/wp-content/uploads/2026/01/Screen-Shot-2026-01-19-at-4.16.10-PM-f60ed504b161cdf3a0de772764efcbef.png
END:VEVENT
BEGIN:VEVENT
DTSTART;TZID=America/Vancouver:20260303T180000
DTEND;TZID=America/Vancouver:20260303T200000
DTSTAMP:20260420T184312
CREATED:20260122T181803Z
LAST-MODIFIED:20260219T230909Z
UID:10000709-1772560800-1772568000@squamisharts.com
SUMMARY:Art Gym x Creative Circuits
DESCRIPTION:Instructor				\n				\n				\n						\n					\n			\n							\n		\n				\n			\n							\n		\n					\n		\n				\n				\n							\n			\n		\n						\n				\n					\n		\n					\n		\n				\n						\n					\n			\n						\n				\n							\n			\n		\n						\n				\n					\n		\n					\n		\n				\n						\n					\n			\n						\n				\n					Tickets
URL:https://squamisharts.com/sa-event/art-gym-03-03-26/
LOCATION:The 55 Activity Centre\, 1201 Village Green Way Squamish\, Squamish\, BC\, V8B 0N6\, Canada
CATEGORIES:Art School,Community Event
ATTACH;FMTTYPE=image/jpeg:https://squamisharts.com/wp-content/uploads/2026/01/squamish-arts-Art-Gym-Creative-Circuits.jpg
ORGANIZER;CN="Squamish Arts":MAILTO:info@squamisharts.com
END:VEVENT
BEGIN:VEVENT
DTSTART;TZID=America/Vancouver:20260304T190000
DTEND;TZID=America/Vancouver:20260304T210000
DTSTAMP:20260420T184312
CREATED:20260120T212201Z
LAST-MODIFIED:20260120T212201Z
UID:10000707-1772650800-1772658000@squamisharts.com
SUMMARY:Paint Night with Theresa Columbus
DESCRIPTION:Instructor				\n				\n				\n						\n					\n			\n							\n		\n				\n			\n							\n		\n					\n		\n				\n				\n							\n			\n		\n						\n				\n					\n		\n					\n		\n				\n						\n					\n			\n						\n				\n							\n			\n		\n						\n				\n					\n		\n					\n		\n				\n						\n					\n			\n						\n				\n					Tickets
URL:https://squamisharts.com/sa-event/paint-night-with-theresa-columbus-2/
LOCATION:BC
CATEGORIES:Community Event
ATTACH;FMTTYPE=image/png:https://squamisharts.com/wp-content/uploads/2026/01/Screen-Shot-2026-01-20-at-12.46.51-PM-7366cd4846492b6e363537b36616483d.png
END:VEVENT
BEGIN:VEVENT
DTSTART;TZID=America/Vancouver:20260305T190000
DTEND;TZID=America/Vancouver:20260305T210000
DTSTAMP:20260420T184312
CREATED:20260303T193827Z
LAST-MODIFIED:20260303T193827Z
UID:10000738-1772737200-1772744400@squamisharts.com
SUMMARY:Squamish Life Drawing Drop-in
DESCRIPTION:Instructor				\n				\n				\n						\n					\n			\n							\n		\n				\n			\n							\n		\n					\n		\n				\n				\n							\n			\n		\n						\n				\n					\n		\n					\n		\n				\n						\n					\n			\n						\n				\n							\n			\n		\n						\n				\n					\n		\n					\n		\n				\n						\n					\n			\n						\n				\n					Tickets
URL:https://squamisharts.com/sa-event/squamish-life-drawing-drop-in/
LOCATION:BC
CATEGORIES:Community Event
ATTACH;FMTTYPE=image/jpeg:https://squamisharts.com/wp-content/uploads/2026/03/1000062990-1399ffb8494ec5485cde51f90393c56a.jpg
END:VEVENT
BEGIN:VEVENT
DTSTART;TZID=America/Vancouver:20260307T190000
DTEND;TZID=America/Vancouver:20260307T230000
DTSTAMP:20260420T184312
CREATED:20260226T220953Z
LAST-MODIFIED:20260226T220954Z
UID:10000726-1772910000-1772924400@squamisharts.com
SUMMARY:Nowhere to Wear It
DESCRIPTION:Instructor				\n				\n				\n						\n					\n			\n							\n		\n				\n			\n							\n		\n					\n		\n				\n				\n							\n			\n		\n						\n				\n					\n		\n					\n		\n				\n						\n					\n			\n						\n				\n							\n			\n		\n						\n				\n					\n		\n					\n		\n				\n						\n					\n			\n						\n				\n					Tickets
URL:https://squamisharts.com/sa-event/nowhere-to-wear-it/
LOCATION:BC
CATEGORIES:Community Event
ATTACH;FMTTYPE=image/png:https://squamisharts.com/wp-content/uploads/2026/02/Screenshot-2026-02-25-at-9.32.35-PM-458296b77d64a74e4f55f649bc9a9622.png
END:VEVENT
BEGIN:VEVENT
DTSTART;TZID=America/Vancouver:20260308T170000
DTEND;TZID=America/Vancouver:20260308T213000
DTSTAMP:20260420T184312
CREATED:20260226T220921Z
LAST-MODIFIED:20260226T220921Z
UID:10000727-1772989200-1773005400@squamisharts.com
SUMMARY:Queens of Comedy
DESCRIPTION:Instructor				\n				\n				\n						\n					\n			\n							\n		\n				\n			\n							\n		\n					\n		\n				\n				\n							\n			\n		\n						\n				\n					\n		\n					\n		\n				\n						\n					\n			\n						\n				\n							\n			\n		\n						\n				\n					\n		\n					\n		\n				\n						\n					\n			\n						\n				\n					Tickets
URL:https://squamisharts.com/sa-event/queens-of-comedy/
LOCATION:BC
CATEGORIES:Community Event
ATTACH;FMTTYPE=image/png:https://squamisharts.com/wp-content/uploads/2026/02/Screenshot-2026-02-25-at-9.56.03-PM-53a3cd07561c5753c4e036ff14f737a4.png
END:VEVENT
BEGIN:VEVENT
DTSTART;TZID=America/Vancouver:20260310T180000
DTEND;TZID=America/Vancouver:20260310T200000
DTSTAMP:20260420T184312
CREATED:20260219T231132Z
LAST-MODIFIED:20260219T232644Z
UID:10000723-1773165600-1773172800@squamisharts.com
SUMMARY:Art Gym
DESCRIPTION:Instructor				\n				\n				\n						\n					\n			\n							\n		\n				\n			\n							\n		\n					\n		\n				\n				\n							\n			\n		\n						\n				\n					\n		\n					\n		\n				\n						\n					\n			\n						\n				\n							\n			\n		\n						\n				\n					\n		\n					\n		\n				\n						\n					\n			\n						\n				\n					Tickets
URL:https://squamisharts.com/sa-event/art-gym-03-10/
LOCATION:The 55 Activity Centre\, 1201 Village Green Way Squamish\, Squamish\, BC\, V8B 0N6\, Canada
CATEGORIES:Art School,Community Event
ATTACH;FMTTYPE=image/png:https://squamisharts.com/wp-content/uploads/2025/10/Art-Gym-2025-Banner.png
ORGANIZER;CN="Squamish Arts":MAILTO:info@squamisharts.com
END:VEVENT
BEGIN:VEVENT
DTSTART;TZID=America/Vancouver:20260310T193000
DTEND;TZID=America/Vancouver:20260310T220000
DTSTAMP:20260420T184312
CREATED:20260120T212138Z
LAST-MODIFIED:20260120T212138Z
UID:10000708-1773171000-1773180000@squamisharts.com
SUMMARY:Big Little Lions
DESCRIPTION:Instructor				\n				\n				\n						\n					\n			\n							\n		\n				\n			\n							\n		\n					\n		\n				\n				\n							\n			\n		\n						\n				\n					\n		\n					\n		\n				\n						\n					\n			\n						\n				\n							\n			\n		\n						\n				\n					\n		\n					\n		\n				\n						\n					\n			\n						\n				\n					Tickets
URL:https://squamisharts.com/sa-event/big-little-lions/
LOCATION:BC
CATEGORIES:Community Event
ATTACH;FMTTYPE=image/png:https://squamisharts.com/wp-content/uploads/2026/01/Screen-Shot-2026-01-20-at-1.00.15-PM-0d766d202cf8d10f4334fe95fde552a6.png
END:VEVENT
BEGIN:VEVENT
DTSTART;TZID=America/Vancouver:20260310T193000
DTEND;TZID=America/Vancouver:20260310T220000
DTSTAMP:20260420T184312
CREATED:20260127T005734Z
LAST-MODIFIED:20260127T005735Z
UID:10000711-1773171000-1773180000@squamisharts.com
SUMMARY:Danny Michel
DESCRIPTION:Instructor				\n				\n				\n						\n					\n			\n							\n		\n				\n			\n							\n		\n					\n		\n				\n				\n							\n			\n		\n						\n				\n					\n		\n					\n		\n				\n						\n					\n			\n						\n				\n							\n			\n		\n						\n				\n					\n		\n					\n		\n				\n						\n					\n			\n						\n				\n					Tickets
URL:https://squamisharts.com/sa-event/danny-michel/
LOCATION:BC
CATEGORIES:Community Event
ATTACH;FMTTYPE=image/png:https://squamisharts.com/wp-content/uploads/2026/01/Screen-Shot-2026-01-25-at-4.13.11-PM-f1b90c4ba6c718da169a3a682a6d3214.png
END:VEVENT
BEGIN:VEVENT
DTSTART;TZID=America/Vancouver:20260311T183000
DTEND;TZID=America/Vancouver:20260311T203000
DTSTAMP:20260420T184312
CREATED:20260226T220846Z
LAST-MODIFIED:20260226T220846Z
UID:10000728-1773253800-1773261000@squamisharts.com
SUMMARY:Youth Coffeehouse
DESCRIPTION:Instructor				\n				\n				\n						\n					\n			\n							\n		\n				\n			\n							\n		\n					\n		\n				\n				\n							\n			\n		\n						\n				\n					\n		\n					\n		\n				\n						\n					\n			\n						\n				\n							\n			\n		\n						\n				\n					\n		\n					\n		\n				\n						\n					\n			\n						\n				\n					Tickets
URL:https://squamisharts.com/sa-event/youth-coffeehouse/
LOCATION:BC
CATEGORIES:Community Event
ATTACH;FMTTYPE=image/png:https://squamisharts.com/wp-content/uploads/2026/02/Screenshot-2026-02-25-at-10.18.58-PM-aae3253e3c51153e0bb2bdc39ba33759.png
END:VEVENT
BEGIN:VEVENT
DTSTART;TZID=America/Vancouver:20260312T173000
DTEND;TZID=America/Vancouver:20260312T220000
DTSTAMP:20260420T184312
CREATED:20260228T223434Z
LAST-MODIFIED:20260228T223435Z
UID:10000729-1773336600-1773352800@squamisharts.com
SUMMARY:Open Mic at The BAG
DESCRIPTION:Instructor				\n				\n				\n						\n					\n			\n							\n		\n				\n			\n							\n		\n					\n		\n				\n				\n							\n			\n		\n						\n				\n					\n		\n					\n		\n				\n						\n					\n			\n						\n				\n							\n			\n		\n						\n				\n					\n		\n					\n		\n				\n						\n					\n			\n						\n				\n					Tickets
URL:https://squamisharts.com/sa-event/open-mic-at-the-bag-9/
LOCATION:BC
CATEGORIES:Community Event
ATTACH;FMTTYPE=image/png:https://squamisharts.com/wp-content/uploads/2026/02/Screenshot-2026-02-26-at-6.01.40-PM-1cb6e280c7b0f9a625c22220d9168617.png
END:VEVENT
BEGIN:VEVENT
DTSTART;TZID=America/Vancouver:20260313T190000
DTEND;TZID=America/Vancouver:20260313T220000
DTSTAMP:20260420T184312
CREATED:20260310T180504Z
LAST-MODIFIED:20260310T180504Z
UID:10000745-1773428400-1773439200@squamisharts.com
SUMMARY:Create Public Art Info Night
DESCRIPTION:Instructor				\n				\n				\n						\n					\n			\n							\n		\n				\n			\n							\n		\n					\n		\n				\n				\n							\n			\n		\n						\n				\n					\n		\n					\n		\n				\n						\n					\n			\n						\n				\n							\n			\n		\n						\n				\n					\n		\n					\n		\n				\n						\n					\n			\n						\n				\n					Tickets
URL:https://squamisharts.com/sa-event/create-public-art-info-night/
LOCATION:BC
CATEGORIES:Community Event
ATTACH;FMTTYPE=image/png:https://squamisharts.com/wp-content/uploads/2026/03/info-night-eventbrite-14d876b808903f62fdcc0eba2b7efce6.png
END:VEVENT
BEGIN:VEVENT
DTSTART;TZID=America/Vancouver:20260313T210000
DTEND;TZID=America/Vancouver:20260313T230000
DTSTAMP:20260420T184312
CREATED:20260228T223402Z
LAST-MODIFIED:20260228T223402Z
UID:10000730-1773435600-1773442800@squamisharts.com
SUMMARY:Last Reminisced Heroes & Shiny Red Button
DESCRIPTION:Instructor				\n				\n				\n						\n					\n			\n							\n		\n				\n			\n							\n		\n					\n		\n				\n				\n							\n			\n		\n						\n				\n					\n		\n					\n		\n				\n						\n					\n			\n						\n				\n							\n			\n		\n						\n				\n					\n		\n					\n		\n				\n						\n					\n			\n						\n				\n					Tickets
URL:https://squamisharts.com/sa-event/last-reminisced-heroes-shiny-red-button/
LOCATION:BC
CATEGORIES:Community Event
ATTACH;FMTTYPE=image/png:https://squamisharts.com/wp-content/uploads/2026/02/Screenshot-2026-02-26-at-6.24.25-PM-64a7d899c78e700989f2413b5e5607bd.png
END:VEVENT
BEGIN:VEVENT
DTSTART;TZID=America/Vancouver:20260314T200000
DTEND;TZID=America/Vancouver:20260314T230000
DTSTAMP:20260420T184312
CREATED:20260228T223339Z
LAST-MODIFIED:20260228T223339Z
UID:10000731-1773518400-1773529200@squamisharts.com
SUMMARY:KASADOR
DESCRIPTION:Instructor				\n				\n				\n						\n					\n			\n							\n		\n				\n			\n							\n		\n					\n		\n				\n				\n							\n			\n		\n						\n				\n					\n		\n					\n		\n				\n						\n					\n			\n						\n				\n							\n			\n		\n						\n				\n					\n		\n					\n		\n				\n						\n					\n			\n						\n				\n					Tickets
URL:https://squamisharts.com/sa-event/kasador/
LOCATION:BC
CATEGORIES:Community Event
ATTACH;FMTTYPE=image/png:https://squamisharts.com/wp-content/uploads/2026/02/Screenshot-2026-02-26-at-7.21.19-PM-60315db8c2397e2686b4ea909abb4e11.png
END:VEVENT
END:VCALENDAR