BEGIN:VCALENDAR
VERSION:2.0
PRODID:-//Squamish Arts - ECPv6.15.18//NONSGML v1.0//EN
CALSCALE:GREGORIAN
METHOD:PUBLISH
X-WR-CALNAME:Squamish Arts
X-ORIGINAL-URL:https://squamisharts.com
X-WR-CALDESC:Events for Squamish Arts
REFRESH-INTERVAL;VALUE=DURATION:PT1H
X-Robots-Tag:noindex
X-PUBLISHED-TTL:PT1H
BEGIN:VTIMEZONE
TZID:America/Vancouver
BEGIN:DAYLIGHT
TZOFFSETFROM:-0800
TZOFFSETTO:-0700
TZNAME:PDT
DTSTART:20240310T100000
END:DAYLIGHT
BEGIN:STANDARD
TZOFFSETFROM:-0700
TZOFFSETTO:-0800
TZNAME:PST
DTSTART:20241103T090000
END:STANDARD
BEGIN:DAYLIGHT
TZOFFSETFROM:-0800
TZOFFSETTO:-0700
TZNAME:PDT
DTSTART:20250309T100000
END:DAYLIGHT
BEGIN:STANDARD
TZOFFSETFROM:-0700
TZOFFSETTO:-0800
TZNAME:PST
DTSTART:20251102T090000
END:STANDARD
BEGIN:DAYLIGHT
TZOFFSETFROM:-0800
TZOFFSETTO:-0700
TZNAME:PDT
DTSTART:20260308T100000
END:DAYLIGHT
BEGIN:STANDARD
TZOFFSETFROM:-0700
TZOFFSETTO:-0800
TZNAME:PST
DTSTART:20261101T090000
END:STANDARD
END:VTIMEZONE
BEGIN:VEVENT
DTSTART;TZID=America/Vancouver:20250501T183000
DTEND;TZID=America/Vancouver:20250501T200000
DTSTAMP:20260423T040318
CREATED:20250428T180319Z
LAST-MODIFIED:20250428T180319Z
UID:10000449-1746124200-1746129600@squamisharts.com
SUMMARY:Bike Jam: Cycling Tour of Squamish's Public Spaces
DESCRIPTION:OurSquamish’s next Placemaking Meetup is going mobile – it’s a Bike Jam! \nJoin OurSquamish for a spring evening ride exploring the public spaces that shape our town. We’ll cruise through a few neighbourhoods and end the ride with ice cream outside Alice & Brohm. \nThis free community bike tour will span several Squamish neighbourhoods and highlight public parks and activated spaces\, cycling infrastructure\, and unique public areas that make our community vibrant. \nWe’ll meet at Rose Park corridor trail\, at the gravel parking lot across from the Adventure Centre\, (map attached)\, and finish at the Garibaldi Alice and Brohm location\, next to Locavore\, for ice cream and beverages for all who would like to stay and chat.
URL:https://squamisharts.com/sa-event/bike-jam-cycling-tour-of-squamishs-public-spaces/
CATEGORIES:Community Event
ATTACH;FMTTYPE=image/png:https://squamisharts.com/wp-content/uploads/2025/04/Photography-and-Placemaking-Walking-Tour-an-intro-to-photography-b3d1e2aa7ef33fa99432500228de0b94.png
END:VEVENT
BEGIN:VEVENT
DTSTART;TZID=America/Vancouver:20250502T100000
DTEND;TZID=America/Vancouver:20250502T140000
DTSTAMP:20260423T040318
CREATED:20250313T233418Z
LAST-MODIFIED:20250417T211950Z
UID:10000431-1746180000-1746194400@squamisharts.com
SUMMARY:Portraiture in Watercolour
DESCRIPTION:Instructor\nTickets
URL:https://squamisharts.com/sa-event/portraiture-in-watercolour/
LOCATION:The 55 Activity Centre\, 1201 Village Green Way Squamish\, Squamish\, BC\, V8B 0N6\, Canada
CATEGORIES:Art School
ATTACH;FMTTYPE=image/jpeg:https://squamisharts.com/wp-content/uploads/2025/03/Squamish-Arts-Lorraine-Simmonds-Liz.jpg
ORGANIZER;CN="Squamish Arts":MAILTO:info@squamisharts.com
END:VEVENT
BEGIN:VEVENT
DTSTART;TZID=America/Vancouver:20250504T100000
DTEND;TZID=America/Vancouver:20250504T160000
DTSTAMP:20260423T040318
CREATED:20250415T221723Z
LAST-MODIFIED:20250415T221823Z
UID:10000444-1746352800-1746374400@squamisharts.com
SUMMARY:Brackendale Elementary Student Art Show
DESCRIPTION:About The Fundraiser \nJoin us for a special community art show and fundraiser showcasing the amazing creativity of Brackendale Elementary’s students. This event offers the chance to view and purchase original student artwork for under $20 with all proceeds benefiting Brackendale Elementary School. \nThe Kids’ Art Show is being presented by Brackendale Art Gallery and is a wonderful opportunity to support the school community while celebrating the talent of our students. The event is open to the everyone and inclusive to all\, so bring your friends and family. \nWe kindly ask that you RSVP in advance to save your spot. We look forward to seeing you there and supporting Brackendale Elementary and their students. \nPlease note\, this is a FREE event!
URL:https://squamisharts.com/sa-event/brackendale-elementary-student-art-show/
CATEGORIES:Community Event
ATTACH;FMTTYPE=image/jpeg:https://squamisharts.com/wp-content/uploads/2025/04/https___cdn.evbuc_.com_images_1001475673_2686013175481_1_original.jpg
END:VEVENT
BEGIN:VEVENT
DTSTART;TZID=America/Vancouver:20250504T160000
DTEND;TZID=America/Vancouver:20250504T190000
DTSTAMP:20260423T040318
CREATED:20250428T180210Z
LAST-MODIFIED:20250428T180210Z
UID:10000448-1746374400-1746385200@squamisharts.com
SUMMARY:Art Medicine Session LOVE
DESCRIPTION:Embark on a 3-hour adventure where art becomes a pathway to love\, creative and spiritual transformations. In this intuitive\, fully guided class\, you will work through a layered\, intentional piece of art using paints. With each brushstroke\, you’ll transform challenges into opportunities\, expanding your love and embracing new possibilities. This class invites you to bring the unseen into the seen\, cultivating self love\, love for others\, and self-discovery.
URL:https://squamisharts.com/sa-event/art-medicine-session-love/
CATEGORIES:Community Event
ATTACH;FMTTYPE=image/jpeg:https://squamisharts.com/wp-content/uploads/2025/04/IMG_0419-52b0e23fbd8350b119442f9ef92cbfdc.jpeg
END:VEVENT
BEGIN:VEVENT
DTSTART;TZID=America/Vancouver:20250505T190000
DTEND;TZID=America/Vancouver:20250505T200000
DTSTAMP:20260423T040318
CREATED:20250414T194639Z
LAST-MODIFIED:20250416T170404Z
UID:10000439-1746471600-1746475200@squamisharts.com
SUMMARY:Squamish Arts AGM
DESCRIPTION:Instructor\nTickets
URL:https://squamisharts.com/sa-event/squamish-arts-agm-2/
LOCATION:The 55 Activity Centre\, 1201 Village Green Way Squamish\, Squamish\, BC\, V8B 0N6\, Canada
CATEGORIES:Art School,Community Event
ATTACH;FMTTYPE=image/jpeg:https://squamisharts.com/wp-content/uploads/2025/04/ANNUAL-GENERAL-MEETING-1128-×-564-px-1920-x-1080-px.jpg
ORGANIZER;CN="Squamish Arts":MAILTO:info@squamisharts.com
END:VEVENT
BEGIN:VEVENT
DTSTART;TZID=America/Vancouver:20250508T180000
DTEND;TZID=America/Vancouver:20250508T200000
DTSTAMP:20260423T040318
CREATED:20250313T223930Z
LAST-MODIFIED:20250522T224630Z
UID:10000426-1746727200-1746734400@squamisharts.com
SUMMARY:Art Gym
DESCRIPTION:Instructor\nTickets
URL:https://squamisharts.com/sa-event/art-gym-10/
LOCATION:The 55 Activity Centre\, 1201 Village Green Way Squamish\, Squamish\, BC\, V8B 0N6\, Canada
CATEGORIES:Art School
ATTACH;FMTTYPE=image/jpeg:https://squamisharts.com/wp-content/uploads/2025/03/Squamish-Arts-Art-Gym.jpg
ORGANIZER;CN="Squamish Arts":MAILTO:info@squamisharts.com
END:VEVENT
BEGIN:VEVENT
DTSTART;TZID=America/Vancouver:20250508T180000
DTEND;TZID=America/Vancouver:20250508T203000
DTSTAMP:20260423T040318
CREATED:20250415T204844Z
LAST-MODIFIED:20250415T204844Z
UID:10000442-1746727200-1746736200@squamisharts.com
SUMMARY:Plant School: Watercolour and Plant Identification
DESCRIPTION:Join us to learn how to identify local plants\, and then venture indoors to learn how to paint them in watercolour! No experience necessary and supplies are provided. \n“I joined Sarah’s “Plant School” on a coastal Tuesday evening and loved it. We began in the studio and went over the plan for the evening\, went for a walk on the nearby trails to look and learn about local plants\, and came back to the studio to start painting. \nI loved that the course paired two teachings\, plant knowledge and art skills. I went home with a handful of takeaways and will definitely be back. Thank you\, Sarah!”\n— Rebecca
URL:https://squamisharts.com/sa-event/plant-school-watercolour-and-plant-identification-2/
CATEGORIES:Community Event
ATTACH;FMTTYPE=image/jpeg:https://squamisharts.com/wp-content/uploads/2024/05/plant-school-with-sarah-keller-art.jpg
END:VEVENT
BEGIN:VEVENT
DTSTART;TZID=America/Vancouver:20250513T180000
DTEND;TZID=America/Vancouver:20250513T210000
DTSTAMP:20260423T040318
CREATED:20250305T185809Z
LAST-MODIFIED:20250305T185809Z
UID:10000417-1747159200-1747170000@squamisharts.com
SUMMARY:Figure Drawing
DESCRIPTION:Instructor\nTickets
URL:https://squamisharts.com/sa-event/figure-drawing-7/
LOCATION:The Brackendale Art Gallery\, 41950 Government Rd\, Brackendale\, BC\, V0N 1H0\, Canada
CATEGORIES:Art School
ATTACH;FMTTYPE=image/jpeg:https://squamisharts.com/wp-content/uploads/2024/12/Squamish-Arts-Figure-Drawing-Maskull.jpg
ORGANIZER;CN="Squamish Arts":MAILTO:info@squamisharts.com
END:VEVENT
BEGIN:VEVENT
DTSTART;TZID=America/Vancouver:20250520T183000
DTEND;TZID=America/Vancouver:20250520T213000
DTSTAMP:20260423T040318
CREATED:20250415T222049Z
LAST-MODIFIED:20250415T222049Z
UID:10000445-1747765800-1747776600@squamisharts.com
SUMMARY:Nude Doodz
DESCRIPTION:Join us for Nude Doodz at Brackendale Art Gallery! Enjoy a fun evening of figure drawing and mingling with fellow art enthusiasts. Models will pose in the nude\, with facilitator Miriam Tingle on site! \nWe’ll supply everything you need to unleash your creativity in a welcoming and relaxed environment. Whether you’re a seasoned artist or just starting out\, this event is perfect for anyone looking to explore figure drawing. Don’t miss out on this exciting opportunity to hone your skills and connect with like-minded individuals. See you there! \nThis event is 19+ \nEvent is from 6:30 pm – 9:30 pm \nDoor: 6:30 pm \nDrawing: 7 pm \nTickets: $25
URL:https://squamisharts.com/sa-event/nude-doodz-2/
CATEGORIES:Community Event
ATTACH;FMTTYPE=image/png:https://squamisharts.com/wp-content/uploads/2025/04/Screenshot-2025-04-07-at-5.34.31 PM-0a9df0d6b1b283f9780fffc305ca83a6.png
END:VEVENT
BEGIN:VEVENT
DTSTART;TZID=America/Vancouver:20250522T180000
DTEND;TZID=America/Vancouver:20250522T200000
DTSTAMP:20260423T040318
CREATED:20250313T224035Z
LAST-MODIFIED:20250522T224724Z
UID:10000427-1747936800-1747944000@squamisharts.com
SUMMARY:Art Gym
DESCRIPTION:Instructor\nTickets
URL:https://squamisharts.com/sa-event/art-gym-11/
LOCATION:The 55 Activity Centre\, 1201 Village Green Way Squamish\, Squamish\, BC\, V8B 0N6\, Canada
CATEGORIES:Art School
ATTACH;FMTTYPE=image/jpeg:https://squamisharts.com/wp-content/uploads/2025/03/Squamish-Arts-Art-Gym.jpg
ORGANIZER;CN="Squamish Arts":MAILTO:info@squamisharts.com
END:VEVENT
BEGIN:VEVENT
DTSTART;TZID=America/Vancouver:20250527T180000
DTEND;TZID=America/Vancouver:20250527T210000
DTSTAMP:20260423T040318
CREATED:20250306T174117Z
LAST-MODIFIED:20250306T174117Z
UID:10000420-1748368800-1748379600@squamisharts.com
SUMMARY:Figure Drawing
DESCRIPTION:Instructor\nTickets
URL:https://squamisharts.com/sa-event/figure-drawing-9/
LOCATION:The Brackendale Art Gallery\, 41950 Government Rd\, Brackendale\, BC\, V0N 1H0\, Canada
CATEGORIES:Art School
ATTACH;FMTTYPE=image/jpeg:https://squamisharts.com/wp-content/uploads/2024/12/Squamish-Arts-Figure-Drawing-Maskull.jpg
ORGANIZER;CN="Squamish Arts":MAILTO:info@squamisharts.com
END:VEVENT
END:VCALENDAR