BEGIN:VCALENDAR
VERSION:2.0
PRODID:-//Squamish Arts - ECPv6.15.18//NONSGML v1.0//EN
CALSCALE:GREGORIAN
METHOD:PUBLISH
X-WR-CALNAME:Squamish Arts
X-ORIGINAL-URL:https://squamisharts.com
X-WR-CALDESC:Events for Squamish Arts
REFRESH-INTERVAL;VALUE=DURATION:PT1H
X-Robots-Tag:noindex
X-PUBLISHED-TTL:PT1H
BEGIN:VTIMEZONE
TZID:America/Vancouver
BEGIN:DAYLIGHT
TZOFFSETFROM:-0800
TZOFFSETTO:-0700
TZNAME:PDT
DTSTART:20230312T100000
END:DAYLIGHT
BEGIN:STANDARD
TZOFFSETFROM:-0700
TZOFFSETTO:-0800
TZNAME:PST
DTSTART:20231105T090000
END:STANDARD
BEGIN:DAYLIGHT
TZOFFSETFROM:-0800
TZOFFSETTO:-0700
TZNAME:PDT
DTSTART:20240310T100000
END:DAYLIGHT
BEGIN:STANDARD
TZOFFSETFROM:-0700
TZOFFSETTO:-0800
TZNAME:PST
DTSTART:20241103T090000
END:STANDARD
BEGIN:DAYLIGHT
TZOFFSETFROM:-0800
TZOFFSETTO:-0700
TZNAME:PDT
DTSTART:20250309T100000
END:DAYLIGHT
BEGIN:STANDARD
TZOFFSETFROM:-0700
TZOFFSETTO:-0800
TZNAME:PST
DTSTART:20251102T090000
END:STANDARD
END:VTIMEZONE
BEGIN:VEVENT
DTSTART;TZID=America/Vancouver:20240123T100000
DTEND;TZID=America/Vancouver:20240318T170000
DTSTAMP:20260423T035636
CREATED:20240118T202908Z
LAST-MODIFIED:20240118T202926Z
UID:10000192-1706004000-1710781200@squamisharts.com
SUMMARY:Art Exhibit: SARAH MCDONALD & VANESSA SPARROW
DESCRIPTION:Art Exhibit at the FOYER GALLERY in the Squamish Public Library\nJanuary 23rd through March 18th\nSARAH MCDONALD\, ‘Soft Focus’\, acrylic & oil paintings & prints\nThis exhibit plays with depth of field and different perspectives of the way we see things. This series focuses mostly on nature subjects and the inspiration was from spending time outdoors in the mountains\, going on walks with my family\, and enjoying the nature that surrounds us.\nVANESSA SPARROW\, ‘Vaalia’\, felted fibre vessels & wall hangings\nMost important in my art\, aside from the simple joy of being able to express my fascination with organic shapes and textures (something I value deeply about felting) is the physical\, tactile nature of the process.
URL:https://squamisharts.com/sa-event/art-exhibit-sarah-mcdonald-vanessa-sparrow/
CATEGORIES:Community Event
ATTACH;FMTTYPE=image/jpeg:https://squamisharts.com/wp-content/uploads/2024/01/Foyer-IG-post-Jan-McDonald-Sparrow-2a64fb06da3e1db39aa39e87f047141e.jpg
END:VEVENT
BEGIN:VEVENT
DTSTART;TZID=America/Vancouver:20240208T110000
DTEND;TZID=America/Vancouver:20240303T170000
DTSTAMP:20260423T035636
CREATED:20240130T215116Z
LAST-MODIFIED:20240130T215203Z
UID:10000194-1707390000-1709485200@squamisharts.com
SUMMARY:HARVEST: JANINE DUNN AND BILIANA VELKOVA
DESCRIPTION:February 8 – March 3 \nOpening Reception: Thursday\, February 8\, 2024\, 6–8 p.m.\nMeet the Artists: Sunday\, February 11\, 2024\, 2–3 p.m. \nThe Ferry Building Gallery is proud to present “Harvest” featuring the works of Janine Dunn and Biliana Velkova. “Harvest” brings together the down-to-earth perspectives of Dunn\, a rural farmer\, and the imaginative musings of Velkova. The gallery becomes a meeting ground for the practical and the mythical\, where sustainability and folklore intertwine to offer a unique exploration of life’s cycles.
URL:https://squamisharts.com/sa-event/harvest-janine-dunn-and-biliana-velkova/
CATEGORIES:Community Event
ATTACH;FMTTYPE=image/jpeg:https://squamisharts.com/wp-content/uploads/2024/01/240116-harvest-image-0283b35b163a16ba4efbd2d34043e5e5.jpg
END:VEVENT
BEGIN:VEVENT
DTSTART;TZID=America/Vancouver:20240305T180000
DTEND;TZID=America/Vancouver:20240305T200000
DTSTAMP:20260423T035636
CREATED:20240207T064545Z
LAST-MODIFIED:20240228T204646Z
UID:10000201-1709661600-1709668800@squamisharts.com
SUMMARY:Figure Drawing
DESCRIPTION:Instructor\nTickets
URL:https://squamisharts.com/sa-event/figure-drawing-3/
LOCATION:The 55 Activity Centre\, 1201 Village Green Way Squamish\, Squamish\, BC\, V8B 0N6\, Canada
CATEGORIES:Art School
ATTACH;FMTTYPE=image/jpeg:https://squamisharts.com/wp-content/uploads/2024/02/Squamish-Arts-Figure-Drawing-Class.jpg
ORGANIZER;CN="Squamish Arts":MAILTO:info@squamisharts.com
END:VEVENT
BEGIN:VEVENT
DTSTART;TZID=America/Vancouver:20240312T180000
DTEND;TZID=America/Vancouver:20240312T200000
DTSTAMP:20260423T035636
CREATED:20240207T064659Z
LAST-MODIFIED:20240311T200451Z
UID:10000202-1710266400-1710273600@squamisharts.com
SUMMARY:Figure Drawing
DESCRIPTION:Instructor\nTickets
URL:https://squamisharts.com/sa-event/figure-drawing-4/
LOCATION:Happimess Art Studio\, 39455 Discovery Way\, Squamish\, BC\, V8B 0R5\, Canada
CATEGORIES:Art School
ATTACH;FMTTYPE=image/jpeg:https://squamisharts.com/wp-content/uploads/2024/02/Squamish-Arts-Figure-Drawing-Class.jpg
ORGANIZER;CN="Squamish Arts":MAILTO:info@squamisharts.com
END:VEVENT
BEGIN:VEVENT
DTSTART;TZID=America/Vancouver:20240313T050000
DTEND;TZID=America/Vancouver:20240313T190000
DTSTAMP:20260423T035636
CREATED:20240308T222730Z
LAST-MODIFIED:20240308T222759Z
UID:10000207-1710306000-1710356400@squamisharts.com
SUMMARY:Transformation of Spirits
DESCRIPTION:Join the Squamish Public Library and Foundry Sea to Sky operated by Sea to Sky Community Services as we celebrate the dedication of a special new book into the Local History Collection. \n“A Transformation of Spirits” is a collaboratively produced coffee table book describing the story of how the Foundry Totem Pole was imagined\, carved\, painted and installed at Foundry Sea to Sky. We’ll be joined by See Appl-tun (Art Harry)\, Squamish Nation artist and mentor\, who will share his experiences leading a group of youth in the carving of this totem pole. \nWe will also be learning about Foundry Sea to Sky’s annual TRC Day Canoe Pull for youth\, through a video put together by local filmmaker Darren Roberts. See Appl-tun and his family are immersed in Canoe Culture\, which is used in Squamish Nation culture today to help young people and their families to engage in healing and restorative practices together.
URL:https://squamisharts.com/sa-event/transformation-of-spirits/
LOCATION:The 55 Activity Centre\, 1201 Village Green Way Squamish\, Squamish\, BC\, V8B 0N6\, Canada
CATEGORIES:Community Event
ATTACH;FMTTYPE=image/png:https://squamisharts.com/wp-content/uploads/2024/03/March_2024_Transformation_of_Spirits_Communico.png
ORGANIZER;CN="Squamish Arts":MAILTO:info@squamisharts.com
END:VEVENT
BEGIN:VEVENT
DTSTART;TZID=America/Vancouver:20240313T180000
DTEND;TZID=America/Vancouver:20240313T203000
DTSTAMP:20260423T035636
CREATED:20240116T235357Z
LAST-MODIFIED:20240117T180757Z
UID:10000191-1710352800-1710361800@squamisharts.com
SUMMARY:Paint Sky Pilot in Watercolour
DESCRIPTION:Instructor\nTickets
URL:https://squamisharts.com/sa-event/paint-sky-pilot-in-watercolour/
LOCATION:The 55 Activity Centre\, 1201 Village Green Way Squamish\, Squamish\, BC\, V8B 0N6\, Canada
CATEGORIES:Art School
ATTACH;FMTTYPE=image/jpeg:https://squamisharts.com/wp-content/uploads/2022/11/squamish-arts-art-school-painting-mountains-in-watercolour-monika-loevenmark-3-16x9-1.jpg
ORGANIZER;CN="Squamish Arts":MAILTO:info@squamisharts.com
END:VEVENT
BEGIN:VEVENT
DTSTART;TZID=America/Vancouver:20240315T180000
DTEND;TZID=America/Vancouver:20240315T210000
DTSTAMP:20260423T035636
CREATED:20240308T222228Z
LAST-MODIFIED:20240509T205113Z
UID:10000206-1710525600-1710536400@squamisharts.com
SUMMARY:Paint and Sip night
DESCRIPTION:Follow along the process of creating a spring themed painting\, try local wine samples provided by Wine and Brew and meet new friends! \nThis event includes all the materials and guidance you will need to create a masterpiece. A “Bob Ross” style painting class in a no judgement zone and fun space to explore your skills! \nWine\, snacks and painting supplies are all included in the ticket price.
URL:https://squamisharts.com/sa-event/paint-and-sip-night/
CATEGORIES:Community Event
ATTACH;FMTTYPE=image/jpeg:https://squamisharts.com/wp-content/uploads/2024/03/DB95FC43-A6AB-4DAA-8BEF-59284998E9BC-e0bdeb0acb77fe651116d330ab842b90.jpeg
END:VEVENT
END:VCALENDAR