BEGIN:VCALENDAR
VERSION:2.0
PRODID:-//Squamish Arts - ECPv6.15.18//NONSGML v1.0//EN
CALSCALE:GREGORIAN
METHOD:PUBLISH
X-WR-CALNAME:Squamish Arts
X-ORIGINAL-URL:https://squamisharts.com
X-WR-CALDESC:Events for Squamish Arts
REFRESH-INTERVAL;VALUE=DURATION:PT1H
X-Robots-Tag:noindex
X-PUBLISHED-TTL:PT1H
BEGIN:VTIMEZONE
TZID:America/Vancouver
BEGIN:DAYLIGHT
TZOFFSETFROM:-0800
TZOFFSETTO:-0700
TZNAME:PDT
DTSTART:20220313T100000
END:DAYLIGHT
BEGIN:STANDARD
TZOFFSETFROM:-0700
TZOFFSETTO:-0800
TZNAME:PST
DTSTART:20221106T090000
END:STANDARD
BEGIN:DAYLIGHT
TZOFFSETFROM:-0800
TZOFFSETTO:-0700
TZNAME:PDT
DTSTART:20230312T100000
END:DAYLIGHT
BEGIN:STANDARD
TZOFFSETFROM:-0700
TZOFFSETTO:-0800
TZNAME:PST
DTSTART:20231105T090000
END:STANDARD
BEGIN:DAYLIGHT
TZOFFSETFROM:-0800
TZOFFSETTO:-0700
TZNAME:PDT
DTSTART:20240310T100000
END:DAYLIGHT
BEGIN:STANDARD
TZOFFSETFROM:-0700
TZOFFSETTO:-0800
TZNAME:PST
DTSTART:20241103T090000
END:STANDARD
END:VTIMEZONE
BEGIN:VEVENT
DTSTART;TZID=America/Vancouver:20230510T160000
DTEND;TZID=America/Vancouver:20230510T170000
DTSTAMP:20260423T022944
CREATED:20230321T234127Z
LAST-MODIFIED:20230510T234355Z
UID:10000115-1683734400-1683738000@squamisharts.com
SUMMARY:Basic Digital Photography for Kids - Any Camera
DESCRIPTION:Instructor\nTickets
URL:https://squamisharts.com/sa-event/basic-digital-photography-for-kids-any-camera/
LOCATION:The 55 Activity Centre\, 1201 Village Green Way Squamish\, Squamish\, BC\, V8B 0N6\, Canada
CATEGORIES:Art School
ATTACH;FMTTYPE=image/jpeg:https://squamisharts.com/wp-content/uploads/2023/03/Squamish-Arts-basic-digital-photography-for-kids.jpg
ORGANIZER;CN="Squamish Arts":MAILTO:info@squamisharts.com
END:VEVENT
BEGIN:VEVENT
DTSTART;TZID=America/Vancouver:20230510T173000
DTEND;TZID=America/Vancouver:20230510T183000
DTSTAMP:20260423T022944
CREATED:20230321T233449Z
LAST-MODIFIED:20230510T234907Z
UID:10000113-1683739800-1683743400@squamisharts.com
SUMMARY:Digital Photography for Kids 2.0 - DSLR & Manual Mode
DESCRIPTION:Instructor\nTickets
URL:https://squamisharts.com/sa-event/digital-photography-for-kids-2-0-dslr-manual-mode/
LOCATION:The 55 Activity Centre\, 1201 Village Green Way Squamish\, Squamish\, BC\, V8B 0N6\, Canada
CATEGORIES:Art School
ATTACH;FMTTYPE=image/jpeg:https://squamisharts.com/wp-content/uploads/2023/03/Squamish-Arts-digital-photography-for-kids-2.0.jpg
ORGANIZER;CN="Squamish Arts":MAILTO:info@squamisharts.com
END:VEVENT
END:VCALENDAR