BEGIN:VCALENDAR
VERSION:2.0
PRODID:-//Squamish Arts - ECPv6.15.18//NONSGML v1.0//EN
CALSCALE:GREGORIAN
METHOD:PUBLISH
X-WR-CALNAME:Squamish Arts
X-ORIGINAL-URL:https://squamisharts.com
X-WR-CALDESC:Events for Squamish Arts
REFRESH-INTERVAL;VALUE=DURATION:PT1H
X-Robots-Tag:noindex
X-PUBLISHED-TTL:PT1H
BEGIN:VTIMEZONE
TZID:America/Vancouver
BEGIN:DAYLIGHT
TZOFFSETFROM:-0800
TZOFFSETTO:-0700
TZNAME:PDT
DTSTART:20220313T100000
END:DAYLIGHT
BEGIN:STANDARD
TZOFFSETFROM:-0700
TZOFFSETTO:-0800
TZNAME:PST
DTSTART:20221106T090000
END:STANDARD
BEGIN:DAYLIGHT
TZOFFSETFROM:-0800
TZOFFSETTO:-0700
TZNAME:PDT
DTSTART:20230312T100000
END:DAYLIGHT
BEGIN:STANDARD
TZOFFSETFROM:-0700
TZOFFSETTO:-0800
TZNAME:PST
DTSTART:20231105T090000
END:STANDARD
BEGIN:DAYLIGHT
TZOFFSETFROM:-0800
TZOFFSETTO:-0700
TZNAME:PDT
DTSTART:20240310T100000
END:DAYLIGHT
BEGIN:STANDARD
TZOFFSETFROM:-0700
TZOFFSETTO:-0800
TZNAME:PST
DTSTART:20241103T090000
END:STANDARD
END:VTIMEZONE
BEGIN:VEVENT
DTSTART;TZID=America/Vancouver:20230110T180000
DTEND;TZID=America/Vancouver:20230202T200000
DTSTAMP:20260425T041654
CREATED:20221213T080814Z
LAST-MODIFIED:20230105T204407Z
UID:10000066-1673373600-1675368000@squamisharts.com
SUMMARY:Portraits In Photography
DESCRIPTION:Instructor\nTickets
URL:https://squamisharts.com/sa-event/portraits-in-photography/
LOCATION:The 55 Activity Centre\, 1201 Village Green Way Squamish\, Squamish\, BC\, V8B 0N6\, Canada
CATEGORIES:Art School
ATTACH;FMTTYPE=image/jpeg:https://squamisharts.com/wp-content/uploads/2022/12/squamish-arts-portraits-in-photography-class.jpg
ORGANIZER;CN="Squamish Arts":MAILTO:info@squamisharts.com
END:VEVENT
BEGIN:VEVENT
DTSTART;TZID=America/Vancouver:20230201T160000
DTEND;TZID=America/Vancouver:20230201T170000
DTSTAMP:20260425T041654
CREATED:20230113T230815Z
LAST-MODIFIED:20230207T000104Z
UID:10000082-1675267200-1675270800@squamisharts.com
SUMMARY:Basic Digital Photography for Kids
DESCRIPTION:Instructor\nTickets
URL:https://squamisharts.com/sa-event/basic-digital-photography-for-kids/
LOCATION:The 55 Activity Centre\, 1201 Village Green Way Squamish\, Squamish\, BC\, V8B 0N6\, Canada
CATEGORIES:Art School
ATTACH;FMTTYPE=image/jpeg:https://squamisharts.com/wp-content/uploads/2023/01/squamish-arts-art-school-kids-photography-class.jpg
ORGANIZER;CN="Squamish Arts":MAILTO:info@squamisharts.com
END:VEVENT
BEGIN:VEVENT
DTSTART;TZID=America/Vancouver:20230201T190000
DTEND;TZID=America/Vancouver:20230201T210000
DTSTAMP:20260425T041654
CREATED:20230117T020511Z
LAST-MODIFIED:20230131T005048Z
UID:10000087-1675278000-1675285200@squamisharts.com
SUMMARY:Sketch Book Exercises and Artist Trading Cards
DESCRIPTION:Instructor\nTickets
URL:https://squamisharts.com/sa-event/sketch-book-exercises-and-artist-trading-cards-02-01-23/
LOCATION:37776 2nd Ave Unit 204\, 37776 2nd Ave\, Squamish\, BC\, V8B 0K1\, Canada
CATEGORIES:Art School
ATTACH;FMTTYPE=image/jpeg:https://squamisharts.com/wp-content/uploads/2023/01/squamish-arts-sketchbook-exercises-art-school.jpg
ORGANIZER;CN="Squamish Arts":MAILTO:info@squamisharts.com
END:VEVENT
BEGIN:VEVENT
DTSTART;TZID=America/Vancouver:20230207T180000
DTEND;TZID=America/Vancouver:20230207T200000
DTSTAMP:20260425T041654
CREATED:20221213T195032Z
LAST-MODIFIED:20230116T200402Z
UID:10000070-1675792800-1675800000@squamisharts.com
SUMMARY:Hand Building With Clay
DESCRIPTION:Instructor\nTickets
URL:https://squamisharts.com/sa-event/hand-building-with-clay-3/
LOCATION:The 55 Activity Centre\, 1201 Village Green Way Squamish\, Squamish\, BC\, V8B 0N6\, Canada
CATEGORIES:Art School
ATTACH;FMTTYPE=image/jpeg:https://squamisharts.com/wp-content/uploads/2022/12/squamish-arts-hand-building-with-clay-small-dish.jpg
ORGANIZER;CN="Squamish Arts":MAILTO:info@squamisharts.com
END:VEVENT
BEGIN:VEVENT
DTSTART;TZID=America/Vancouver:20230214T180000
DTEND;TZID=America/Vancouver:20230214T200000
DTSTAMP:20260425T041654
CREATED:20230116T195758Z
LAST-MODIFIED:20230116T195758Z
UID:10000073-1676397600-1676404800@squamisharts.com
SUMMARY:Hand Building With Clay
DESCRIPTION:Instructor\nTickets
URL:https://squamisharts.com/sa-event/hand-building-with-clay-5/
LOCATION:The 55 Activity Centre\, 1201 Village Green Way Squamish\, Squamish\, BC\, V8B 0N6\, Canada
CATEGORIES:Art School
ATTACH;FMTTYPE=image/jpeg:https://squamisharts.com/wp-content/uploads/2022/11/squamish-arts-festival-workshops-claytivity-adult-mugs-1200x800-1-e1670961547925.jpg
ORGANIZER;CN="Squamish Arts":MAILTO:info@squamisharts.com
END:VEVENT
BEGIN:VEVENT
DTSTART;TZID=America/Vancouver:20230215T190000
DTEND;TZID=America/Vancouver:20230215T210000
DTSTAMP:20260425T041654
CREATED:20230117T021131Z
LAST-MODIFIED:20230130T185806Z
UID:10000088-1676487600-1676494800@squamisharts.com
SUMMARY:Intro to Relief Printmaking
DESCRIPTION:Instructor\nTickets
URL:https://squamisharts.com/sa-event/intro-to-relief-printmaking-02-15-23/
LOCATION:37776 2nd Ave Unit 204\, 37776 2nd Ave\, Squamish\, BC\, V8B 0K1\, Canada
CATEGORIES:Art School
ATTACH;FMTTYPE=image/jpeg:https://squamisharts.com/wp-content/uploads/2022/11/squamish-arts-art-school-intro-to-relief-printmaking-olivia-rinne-1200x675-2.jpg
ORGANIZER;CN="Squamish Arts":MAILTO:info@squamisharts.com
END:VEVENT
BEGIN:VEVENT
DTSTART;TZID=America/Vancouver:20230218T130000
DTEND;TZID=America/Vancouver:20230218T153000
DTSTAMP:20260425T041654
CREATED:20230118T201129Z
LAST-MODIFIED:20230118T201209Z
UID:10000089-1676725200-1676734200@squamisharts.com
SUMMARY:Painting Mountains in Watercolour
DESCRIPTION:Instructor\nTickets
URL:https://squamisharts.com/sa-event/painting-mountains-in-watercolour-02-18-23/
LOCATION:The 55 Activity Centre\, 1201 Village Green Way Squamish\, Squamish\, BC\, V8B 0N6\, Canada
CATEGORIES:Art School
ATTACH;FMTTYPE=image/jpeg:https://squamisharts.com/wp-content/uploads/2022/11/squamish-arts-art-school-painting-mountains-in-watercolour-monika-loevenmark-4-16x9-1.jpg
ORGANIZER;CN="Squamish Arts":MAILTO:info@squamisharts.com
END:VEVENT
BEGIN:VEVENT
DTSTART;TZID=America/Vancouver:20230221T180000
DTEND;TZID=America/Vancouver:20230221T200000
DTSTAMP:20260425T041654
CREATED:20230125T004047Z
LAST-MODIFIED:20230311T011728Z
UID:10000091-1677002400-1677009600@squamisharts.com
SUMMARY:Watercolour and Ink
DESCRIPTION:Instructor\nTickets
URL:https://squamisharts.com/sa-event/watercolour-and-ink/
LOCATION:The 55 Activity Centre\, 1201 Village Green Way Squamish\, Squamish\, BC\, V8B 0N6\, Canada
CATEGORIES:Art School
ATTACH;FMTTYPE=image/jpeg:https://squamisharts.com/wp-content/uploads/2023/01/squamish-arts-watercolour-and-ink.jpg
ORGANIZER;CN="Squamish Arts":MAILTO:info@squamisharts.com
END:VEVENT
BEGIN:VEVENT
DTSTART;TZID=America/Vancouver:20230222T190000
DTEND;TZID=America/Vancouver:20230222T210000
DTSTAMP:20260425T041654
CREATED:20230118T223319Z
LAST-MODIFIED:20230207T003607Z
UID:10000090-1677092400-1677099600@squamisharts.com
SUMMARY:Sketch Book Exercises and Artist Trading Cards
DESCRIPTION:Instructor\nTickets
URL:https://squamisharts.com/sa-event/sketch-book-exercises-and-artist-trading-cards-02-22-23/
LOCATION:37776 2nd Ave Unit 204\, 37776 2nd Ave\, Squamish\, BC\, V8B 0K1\, Canada
CATEGORIES:Art School
ATTACH;FMTTYPE=image/jpeg:https://squamisharts.com/wp-content/uploads/2023/01/squamish-arts-sketchbook-exercises-art-school.jpg
ORGANIZER;CN="Squamish Arts":MAILTO:info@squamisharts.com
END:VEVENT
BEGIN:VEVENT
DTSTART;TZID=America/Vancouver:20230228T180000
DTEND;TZID=America/Vancouver:20230228T200000
DTSTAMP:20260425T041654
CREATED:20230208T232606Z
LAST-MODIFIED:20230208T232851Z
UID:10000095-1677607200-1677614400@squamisharts.com
SUMMARY:Glazing Your Bisque Fired Piece
DESCRIPTION:Instructor\nTickets
URL:https://squamisharts.com/sa-event/glazing-your-bisque-fired-piece/
LOCATION:The 55 Activity Centre\, 1201 Village Green Way Squamish\, Squamish\, BC\, V8B 0N6\, Canada
CATEGORIES:Art School
ATTACH;FMTTYPE=image/jpeg:https://squamisharts.com/wp-content/uploads/2023/02/squamish-arts-art-school-rosemary-glazing.jpg
ORGANIZER;CN="Squamish Arts":MAILTO:info@squamisharts.com
END:VEVENT
END:VCALENDAR