BEGIN:VCALENDAR
VERSION:2.0
PRODID:-//Squamish Arts - ECPv6.15.18//NONSGML v1.0//EN
CALSCALE:GREGORIAN
METHOD:PUBLISH
X-ORIGINAL-URL:https://squamisharts.com
X-WR-CALDESC:Events for Squamish Arts
REFRESH-INTERVAL;VALUE=DURATION:PT1H
X-Robots-Tag:noindex
X-PUBLISHED-TTL:PT1H
BEGIN:VTIMEZONE
TZID:America/Vancouver
BEGIN:DAYLIGHT
TZOFFSETFROM:-0800
TZOFFSETTO:-0700
TZNAME:PDT
DTSTART:20250309T100000
END:DAYLIGHT
BEGIN:STANDARD
TZOFFSETFROM:-0700
TZOFFSETTO:-0800
TZNAME:PST
DTSTART:20251102T090000
END:STANDARD
BEGIN:DAYLIGHT
TZOFFSETFROM:-0800
TZOFFSETTO:-0700
TZNAME:PDT
DTSTART:20260308T100000
END:DAYLIGHT
BEGIN:STANDARD
TZOFFSETFROM:-0700
TZOFFSETTO:-0800
TZNAME:PST
DTSTART:20261101T090000
END:STANDARD
BEGIN:DAYLIGHT
TZOFFSETFROM:-0800
TZOFFSETTO:-0700
TZNAME:PDT
DTSTART:20270314T100000
END:DAYLIGHT
BEGIN:STANDARD
TZOFFSETFROM:-0700
TZOFFSETTO:-0800
TZNAME:PST
DTSTART:20271107T090000
END:STANDARD
END:VTIMEZONE
BEGIN:VEVENT
DTSTART;TZID=America/Vancouver:20260606T100000
DTEND;TZID=America/Vancouver:20260607T160000
DTSTAMP:20260425T124944
CREATED:20260422T011657Z
LAST-MODIFIED:20260422T011657Z
UID:10000777-1780740000-1780848000@squamisharts.com
SUMMARY:Plein Air Workshop
DESCRIPTION:Instructor				\n				\n				\n						\n					\n			\n							\n		\n				\n			\n							\n		\n					\n		\n				\n				\n							\n			\n		\n						\n				\n					\n		\n					\n		\n				\n						\n					\n			\n						\n				\n							\n			\n		\n						\n				\n					\n		\n					\n		\n				\n						\n					\n			\n						\n				\n					Tickets
URL:https://squamisharts.com/sa-event/plein-air-workshop/
LOCATION:BC
CATEGORIES:Community Event
ATTACH;FMTTYPE=image/png:https://squamisharts.com/wp-content/uploads/2026/04/Alice-Lake-Workshop-cf87bac4f00fadd9da1b5dae2024622e.png
END:VEVENT
BEGIN:VEVENT
DTSTART;TZID=America/Vancouver:20260613T100000
DTEND;TZID=America/Vancouver:20260613T130000
DTSTAMP:20260425T124944
CREATED:20260423T195051Z
LAST-MODIFIED:20260423T195051Z
UID:10000779-1781344800-1781355600@squamisharts.com
SUMMARY:Happimess Kids' Art Finale 2026
DESCRIPTION:Instructor				\n				\n				\n						\n					\n			\n							\n		\n				\n			\n							\n		\n					\n		\n				\n				\n							\n			\n		\n						\n				\n					\n		\n					\n		\n				\n						\n					\n			\n						\n				\n							\n			\n		\n						\n				\n					\n		\n					\n		\n				\n						\n					\n			\n						\n				\n					Tickets
URL:https://squamisharts.com/sa-event/happimess-kids-art-finale-2026/
LOCATION:BC
CATEGORIES:Community Event
ATTACH;FMTTYPE=image/jpeg:https://squamisharts.com/wp-content/uploads/2026/04/Happimess-Exhibition-101-2227b3229fe2d56f3259e95a4ec15822.jpg
END:VEVENT
BEGIN:VEVENT
DTSTART;TZID=America/Vancouver:20260625T160000
DTEND;TZID=America/Vancouver:20260628T120000
DTSTAMP:20260425T124944
CREATED:20260204T205053Z
LAST-MODIFIED:20260204T205054Z
UID:10000714-1782403200-1782648000@squamisharts.com
SUMMARY:Big Kids Improv Camp
DESCRIPTION:Instructor				\n				\n				\n						\n					\n			\n							\n		\n				\n			\n							\n		\n					\n		\n				\n				\n							\n			\n		\n						\n				\n					\n		\n					\n		\n				\n						\n					\n			\n						\n				\n							\n			\n		\n						\n				\n					\n		\n					\n		\n				\n						\n					\n			\n						\n				\n					Tickets
URL:https://squamisharts.com/sa-event/big-kids-improv-camp/
LOCATION:BC
CATEGORIES:Community Event
ATTACH;FMTTYPE=image/png:https://squamisharts.com/wp-content/uploads/2026/02/Big-Kids-Improv-Camp-Flyer-Instagram-Post-45-1-0b366eea42cc5877dfb25e5795f8d61f.png
END:VEVENT
END:VCALENDAR