BEGIN:VCALENDAR
VERSION:2.0
PRODID:-//Squamish Arts - ECPv6.15.18//NONSGML v1.0//EN
CALSCALE:GREGORIAN
METHOD:PUBLISH
X-WR-CALNAME:Squamish Arts
X-ORIGINAL-URL:https://squamisharts.com
X-WR-CALDESC:Events for Squamish Arts
REFRESH-INTERVAL;VALUE=DURATION:PT1H
X-Robots-Tag:noindex
X-PUBLISHED-TTL:PT1H
BEGIN:VTIMEZONE
TZID:America/Vancouver
BEGIN:DAYLIGHT
TZOFFSETFROM:-0800
TZOFFSETTO:-0700
TZNAME:PDT
DTSTART:20250309T100000
END:DAYLIGHT
BEGIN:STANDARD
TZOFFSETFROM:-0700
TZOFFSETTO:-0800
TZNAME:PST
DTSTART:20251102T090000
END:STANDARD
BEGIN:DAYLIGHT
TZOFFSETFROM:-0800
TZOFFSETTO:-0700
TZNAME:PDT
DTSTART:20260308T100000
END:DAYLIGHT
BEGIN:STANDARD
TZOFFSETFROM:-0700
TZOFFSETTO:-0800
TZNAME:PST
DTSTART:20261101T090000
END:STANDARD
BEGIN:DAYLIGHT
TZOFFSETFROM:-0800
TZOFFSETTO:-0700
TZNAME:PDT
DTSTART:20270314T100000
END:DAYLIGHT
BEGIN:STANDARD
TZOFFSETFROM:-0700
TZOFFSETTO:-0800
TZNAME:PST
DTSTART:20271107T090000
END:STANDARD
END:VTIMEZONE
BEGIN:VEVENT
DTSTART;TZID=America/Vancouver:20260413T180000
DTEND;TZID=America/Vancouver:20260608T200000
DTSTAMP:20260425T182624
CREATED:20260304T025125Z
LAST-MODIFIED:20260304T025125Z
UID:10000740-1776103200-1780948800@squamisharts.com
SUMMARY:Beginner Improv Classes
DESCRIPTION:Instructor				\n				\n				\n						\n					\n			\n							\n		\n				\n			\n							\n		\n					\n		\n				\n				\n							\n			\n		\n						\n				\n					\n		\n					\n		\n				\n						\n					\n			\n						\n				\n							\n			\n		\n						\n				\n					\n		\n					\n		\n				\n						\n					\n			\n						\n				\n					Tickets
URL:https://squamisharts.com/sa-event/beginner-improv-classes-2/
LOCATION:BC
CATEGORIES:Community Event
ATTACH;FMTTYPE=image/png:https://squamisharts.com/wp-content/uploads/2026/03/Beginner-Improv-classes-8.5-x-11-in-Instagram-Post-45-14df787d52ce74b2bafe52869701e069.png
END:VEVENT
BEGIN:VEVENT
DTSTART;TZID=America/Vancouver:20260414T180000
DTEND;TZID=America/Vancouver:20260414T200000
DTSTAMP:20260425T182624
CREATED:20260317T220505Z
LAST-MODIFIED:20260317T220505Z
UID:10000755-1776189600-1776196800@squamisharts.com
SUMMARY:Exploring Colour
DESCRIPTION:Instructor				\n				\n				\n						\n					\n			\n							\n		\n				\n			\n							\n		\n					\n		\n				\n				\n							\n			\n		\n						\n				\n					\n		\n					\n		\n				\n						\n					\n			\n						\n				\n							\n			\n		\n						\n				\n					\n		\n					\n		\n				\n						\n					\n			\n						\n				\n					Tickets
URL:https://squamisharts.com/sa-event/exploring-colour/
LOCATION:The 55 Activity Centre\, 1201 Village Green Way Squamish\, Squamish\, BC\, V8B 0N6\, Canada
CATEGORIES:Art School
ATTACH;FMTTYPE=image/jpeg:https://squamisharts.com/wp-content/uploads/2026/03/squamish-arts-Natalie-schnitter-colour-exploration-.jpg
ORGANIZER;CN="Squamish Arts":MAILTO:info@squamisharts.com
END:VEVENT
BEGIN:VEVENT
DTSTART;TZID=America/Vancouver:20260418T200000
DTEND;TZID=America/Vancouver:20260418T233000
DTSTAMP:20260425T182624
CREATED:20260422T011915Z
LAST-MODIFIED:20260422T011915Z
UID:10000771-1776542400-1776555000@squamisharts.com
SUMMARY:Master of Justice
DESCRIPTION:Instructor				\n				\n				\n						\n					\n			\n							\n		\n				\n			\n							\n		\n					\n		\n				\n				\n							\n			\n		\n						\n				\n					\n		\n					\n		\n				\n						\n					\n			\n						\n				\n							\n			\n		\n						\n				\n					\n		\n					\n		\n				\n						\n					\n			\n						\n				\n					Tickets
URL:https://squamisharts.com/sa-event/master-of-justice/
LOCATION:BC
CATEGORIES:Community Event
ATTACH;FMTTYPE=image/png:https://squamisharts.com/wp-content/uploads/2026/04/Screenshot-2026-04-07-at-9.37.29-PM-0e23a99281cb4d56d01e806347c78a74.png
END:VEVENT
BEGIN:VEVENT
DTSTART;TZID=America/Vancouver:20260421T180000
DTEND;TZID=America/Vancouver:20260421T200000
DTSTAMP:20260425T182624
CREATED:20260317T215748Z
LAST-MODIFIED:20260317T222140Z
UID:10000754-1776794400-1776801600@squamisharts.com
SUMMARY:Itty Bitty Abstract Painting
DESCRIPTION:Instructor				\n				\n				\n						\n					\n			\n							\n		\n				\n			\n							\n		\n					\n		\n				\n				\n							\n			\n		\n						\n				\n					\n		\n					\n		\n				\n						\n					\n			\n						\n				\n							\n			\n		\n						\n				\n					\n		\n					\n		\n				\n						\n					\n			\n						\n				\n					Tickets
URL:https://squamisharts.com/sa-event/itty-bitty-abstract-painting/
LOCATION:The 55 Activity Centre\, 1201 Village Green Way Squamish\, Squamish\, BC\, V8B 0N6\, Canada
CATEGORIES:Art School
ATTACH;FMTTYPE=image/jpeg:https://squamisharts.com/wp-content/uploads/2026/03/squamish-arts-Natalie-schnitter-itty-bitty-abstract-painting.jpg
ORGANIZER;CN="Squamish Arts":MAILTO:info@squamisharts.com
END:VEVENT
BEGIN:VEVENT
DTSTART;TZID=America/Vancouver:20260421T183000
DTEND;TZID=America/Vancouver:20260421T213000
DTSTAMP:20260425T182624
CREATED:20260422T011849Z
LAST-MODIFIED:20260422T011849Z
UID:10000774-1776796200-1776807000@squamisharts.com
SUMMARY:Nude Doodz
DESCRIPTION:Instructor				\n				\n				\n						\n					\n			\n							\n		\n				\n			\n							\n		\n					\n		\n				\n				\n							\n			\n		\n						\n				\n					\n		\n					\n		\n				\n						\n					\n			\n						\n				\n							\n			\n		\n						\n				\n					\n		\n					\n		\n				\n						\n					\n			\n						\n				\n					Tickets
URL:https://squamisharts.com/sa-event/nude-doodz-10/
LOCATION:BC
CATEGORIES:Community Event
ATTACH;FMTTYPE=image/png:https://squamisharts.com/wp-content/uploads/2026/04/Screenshot-2026-04-07-at-10.12.06-PM-edcfd493bdd2c966512b39e85900e870.png
END:VEVENT
BEGIN:VEVENT
DTSTART;TZID=America/Vancouver:20260423T190000
DTEND;TZID=America/Vancouver:20260423T220000
DTSTAMP:20260425T182624
CREATED:20260422T011836Z
LAST-MODIFIED:20260422T011836Z
UID:10000775-1776970800-1776981600@squamisharts.com
SUMMARY:Open Mic Showcase at the BAG
DESCRIPTION:Instructor				\n				\n				\n						\n					\n			\n							\n		\n				\n			\n							\n		\n					\n		\n				\n				\n							\n			\n		\n						\n				\n					\n		\n					\n		\n				\n						\n					\n			\n						\n				\n							\n			\n		\n						\n				\n					\n		\n					\n		\n				\n						\n					\n			\n						\n				\n					Tickets
URL:https://squamisharts.com/sa-event/open-mic-showcase-at-the-bag/
LOCATION:BC
CATEGORIES:Community Event
ATTACH;FMTTYPE=image/png:https://squamisharts.com/wp-content/uploads/2026/04/Screenshot-2026-04-07-at-10.19.08-PM-b615c288d4ef92c80eafde9d1f4cae7b.png
END:VEVENT
BEGIN:VEVENT
DTSTART;TZID=America/Vancouver:20260423T190000
DTEND;TZID=America/Vancouver:20260425T210000
DTSTAMP:20260425T182624
CREATED:20260317T190318Z
LAST-MODIFIED:20260317T190318Z
UID:10000751-1776970800-1777150800@squamisharts.com
SUMMARY:TEMPUS: A Contemporary Dance Benefit Production
DESCRIPTION:Instructor				\n				\n				\n						\n					\n			\n							\n		\n				\n			\n							\n		\n					\n		\n				\n				\n							\n			\n		\n						\n				\n					\n		\n					\n		\n				\n						\n					\n			\n						\n				\n							\n			\n		\n						\n				\n					\n		\n					\n		\n				\n						\n					\n			\n						\n				\n					Tickets
URL:https://squamisharts.com/sa-event/tempus-a-contemporary-dance-benefit-production/
LOCATION:BC
CATEGORIES:Community Event
ATTACH;FMTTYPE=image/jpeg:https://squamisharts.com/wp-content/uploads/2026/03/JpegSmollPdfScreen-Shot-2026-03-15-at-12.03.48-PM-compressed-cop-1ad8a40bd587ae375fa06d9af8731018.jpg
END:VEVENT
BEGIN:VEVENT
DTSTART;TZID=America/Vancouver:20260424T200000
DTEND;TZID=America/Vancouver:20260424T230000
DTSTAMP:20260425T182624
CREATED:20260422T011820Z
LAST-MODIFIED:20260422T011820Z
UID:10000773-1777060800-1777071600@squamisharts.com
SUMMARY:Share this event Johnny Trash Vinyl Release Concert
DESCRIPTION:Instructor				\n				\n				\n						\n					\n			\n							\n		\n				\n			\n							\n		\n					\n		\n				\n				\n							\n			\n		\n						\n				\n					\n		\n					\n		\n				\n						\n					\n			\n						\n				\n							\n			\n		\n						\n				\n					\n		\n					\n		\n				\n						\n					\n			\n						\n				\n					Tickets
URL:https://squamisharts.com/sa-event/share-this-event-johnny-trash-vinyl-release-concert/
LOCATION:BC
CATEGORIES:Community Event
ATTACH;FMTTYPE=image/png:https://squamisharts.com/wp-content/uploads/2026/04/Screenshot-2026-04-07-at-9.54.22-PM-5d40e089ce9562c700500de6686a0454.png
END:VEVENT
BEGIN:VEVENT
DTSTART;TZID=America/Vancouver:20260425T200000
DTEND;TZID=America/Vancouver:20260425T230000
DTSTAMP:20260425T182624
CREATED:20260422T011744Z
LAST-MODIFIED:20260422T011745Z
UID:10000772-1777147200-1777158000@squamisharts.com
SUMMARY:Locarno
DESCRIPTION:Instructor				\n				\n				\n						\n					\n			\n							\n		\n				\n			\n							\n		\n					\n		\n				\n				\n							\n			\n		\n						\n				\n					\n		\n					\n		\n				\n						\n					\n			\n						\n				\n							\n			\n		\n						\n				\n					\n		\n					\n		\n				\n						\n					\n			\n						\n				\n					Tickets
URL:https://squamisharts.com/sa-event/locarno/
LOCATION:BC
CATEGORIES:Community Event
ATTACH;FMTTYPE=image/png:https://squamisharts.com/wp-content/uploads/2026/04/Screenshot-2026-04-07-at-9.47.08-PM-d836e3a0f0fe2b5012a69f484435622d.png
END:VEVENT
BEGIN:VEVENT
DTSTART;TZID=America/Vancouver:20260428T163000
DTEND;TZID=America/Vancouver:20260428T183000
DTSTAMP:20260425T182624
CREATED:20260320T195001Z
LAST-MODIFIED:20260321T205607Z
UID:10000758-1777393800-1777401000@squamisharts.com
SUMMARY:Youth Anime and Cartooning Character Design (13-17yrs)
DESCRIPTION:Instructor				\n				\n				\n						\n					\n			\n							\n		\n				\n			\n							\n		\n					\n		\n				\n				\n							\n			\n		\n						\n				\n					\n		\n					\n		\n				\n						\n					\n			\n						\n				\n							\n			\n		\n						\n				\n					\n		\n					\n		\n				\n						\n					\n			\n						\n				\n					Tickets
URL:https://squamisharts.com/sa-event/youth-anime-and-cartooning-character-design/
LOCATION:The 55 Activity Centre\, 1201 Village Green Way Squamish\, Squamish\, BC\, V8B 0N6\, Canada
CATEGORIES:Art School,Community Event
ATTACH;FMTTYPE=image/jpeg:https://squamisharts.com/wp-content/uploads/2025/03/Squamish-Arts-Isabella-Flaim-1.jpg
ORGANIZER;CN="Squamish Arts":MAILTO:info@squamisharts.com
END:VEVENT
BEGIN:VEVENT
DTSTART;TZID=America/Vancouver:20260507T173000
DTEND;TZID=America/Vancouver:20260507T200000
DTSTAMP:20260425T182624
CREATED:20260317T214804Z
LAST-MODIFIED:20260422T010014Z
UID:10000753-1778175000-1778184000@squamisharts.com
SUMMARY:Pet Portraits
DESCRIPTION:Instructor				\n				\n				\n						\n					\n			\n							\n		\n				\n			\n							\n		\n					\n		\n				\n				\n							\n			\n		\n						\n				\n					\n		\n					\n		\n				\n						\n					\n			\n						\n				\n							\n			\n		\n						\n				\n					\n		\n					\n		\n				\n						\n					\n			\n						\n				\n					Tickets
URL:https://squamisharts.com/sa-event/pet-portraits/
LOCATION:The 55 Activity Centre\, 1201 Village Green Way Squamish\, Squamish\, BC\, V8B 0N6\, Canada
CATEGORIES:Art School
ATTACH;FMTTYPE=image/jpeg:https://squamisharts.com/wp-content/uploads/2026/03/squamish-arts-Sira-Pocovi-pet-portraits.jpg
ORGANIZER;CN="Squamish Arts":MAILTO:info@squamisharts.com
END:VEVENT
BEGIN:VEVENT
DTSTART;TZID=America/Vancouver:20260520T190000
DTEND;TZID=America/Vancouver:20260520T200000
DTSTAMP:20260425T182624
CREATED:20260323T204833Z
LAST-MODIFIED:20260422T010008Z
UID:10000760-1779303600-1779307200@squamisharts.com
SUMMARY:Squamish Arts AGM
DESCRIPTION:Instructor				\n				\n				\n						\n					\n			\n							\n		\n				\n			\n							\n		\n					\n		\n				\n				\n							\n			\n		\n						\n				\n					\n		\n					\n		\n				\n						\n					\n			\n						\n				\n							\n			\n		\n						\n				\n					\n		\n					\n		\n				\n						\n					\n			\n						\n				\n					Tickets
URL:https://squamisharts.com/sa-event/squamish-arts-agm-2026/
LOCATION:The Brackendale Art Gallery\, 41950 Government Rd\, Brackendale\, BC\, V0N 1H0\, Canada
CATEGORIES:Art School,Community Event
ATTACH;FMTTYPE=image/jpeg:https://squamisharts.com/wp-content/uploads/2026/03/ANNUAL-GENERAL-MEETING-1128-×-564-px.jpg
ORGANIZER;CN="Squamish Arts":MAILTO:info@squamisharts.com
END:VEVENT
BEGIN:VEVENT
DTSTART;TZID=America/Vancouver:20260605T190000
DTEND;TZID=America/Vancouver:20260605T210000
DTSTAMP:20260425T182624
CREATED:20260422T011642Z
LAST-MODIFIED:20260422T011642Z
UID:10000776-1780686000-1780693200@squamisharts.com
SUMMARY:Squamish Speaks Comedy
DESCRIPTION:Instructor				\n				\n				\n						\n					\n			\n							\n		\n				\n			\n							\n		\n					\n		\n				\n				\n							\n			\n		\n						\n				\n					\n		\n					\n		\n				\n						\n					\n			\n						\n				\n							\n			\n		\n						\n				\n					\n		\n					\n		\n				\n						\n					\n			\n						\n				\n					Tickets
URL:https://squamisharts.com/sa-event/squamish-speaks-comedy/
LOCATION:BC
CATEGORIES:Community Event
ATTACH;FMTTYPE=image/png:https://squamisharts.com/wp-content/uploads/2026/04/868fd260-a11f-4073-89b2-335a3c4fbc35-7c8297f323129f63e0a816c391a7b34d.png
END:VEVENT
BEGIN:VEVENT
DTSTART;TZID=America/Vancouver:20260606T100000
DTEND;TZID=America/Vancouver:20260607T160000
DTSTAMP:20260425T182624
CREATED:20260422T011657Z
LAST-MODIFIED:20260422T011657Z
UID:10000777-1780740000-1780848000@squamisharts.com
SUMMARY:Plein Air Workshop
DESCRIPTION:Instructor				\n				\n				\n						\n					\n			\n							\n		\n				\n			\n							\n		\n					\n		\n				\n				\n							\n			\n		\n						\n				\n					\n		\n					\n		\n				\n						\n					\n			\n						\n				\n							\n			\n		\n						\n				\n					\n		\n					\n		\n				\n						\n					\n			\n						\n				\n					Tickets
URL:https://squamisharts.com/sa-event/plein-air-workshop/
LOCATION:BC
CATEGORIES:Community Event
ATTACH;FMTTYPE=image/png:https://squamisharts.com/wp-content/uploads/2026/04/Alice-Lake-Workshop-cf87bac4f00fadd9da1b5dae2024622e.png
END:VEVENT
BEGIN:VEVENT
DTSTART;TZID=America/Vancouver:20260613T100000
DTEND;TZID=America/Vancouver:20260613T130000
DTSTAMP:20260425T182624
CREATED:20260423T195051Z
LAST-MODIFIED:20260423T195051Z
UID:10000779-1781344800-1781355600@squamisharts.com
SUMMARY:Happimess Kids' Art Finale 2026
DESCRIPTION:Instructor				\n				\n				\n						\n					\n			\n							\n		\n				\n			\n							\n		\n					\n		\n				\n				\n							\n			\n		\n						\n				\n					\n		\n					\n		\n				\n						\n					\n			\n						\n				\n							\n			\n		\n						\n				\n					\n		\n					\n		\n				\n						\n					\n			\n						\n				\n					Tickets
URL:https://squamisharts.com/sa-event/happimess-kids-art-finale-2026/
LOCATION:BC
CATEGORIES:Community Event
ATTACH;FMTTYPE=image/jpeg:https://squamisharts.com/wp-content/uploads/2026/04/Happimess-Exhibition-101-2227b3229fe2d56f3259e95a4ec15822.jpg
END:VEVENT
BEGIN:VEVENT
DTSTART;TZID=America/Vancouver:20260625T160000
DTEND;TZID=America/Vancouver:20260628T120000
DTSTAMP:20260425T182624
CREATED:20260204T205053Z
LAST-MODIFIED:20260204T205054Z
UID:10000714-1782403200-1782648000@squamisharts.com
SUMMARY:Big Kids Improv Camp
DESCRIPTION:Instructor				\n				\n				\n						\n					\n			\n							\n		\n				\n			\n							\n		\n					\n		\n				\n				\n							\n			\n		\n						\n				\n					\n		\n					\n		\n				\n						\n					\n			\n						\n				\n							\n			\n		\n						\n				\n					\n		\n					\n		\n				\n						\n					\n			\n						\n				\n					Tickets
URL:https://squamisharts.com/sa-event/big-kids-improv-camp/
LOCATION:BC
CATEGORIES:Community Event
ATTACH;FMTTYPE=image/png:https://squamisharts.com/wp-content/uploads/2026/02/Big-Kids-Improv-Camp-Flyer-Instagram-Post-45-1-0b366eea42cc5877dfb25e5795f8d61f.png
END:VEVENT
END:VCALENDAR