BEGIN:VCALENDAR
VERSION:2.0
PRODID:-//Squamish Arts - ECPv6.15.18//NONSGML v1.0//EN
CALSCALE:GREGORIAN
METHOD:PUBLISH
X-ORIGINAL-URL:https://squamisharts.com
X-WR-CALDESC:Events for Squamish Arts
REFRESH-INTERVAL;VALUE=DURATION:PT1H
X-Robots-Tag:noindex
X-PUBLISHED-TTL:PT1H
BEGIN:VTIMEZONE
TZID:America/Vancouver
BEGIN:DAYLIGHT
TZOFFSETFROM:-0800
TZOFFSETTO:-0700
TZNAME:PDT
DTSTART:20250309T100000
END:DAYLIGHT
BEGIN:STANDARD
TZOFFSETFROM:-0700
TZOFFSETTO:-0800
TZNAME:PST
DTSTART:20251102T090000
END:STANDARD
BEGIN:DAYLIGHT
TZOFFSETFROM:-0800
TZOFFSETTO:-0700
TZNAME:PDT
DTSTART:20260308T100000
END:DAYLIGHT
BEGIN:STANDARD
TZOFFSETFROM:-0700
TZOFFSETTO:-0800
TZNAME:PST
DTSTART:20261101T090000
END:STANDARD
BEGIN:DAYLIGHT
TZOFFSETFROM:-0800
TZOFFSETTO:-0700
TZNAME:PDT
DTSTART:20270314T100000
END:DAYLIGHT
BEGIN:STANDARD
TZOFFSETFROM:-0700
TZOFFSETTO:-0800
TZNAME:PST
DTSTART:20271107T090000
END:STANDARD
END:VTIMEZONE
BEGIN:VEVENT
DTSTART;TZID=America/Vancouver:20260106T180000
DTEND;TZID=America/Vancouver:20260106T200000
DTSTAMP:20260422T142846
CREATED:20251218T015913Z
LAST-MODIFIED:20251218T015913Z
UID:10000683-1767722400-1767729600@squamisharts.com
SUMMARY:Art Gym
DESCRIPTION:Instructor				\n				\n				\n						\n					\n			\n							\n		\n				\n			\n							\n		\n					\n		\n				\n				\n							\n			\n		\n						\n				\n					\n		\n					\n		\n				\n						\n					\n			\n						\n				\n							\n			\n		\n						\n				\n					\n		\n					\n		\n				\n						\n					\n			\n						\n				\n					Tickets
URL:https://squamisharts.com/sa-event/art-gym-12/
LOCATION:The 55 Activity Centre\, 1201 Village Green Way Squamish\, Squamish\, BC\, V8B 0N6\, Canada
CATEGORIES:Art School
ATTACH;FMTTYPE=image/png:https://squamisharts.com/wp-content/uploads/2025/10/Art-Gym-2025-Banner.png
ORGANIZER;CN="Squamish Arts":MAILTO:info@squamisharts.com
END:VEVENT
BEGIN:VEVENT
DTSTART;TZID=America/Vancouver:20260107T173000
DTEND;TZID=America/Vancouver:20260107T200000
DTSTAMP:20260422T142847
CREATED:20251217T180620Z
LAST-MODIFIED:20251217T180620Z
UID:10000682-1767807000-1767816000@squamisharts.com
SUMMARY:Fundamentals of Drawing
DESCRIPTION:Instructor				\n				\n				\n						\n					\n			\n							\n		\n				\n			\n							\n		\n					\n		\n				\n				\n							\n			\n		\n						\n				\n					\n		\n					\n		\n				\n						\n					\n			\n						\n				\n							\n			\n		\n						\n				\n					\n		\n					\n		\n				\n						\n					\n			\n						\n				\n					Tickets
URL:https://squamisharts.com/sa-event/fundamentals-of-drawing-2/
LOCATION:The 55 Activity Centre\, 1201 Village Green Way Squamish\, Squamish\, BC\, V8B 0N6\, Canada
CATEGORIES:Art School
ATTACH;FMTTYPE=image/jpeg:https://squamisharts.com/wp-content/uploads/2024/12/Squamish-Arts-fundamentals-of-drawing.jpg
ORGANIZER;CN="Squamish Arts":MAILTO:info@squamisharts.com
END:VEVENT
BEGIN:VEVENT
DTSTART;TZID=America/Vancouver:20260108T180000
DTEND;TZID=America/Vancouver:20260108T200000
DTSTAMP:20260422T142847
CREATED:20251216T212854Z
LAST-MODIFIED:20251216T212854Z
UID:10000681-1767895200-1767902400@squamisharts.com
SUMMARY:Expressive Landscape Painting
DESCRIPTION:Instructor				\n				\n				\n						\n					\n			\n							\n		\n				\n			\n							\n		\n					\n		\n				\n				\n							\n			\n		\n						\n				\n					\n		\n					\n		\n				\n						\n					\n			\n						\n				\n							\n			\n		\n						\n				\n					\n		\n					\n		\n				\n						\n					\n			\n						\n				\n					Tickets
URL:https://squamisharts.com/sa-event/expressive-landscape-painting-4/
LOCATION:The 55 Activity Centre\, 1201 Village Green Way Squamish\, Squamish\, BC\, V8B 0N6\, Canada
CATEGORIES:Art School,Community Event
ATTACH;FMTTYPE=image/jpeg:https://squamisharts.com/wp-content/uploads/2023/02/squamish-arts-art-school-landscape-painting.jpg
ORGANIZER;CN="Squamish Arts":MAILTO:info@squamisharts.com
END:VEVENT
BEGIN:VEVENT
DTSTART;TZID=America/Vancouver:20260110T193000
DTEND;TZID=America/Vancouver:20260110T220000
DTSTAMP:20260422T142847
CREATED:20251222T211247Z
LAST-MODIFIED:20251222T211247Z
UID:10000688-1768073400-1768082400@squamisharts.com
SUMMARY:Cowgirl Lovebrand
DESCRIPTION:Instructor				\n				\n				\n						\n					\n			\n							\n		\n				\n			\n							\n		\n					\n		\n				\n				\n							\n			\n		\n						\n				\n					\n		\n					\n		\n				\n						\n					\n			\n						\n				\n							\n			\n		\n						\n				\n					\n		\n					\n		\n				\n						\n					\n			\n						\n				\n					Tickets
URL:https://squamisharts.com/sa-event/cowgirl-lovebrand/
LOCATION:BC
CATEGORIES:Community Event
ATTACH;FMTTYPE=image/png:https://squamisharts.com/wp-content/uploads/2025/12/Screen-Shot-2025-12-19-at-12.29.39-PM-cd575d3160407a86acb49af90056deaa.png
END:VEVENT
BEGIN:VEVENT
DTSTART;TZID=America/Vancouver:20260111T183000
DTEND;TZID=America/Vancouver:20260111T203000
DTSTAMP:20260422T142847
CREATED:20251211T010420Z
LAST-MODIFIED:20251211T182316Z
UID:10000676-1768156200-1768163400@squamisharts.com
SUMMARY:Pasta-Maker Printmaking
DESCRIPTION:Instructor				\n				\n				\n						\n					\n			\n							\n		\n				\n			\n							\n		\n					\n		\n				\n				\n							\n			\n		\n						\n				\n					\n		\n					\n		\n				\n						\n					\n			\n						\n				\n							\n			\n		\n						\n				\n					\n		\n					\n		\n				\n						\n					\n			\n						\n				\n					Tickets
URL:https://squamisharts.com/sa-event/pasta-maker-printmaking/
LOCATION:BC
CATEGORIES:Community Event
ATTACH;FMTTYPE=image/jpeg:https://squamisharts.com/wp-content/uploads/2025/12/@friendlyliver-dbab66d646542710d8d27f4c6725d7f6.jpg
END:VEVENT
BEGIN:VEVENT
DTSTART;TZID=America/Vancouver:20260113T180000
DTEND;TZID=America/Vancouver:20260113T200000
DTSTAMP:20260422T142847
CREATED:20251218T020358Z
LAST-MODIFIED:20251218T020507Z
UID:10000684-1768327200-1768334400@squamisharts.com
SUMMARY:Art Gym
DESCRIPTION:Instructor				\n				\n				\n						\n					\n			\n							\n		\n				\n			\n							\n		\n					\n		\n				\n				\n							\n			\n		\n						\n				\n					\n		\n					\n		\n				\n						\n					\n			\n						\n				\n							\n			\n		\n						\n				\n					\n		\n					\n		\n				\n						\n					\n			\n						\n				\n					Tickets
URL:https://squamisharts.com/sa-event/art-gym-13/
LOCATION:The 55 Activity Centre\, 1201 Village Green Way Squamish\, Squamish\, BC\, V8B 0N6\, Canada
CATEGORIES:Art School
ATTACH;FMTTYPE=image/png:https://squamisharts.com/wp-content/uploads/2025/10/Art-Gym-2025-Banner.png
ORGANIZER;CN="Squamish Arts":MAILTO:info@squamisharts.com
END:VEVENT
BEGIN:VEVENT
DTSTART;TZID=America/Vancouver:20260113T190000
DTEND;TZID=America/Vancouver:20260113T210000
DTSTAMP:20260422T142847
CREATED:20251222T210251Z
LAST-MODIFIED:20251222T210252Z
UID:10000689-1768330800-1768338000@squamisharts.com
SUMMARY:Nude Doodz
DESCRIPTION:Instructor				\n				\n				\n						\n					\n			\n							\n		\n				\n			\n							\n		\n					\n		\n				\n				\n							\n			\n		\n						\n				\n					\n		\n					\n		\n				\n						\n					\n			\n						\n				\n							\n			\n		\n						\n				\n					\n		\n					\n		\n				\n						\n					\n			\n						\n				\n					Tickets
URL:https://squamisharts.com/sa-event/nude-doodz-8/
LOCATION:BC
CATEGORIES:Community Event
ATTACH;FMTTYPE=image/png:https://squamisharts.com/wp-content/uploads/2025/12/Screen-Shot-2025-12-19-at-12.48.56-PM-5756b051415422ce0c764828ff3b1cd8.png
END:VEVENT
BEGIN:VEVENT
DTSTART;TZID=America/Vancouver:20260117T150000
DTEND;TZID=America/Vancouver:20260117T180000
DTSTAMP:20260422T142847
CREATED:20251015T193912Z
LAST-MODIFIED:20251015T193912Z
UID:10000627-1768662000-1768672800@squamisharts.com
SUMMARY:Mixed Level Improv Workshop with Lauren McGibbon
DESCRIPTION:Instructor				\n				\n				\n						\n					\n			\n							\n		\n				\n			\n							\n		\n					\n		\n				\n				\n							\n			\n		\n						\n				\n					\n		\n					\n		\n				\n						\n					\n			\n						\n				\n							\n			\n		\n						\n				\n					\n		\n					\n		\n				\n						\n					\n			\n						\n				\n					Tickets
URL:https://squamisharts.com/sa-event/mixed-level-improv-workshop-with-lauren-mcgibbon/
LOCATION:BC
CATEGORIES:Community Event
ATTACH;FMTTYPE=image/png:https://squamisharts.com/wp-content/uploads/2025/10/Improv-workshop-with-Lauren-McGibbon-Facebook-Cover-1-11ea1788b889aee2376675e4b31e8007.png
END:VEVENT
BEGIN:VEVENT
DTSTART;TZID=America/Vancouver:20260117T200000
DTEND;TZID=America/Vancouver:20260117T223000
DTSTAMP:20260422T142847
CREATED:20260120T031053Z
LAST-MODIFIED:20260120T031053Z
UID:10000690-1768680000-1768689000@squamisharts.com
SUMMARY:BlueSparks Band Live @ The BAG
DESCRIPTION:Instructor				\n				\n				\n						\n					\n			\n							\n		\n				\n			\n							\n		\n					\n		\n				\n				\n							\n			\n		\n						\n				\n					\n		\n					\n		\n				\n						\n					\n			\n						\n				\n							\n			\n		\n						\n				\n					\n		\n					\n		\n				\n						\n					\n			\n						\n				\n					Tickets
URL:https://squamisharts.com/sa-event/bluesparks-band-live-the-bag/
LOCATION:BC
CATEGORIES:Community Event
ATTACH;FMTTYPE=image/png:https://squamisharts.com/wp-content/uploads/2026/01/Screen-Shot-2026-01-05-at-7.51.15-PM-75c906290f18ea0e45adb736e07f4b7c.png
END:VEVENT
BEGIN:VEVENT
DTSTART;TZID=America/Vancouver:20260118T183000
DTEND;TZID=America/Vancouver:20260118T203000
DTSTAMP:20260422T142847
CREATED:20251211T010355Z
LAST-MODIFIED:20251211T182259Z
UID:10000677-1768761000-1768768200@squamisharts.com
SUMMARY:Sardines on Sailcloth
DESCRIPTION:Instructor				\n				\n				\n						\n					\n			\n							\n		\n				\n			\n							\n		\n					\n		\n				\n				\n							\n			\n		\n						\n				\n					\n		\n					\n		\n				\n						\n					\n			\n						\n				\n							\n			\n		\n						\n				\n					\n		\n					\n		\n				\n						\n					\n			\n						\n				\n					Tickets
URL:https://squamisharts.com/sa-event/sardines-on-sailcloth/
LOCATION:BC
CATEGORIES:Community Event
ATTACH;FMTTYPE=image/jpeg:https://squamisharts.com/wp-content/uploads/2025/12/Whats-837f62128493778e503158457cd1afc8.jpg
END:VEVENT
BEGIN:VEVENT
DTSTART;TZID=America/Vancouver:20260120T180000
DTEND;TZID=America/Vancouver:20260120T200000
DTSTAMP:20260422T142847
CREATED:20251218T020832Z
LAST-MODIFIED:20251218T020832Z
UID:10000685-1768932000-1768939200@squamisharts.com
SUMMARY:Art Gym
DESCRIPTION:Instructor				\n				\n				\n						\n					\n			\n							\n		\n				\n			\n							\n		\n					\n		\n				\n				\n							\n			\n		\n						\n				\n					\n		\n					\n		\n				\n						\n					\n			\n						\n				\n							\n			\n		\n						\n				\n					\n		\n					\n		\n				\n						\n					\n			\n						\n				\n					Tickets
URL:https://squamisharts.com/sa-event/art-gym-14/
LOCATION:The 55 Activity Centre\, 1201 Village Green Way Squamish\, Squamish\, BC\, V8B 0N6\, Canada
CATEGORIES:Art School
ATTACH;FMTTYPE=image/png:https://squamisharts.com/wp-content/uploads/2025/10/Art-Gym-2025-Banner.png
ORGANIZER;CN="Squamish Arts":MAILTO:info@squamisharts.com
END:VEVENT
BEGIN:VEVENT
DTSTART;TZID=America/Vancouver:20260121T183000
DTEND;TZID=America/Vancouver:20260121T210000
DTSTAMP:20260422T142847
CREATED:20260120T030232Z
LAST-MODIFIED:20260120T030232Z
UID:10000695-1769020200-1769029200@squamisharts.com
SUMMARY:Poet Next Door - January 2026
DESCRIPTION:Instructor				\n				\n				\n						\n					\n			\n							\n		\n				\n			\n							\n		\n					\n		\n				\n				\n							\n			\n		\n						\n				\n					\n		\n					\n		\n				\n						\n					\n			\n						\n				\n							\n			\n		\n						\n				\n					\n		\n					\n		\n				\n						\n					\n			\n						\n				\n					Tickets
URL:https://squamisharts.com/sa-event/poet-next-door-january-2026/
LOCATION:BC
CATEGORIES:Community Event
ATTACH;FMTTYPE=image/png:https://squamisharts.com/wp-content/uploads/2026/01/Screen-Shot-2026-01-19-at-1.44.48-PM-ef6a0b125fd2782872813a29a8a10702.png
END:VEVENT
BEGIN:VEVENT
DTSTART;TZID=America/Vancouver:20260123T200000
DTEND;TZID=America/Vancouver:20260123T230000
DTSTAMP:20260422T142847
CREATED:20260120T030246Z
LAST-MODIFIED:20260120T030246Z
UID:10000696-1769198400-1769209200@squamisharts.com
SUMMARY:Battle of The Bands Round 3
DESCRIPTION:Instructor				\n				\n				\n						\n					\n			\n							\n		\n				\n			\n							\n		\n					\n		\n				\n				\n							\n			\n		\n						\n				\n					\n		\n					\n		\n				\n						\n					\n			\n						\n				\n							\n			\n		\n						\n				\n					\n		\n					\n		\n				\n						\n					\n			\n						\n				\n					Tickets
URL:https://squamisharts.com/sa-event/battle-of-the-bands-round-3/
LOCATION:BC
CATEGORIES:Community Event
ATTACH;FMTTYPE=image/png:https://squamisharts.com/wp-content/uploads/2026/01/Screen-Shot-2026-01-19-at-2.07.10-PM-c356138fe829977faea3ab4d9f5e0d9d.png
END:VEVENT
BEGIN:VEVENT
DTSTART;TZID=America/Vancouver:20260124T200000
DTEND;TZID=America/Vancouver:20260124T223000
DTSTAMP:20260422T142847
CREATED:20260120T030306Z
LAST-MODIFIED:20260120T030306Z
UID:10000691-1769284800-1769293800@squamisharts.com
SUMMARY:Cousin Harley
DESCRIPTION:Instructor				\n				\n				\n						\n					\n			\n							\n		\n				\n			\n							\n		\n					\n		\n				\n				\n							\n			\n		\n						\n				\n					\n		\n					\n		\n				\n						\n					\n			\n						\n				\n							\n			\n		\n						\n				\n					\n		\n					\n		\n				\n						\n					\n			\n						\n				\n					Tickets
URL:https://squamisharts.com/sa-event/cousin-harley/
LOCATION:BC
CATEGORIES:Community Event
ATTACH;FMTTYPE=image/png:https://squamisharts.com/wp-content/uploads/2026/01/Screen-Shot-2026-01-05-at-8.06.41-PM-7c178b30d658fe36389602f2df5fbf72.png
END:VEVENT
BEGIN:VEVENT
DTSTART;TZID=America/Vancouver:20260128T173000
DTEND;TZID=America/Vancouver:20260128T203000
DTSTAMP:20260422T142847
CREATED:20250210T191127Z
LAST-MODIFIED:20251216T215444Z
UID:10000404-1769621400-1769632200@squamisharts.com
SUMMARY:Oil Painting for Beginners & Beyond
DESCRIPTION:Instructor				\n				\n				\n						\n					\n			\n							\n		\n				\n			\n							\n		\n					\n		\n				\n				\n							\n			\n		\n						\n				\n					\n		\n					\n		\n				\n						\n					\n			\n						\n				\n							\n			\n		\n						\n				\n					\n		\n					\n		\n				\n						\n					\n			\n						\n				\n					Tickets
URL:https://squamisharts.com/sa-event/oil-painting-for-beginners-beyond/
LOCATION:The 55 Activity Centre\, 1201 Village Green Way Squamish\, Squamish\, BC\, V8B 0N6\, Canada
CATEGORIES:Art School
ATTACH;FMTTYPE=image/jpeg:https://squamisharts.com/wp-content/uploads/2025/02/squamish-arts-Oil-painting-for-beginners-elena-senatorova.jpg
ORGANIZER;CN="Squamish Arts":MAILTO:info@squamisharts.com
END:VEVENT
BEGIN:VEVENT
DTSTART;TZID=America/Vancouver:20260128T190000
DTEND;TZID=America/Vancouver:20260128T210000
DTSTAMP:20260422T142847
CREATED:20260120T031035Z
LAST-MODIFIED:20260120T031035Z
UID:10000694-1769626800-1769634000@squamisharts.com
SUMMARY:Paint Night with Theresa Columbus
DESCRIPTION:Instructor				\n				\n				\n						\n					\n			\n							\n		\n				\n			\n							\n		\n					\n		\n				\n				\n							\n			\n		\n						\n				\n					\n		\n					\n		\n				\n						\n					\n			\n						\n				\n							\n			\n		\n						\n				\n					\n		\n					\n		\n				\n						\n					\n			\n						\n				\n					Tickets
URL:https://squamisharts.com/sa-event/paint-night-with-theresa-columbus/
LOCATION:BC
CATEGORIES:Community Event
ATTACH;FMTTYPE=image/png:https://squamisharts.com/wp-content/uploads/2026/01/Screen-Shot-2026-01-19-at-1.30.12-PM-690e90a911c658f52fd966cae310146c.png
END:VEVENT
BEGIN:VEVENT
DTSTART;TZID=America/Vancouver:20260130T200000
DTEND;TZID=America/Vancouver:20260130T230000
DTSTAMP:20260422T142847
CREATED:20260120T031011Z
LAST-MODIFIED:20260120T031011Z
UID:10000697-1769803200-1769814000@squamisharts.com
SUMMARY:Battle of The Bands\, Grand Finale
DESCRIPTION:Instructor				\n				\n				\n						\n					\n			\n							\n		\n				\n			\n							\n		\n					\n		\n				\n				\n							\n			\n		\n						\n				\n					\n		\n					\n		\n				\n						\n					\n			\n						\n				\n							\n			\n		\n						\n				\n					\n		\n					\n		\n				\n						\n					\n			\n						\n				\n					Tickets
URL:https://squamisharts.com/sa-event/battle-of-the-bands-grand-finale/
LOCATION:BC
CATEGORIES:Community Event
ATTACH;FMTTYPE=image/png:https://squamisharts.com/wp-content/uploads/2026/01/Screen-Shot-2026-01-19-at-2.12.41-PM-9510ca877843840f0f5771bad01b740c.png
END:VEVENT
BEGIN:VEVENT
DTSTART;TZID=America/Vancouver:20260131T190000
DTEND;TZID=America/Vancouver:20260131T220000
DTSTAMP:20260422T142847
CREATED:20260120T030947Z
LAST-MODIFIED:20260120T030947Z
UID:10000698-1769886000-1769896800@squamisharts.com
SUMMARY:Open Mic Showcase @ The BAG
DESCRIPTION:Instructor				\n				\n				\n						\n					\n			\n							\n		\n				\n			\n							\n		\n					\n		\n				\n				\n							\n			\n		\n						\n				\n					\n		\n					\n		\n				\n						\n					\n			\n						\n				\n							\n			\n		\n						\n				\n					\n		\n					\n		\n				\n						\n					\n			\n						\n				\n					Tickets
URL:https://squamisharts.com/sa-event/open-mic-showcase-the-bag/
LOCATION:BC
CATEGORIES:Community Event
ATTACH;FMTTYPE=image/png:https://squamisharts.com/wp-content/uploads/2026/01/Screen-Shot-2026-01-19-at-2.24.57-PM-350528cf7224b58b51586e9ac9fa924f.png
END:VEVENT
BEGIN:VEVENT
DTSTART;TZID=America/Vancouver:20260205T180000
DTEND;TZID=America/Vancouver:20260312T200000
DTSTAMP:20260422T142847
CREATED:20260114T212648Z
LAST-MODIFIED:20260114T212648Z
UID:10000693-1770314400-1773345600@squamisharts.com
SUMMARY:UNFILTERED: The Therapeutic Theatre Journey
DESCRIPTION:Instructor				\n				\n				\n						\n					\n			\n							\n		\n				\n			\n							\n		\n					\n		\n				\n				\n							\n			\n		\n						\n				\n					\n		\n					\n		\n				\n						\n					\n			\n						\n				\n							\n			\n		\n						\n				\n					\n		\n					\n		\n				\n						\n					\n			\n						\n				\n					Tickets
URL:https://squamisharts.com/sa-event/unfiltered-the-therapeutic-theatre-journey/
LOCATION:BC
CATEGORIES:Community Event
ATTACH;FMTTYPE=image/png:https://squamisharts.com/wp-content/uploads/2026/01/Louise-Robinson-e4b4c301b35fe2c110e61a8c28ad58da.png
END:VEVENT
BEGIN:VEVENT
DTSTART;TZID=America/Vancouver:20260205T200000
DTEND;TZID=America/Vancouver:20260205T223000
DTSTAMP:20260422T142847
CREATED:20251201T214841Z
LAST-MODIFIED:20251201T214841Z
UID:10000669-1770321600-1770330600@squamisharts.com
SUMMARY:The Free Label
DESCRIPTION:Instructor				\n				\n				\n						\n					\n			\n							\n		\n				\n			\n							\n		\n					\n		\n				\n				\n							\n			\n		\n						\n				\n					\n		\n					\n		\n				\n						\n					\n			\n						\n				\n							\n			\n		\n						\n				\n					\n		\n					\n		\n				\n						\n					\n			\n						\n				\n					Tickets
URL:https://squamisharts.com/sa-event/the-free-label/
LOCATION:BC
CATEGORIES:Community Event
ATTACH;FMTTYPE=image/png:https://squamisharts.com/wp-content/uploads/2025/11/Screenshot-2025-11-30-at-8.38.25-PM-524f541018ac26d50e701c5e2b146aa8.png
END:VEVENT
BEGIN:VEVENT
DTSTART;TZID=America/Vancouver:20260206T200000
DTEND;TZID=America/Vancouver:20260206T230000
DTSTAMP:20260422T142847
CREATED:20260120T030752Z
LAST-MODIFIED:20260120T030753Z
UID:10000699-1770408000-1770418800@squamisharts.com
SUMMARY:Fresh Cut Grass @ The BAG
DESCRIPTION:Instructor				\n				\n				\n						\n					\n			\n							\n		\n				\n			\n							\n		\n					\n		\n				\n				\n							\n			\n		\n						\n				\n					\n		\n					\n		\n				\n						\n					\n			\n						\n				\n							\n			\n		\n						\n				\n					\n		\n					\n		\n				\n						\n					\n			\n						\n				\n					Tickets
URL:https://squamisharts.com/sa-event/fresh-cut-grass-the-bag/
LOCATION:BC
CATEGORIES:Community Event
ATTACH;FMTTYPE=image/png:https://squamisharts.com/wp-content/uploads/2026/01/Screen-Shot-2026-01-19-at-2.54.19-PM-7effe96f43c0727953cf43bcfda80b5f.png
END:VEVENT
BEGIN:VEVENT
DTSTART;TZID=America/Vancouver:20260207T200000
DTEND;TZID=America/Vancouver:20260207T230000
DTSTAMP:20260422T142847
CREATED:20260120T030710Z
LAST-MODIFIED:20260120T030710Z
UID:10000700-1770494400-1770505200@squamisharts.com
SUMMARY:Grateful Dead Tribute - Songs to Phil The Air
DESCRIPTION:Instructor				\n				\n				\n						\n					\n			\n							\n		\n				\n			\n							\n		\n					\n		\n				\n				\n							\n			\n		\n						\n				\n					\n		\n					\n		\n				\n						\n					\n			\n						\n				\n							\n			\n		\n						\n				\n					\n		\n					\n		\n				\n						\n					\n			\n						\n				\n					Tickets
URL:https://squamisharts.com/sa-event/grateful-dead-tribute-songs-to-phil-the-air/
LOCATION:BC
CATEGORIES:Community Event
ATTACH;FMTTYPE=image/png:https://squamisharts.com/wp-content/uploads/2026/01/Screen-Shot-2026-01-19-at-3.03.24-PM-9f5735ff09c401c3e6d1a66de90371fd.png
END:VEVENT
BEGIN:VEVENT
DTSTART;TZID=America/Vancouver:20260210T183000
DTEND;TZID=America/Vancouver:20260210T210000
DTSTAMP:20260422T142847
CREATED:20260120T212340Z
LAST-MODIFIED:20260120T212340Z
UID:10000706-1770748200-1770757200@squamisharts.com
SUMMARY:Nude Doodz @ The BAG
DESCRIPTION:Instructor				\n				\n				\n						\n					\n			\n							\n		\n				\n			\n							\n		\n					\n		\n				\n				\n							\n			\n		\n						\n				\n					\n		\n					\n		\n				\n						\n					\n			\n						\n				\n							\n			\n		\n						\n				\n					\n		\n					\n		\n				\n						\n					\n			\n						\n				\n					Tickets
URL:https://squamisharts.com/sa-event/nude-doodz-the-bag/
LOCATION:BC
CATEGORIES:Community Event
ATTACH;FMTTYPE=image/png:https://squamisharts.com/wp-content/uploads/2026/01/Screen-Shot-2026-01-20-at-12.36.23-PM-f63b9a93985d20be299f279dfd8eeaf7.png
END:VEVENT
BEGIN:VEVENT
DTSTART;TZID=America/Vancouver:20260211T200000
DTEND;TZID=America/Vancouver:20260211T223000
DTSTAMP:20260422T142847
CREATED:20251203T205746Z
LAST-MODIFIED:20251203T205747Z
UID:10000671-1770840000-1770849000@squamisharts.com
SUMMARY:Hawksley Workman
DESCRIPTION:Instructor				\n				\n				\n						\n					\n			\n							\n		\n				\n			\n							\n		\n					\n		\n				\n				\n							\n			\n		\n						\n				\n					\n		\n					\n		\n				\n						\n					\n			\n						\n				\n							\n			\n		\n						\n				\n					\n		\n					\n		\n				\n						\n					\n			\n						\n				\n					Tickets
URL:https://squamisharts.com/sa-event/hawksley-workman/
LOCATION:BC
CATEGORIES:Community Event
ATTACH;FMTTYPE=image/jpeg:https://squamisharts.com/wp-content/uploads/2025/12/hawk-west-1080x1350-blank-64977a4b6b34b0a62253e4f88e99e306.jpg
END:VEVENT
BEGIN:VEVENT
DTSTART;TZID=America/Vancouver:20260212T180000
DTEND;TZID=America/Vancouver:20260212T203000
DTSTAMP:20260422T142847
CREATED:20260205T203649Z
LAST-MODIFIED:20260205T203649Z
UID:10000716-1770919200-1770928200@squamisharts.com
SUMMARY:Zine-Making Workshop: Art Zines
DESCRIPTION:Instructor				\n				\n				\n						\n					\n			\n							\n		\n				\n			\n							\n		\n					\n		\n				\n				\n							\n			\n		\n						\n				\n					\n		\n					\n		\n				\n						\n					\n			\n						\n				\n							\n			\n		\n						\n				\n					\n		\n					\n		\n				\n						\n					\n			\n						\n				\n					Tickets
URL:https://squamisharts.com/sa-event/zine-making-workshop-art-zines/
LOCATION:BC
CATEGORIES:Community Event
ATTACH;FMTTYPE=image/png:https://squamisharts.com/wp-content/uploads/2026/02/Zine-Making-Workshop-Promo-Image-c3de4435d4bdfb5923cf0e21f8d6d4a3.png
END:VEVENT
BEGIN:VEVENT
DTSTART;TZID=America/Vancouver:20260212T190000
DTEND;TZID=America/Vancouver:20260212T210000
DTSTAMP:20260422T142847
CREATED:20260120T030627Z
LAST-MODIFIED:20260120T030627Z
UID:10000701-1770922800-1770930000@squamisharts.com
SUMMARY:Paint Night with Hope Johnson @ The BAG
DESCRIPTION:Instructor				\n				\n				\n						\n					\n			\n							\n		\n				\n			\n							\n		\n					\n		\n				\n				\n							\n			\n		\n						\n				\n					\n		\n					\n		\n				\n						\n					\n			\n						\n				\n							\n			\n		\n						\n				\n					\n		\n					\n		\n				\n						\n					\n			\n						\n				\n					Tickets
URL:https://squamisharts.com/sa-event/paint-night-with-hope-johnson-the-bag/
LOCATION:BC
CATEGORIES:Community Event
ATTACH;FMTTYPE=image/png:https://squamisharts.com/wp-content/uploads/2026/01/Screen-Shot-2026-01-19-at-3.22.28-PM-37fc8a4405964d209d3ab5527a13e947.png
END:VEVENT
BEGIN:VEVENT
DTSTART;TZID=America/Vancouver:20260213T200000
DTEND;TZID=America/Vancouver:20260213T230000
DTSTAMP:20260422T142847
CREATED:20260120T030612Z
LAST-MODIFIED:20260120T030612Z
UID:10000703-1771012800-1771023600@squamisharts.com
SUMMARY:The Corps with Idioflame & The Subteraliens
DESCRIPTION:Instructor				\n				\n				\n						\n					\n			\n							\n		\n				\n			\n							\n		\n					\n		\n				\n				\n							\n			\n		\n						\n				\n					\n		\n					\n		\n				\n						\n					\n			\n						\n				\n							\n			\n		\n						\n				\n					\n		\n					\n		\n				\n						\n					\n			\n						\n				\n					Tickets
URL:https://squamisharts.com/sa-event/the-corps-with-idioflame-the-subteraliens/
LOCATION:BC
CATEGORIES:Community Event
ATTACH;FMTTYPE=image/png:https://squamisharts.com/wp-content/uploads/2026/01/Screen-Shot-2026-01-19-at-3.55.50-PM-142431af0353ba8b3704082d2e3907ed.png
END:VEVENT
BEGIN:VEVENT
DTSTART;TZID=America/Vancouver:20260217T190000
DTEND;TZID=America/Vancouver:20260217T210000
DTSTAMP:20260422T142847
CREATED:20260113T020639Z
LAST-MODIFIED:20260113T020639Z
UID:10000692-1771354800-1771362000@squamisharts.com
SUMMARY:Horizons Reimagined: The Contemporary Landscapes of Polenova
DESCRIPTION:Instructor				\n				\n				\n						\n					\n			\n							\n		\n				\n			\n							\n		\n					\n		\n				\n				\n							\n			\n		\n						\n				\n					\n		\n					\n		\n				\n						\n					\n			\n						\n				\n							\n			\n		\n						\n				\n					\n		\n					\n		\n				\n						\n					\n			\n						\n				\n					Tickets
URL:https://squamisharts.com/sa-event/horizons-reimagined-the-contemporary-landscapes-of-polenova/
LOCATION:BC
CATEGORIES:Community Event
ATTACH;FMTTYPE=image/jpeg:https://squamisharts.com/wp-content/uploads/2026/01/BAG-Art-Gallery-Garden-4d62c37df12cbae15ccddcceb3137c07-scaled.jpg
END:VEVENT
BEGIN:VEVENT
DTSTART;TZID=America/Vancouver:20260218T180000
DTEND;TZID=America/Vancouver:20260218T220000
DTSTAMP:20260422T142847
CREATED:20260120T025805Z
LAST-MODIFIED:20260120T025805Z
UID:10000702-1771437600-1771452000@squamisharts.com
SUMMARY:Open Mic at the BAG
DESCRIPTION:Instructor				\n				\n				\n						\n					\n			\n							\n		\n				\n			\n							\n		\n					\n		\n				\n				\n							\n			\n		\n						\n				\n					\n		\n					\n		\n				\n						\n					\n			\n						\n				\n							\n			\n		\n						\n				\n					\n		\n					\n		\n				\n						\n					\n			\n						\n				\n					Tickets
URL:https://squamisharts.com/sa-event/open-mic-at-the-bag-7/
LOCATION:BC
CATEGORIES:Community Event
ATTACH;FMTTYPE=image/png:https://squamisharts.com/wp-content/uploads/2026/01/Screen-Shot-2026-01-19-at-3.44.03-PM-cadf7e32bf9ef26e616da07d5d2a135c.png
END:VEVENT
BEGIN:VEVENT
DTSTART;TZID=America/Vancouver:20260221T110000
DTEND;TZID=America/Vancouver:20260221T150000
DTSTAMP:20260422T142847
CREATED:20260211T000445Z
LAST-MODIFIED:20260211T000445Z
UID:10000718-1771671600-1771686000@squamisharts.com
SUMMARY:Squamish Zine Fest
DESCRIPTION:Instructor				\n				\n				\n						\n					\n			\n							\n		\n				\n			\n							\n		\n					\n		\n				\n				\n							\n			\n		\n						\n				\n					\n		\n					\n		\n				\n						\n					\n			\n						\n				\n							\n			\n		\n						\n				\n					\n		\n					\n		\n				\n						\n					\n			\n						\n				\n					Tickets
URL:https://squamisharts.com/sa-event/squamish-zine-fest/
LOCATION:BC
CATEGORIES:Community Event
ATTACH;FMTTYPE=image/png:https://squamisharts.com/wp-content/uploads/2026/02/Zine-Fest-2026-social-post-c9069574cd391c15dfc425f2906a1eec.png
END:VEVENT
END:VCALENDAR