BEGIN:VCALENDAR
VERSION:2.0
PRODID:-//Squamish Arts - ECPv6.15.18//NONSGML v1.0//EN
CALSCALE:GREGORIAN
METHOD:PUBLISH
X-WR-CALNAME:Squamish Arts
X-ORIGINAL-URL:https://squamisharts.com
X-WR-CALDESC:Events for Squamish Arts
REFRESH-INTERVAL;VALUE=DURATION:PT1H
X-Robots-Tag:noindex
X-PUBLISHED-TTL:PT1H
BEGIN:VTIMEZONE
TZID:America/Vancouver
BEGIN:DAYLIGHT
TZOFFSETFROM:-0800
TZOFFSETTO:-0700
TZNAME:PDT
DTSTART:20220313T100000
END:DAYLIGHT
BEGIN:STANDARD
TZOFFSETFROM:-0700
TZOFFSETTO:-0800
TZNAME:PST
DTSTART:20221106T090000
END:STANDARD
BEGIN:DAYLIGHT
TZOFFSETFROM:-0800
TZOFFSETTO:-0700
TZNAME:PDT
DTSTART:20230312T100000
END:DAYLIGHT
BEGIN:STANDARD
TZOFFSETFROM:-0700
TZOFFSETTO:-0800
TZNAME:PST
DTSTART:20231105T090000
END:STANDARD
BEGIN:DAYLIGHT
TZOFFSETFROM:-0800
TZOFFSETTO:-0700
TZNAME:PDT
DTSTART:20240310T100000
END:DAYLIGHT
BEGIN:STANDARD
TZOFFSETFROM:-0700
TZOFFSETTO:-0800
TZNAME:PST
DTSTART:20241103T090000
END:STANDARD
BEGIN:DAYLIGHT
TZOFFSETFROM:-0800
TZOFFSETTO:-0700
TZNAME:PDT
DTSTART:20250309T100000
END:DAYLIGHT
BEGIN:STANDARD
TZOFFSETFROM:-0700
TZOFFSETTO:-0800
TZNAME:PST
DTSTART:20251102T090000
END:STANDARD
END:VTIMEZONE
BEGIN:VEVENT
DTSTART;TZID=America/Vancouver:20240220T180000
DTEND;TZID=America/Vancouver:20240220T190000
DTSTAMP:20260425T053022
CREATED:20240207T063401Z
LAST-MODIFIED:20240207T064047Z
UID:10000199-1708452000-1708455600@squamisharts.com
SUMMARY:Figure Drawing
DESCRIPTION:Instructor\nTickets
URL:https://squamisharts.com/sa-event/figure-drawing/
LOCATION:The 55 Activity Centre\, 1201 Village Green Way Squamish\, Squamish\, BC\, V8B 0N6\, Canada
CATEGORIES:Art School
ATTACH;FMTTYPE=image/jpeg:https://squamisharts.com/wp-content/uploads/2024/02/Squamish-Arts-Figure-Drawing-Class.jpg
ORGANIZER;CN="Squamish Arts":MAILTO:info@squamisharts.com
END:VEVENT
BEGIN:VEVENT
DTSTART;TZID=America/Vancouver:20240214T180000
DTEND;TZID=America/Vancouver:20240214T203000
DTSTAMP:20260425T053022
CREATED:20231205T190103Z
LAST-MODIFIED:20231205T190103Z
UID:10000177-1707933600-1707942600@squamisharts.com
SUMMARY:Paint Mount Garibaldi in Watercolour
DESCRIPTION:Instructor\nTickets
URL:https://squamisharts.com/sa-event/paint-mount-garibaldi-in-watercolour/
LOCATION:The 55 Activity Centre\, 1201 Village Green Way Squamish\, Squamish\, BC\, V8B 0N6\, Canada
CATEGORIES:Art School
ATTACH;FMTTYPE=image/jpeg:https://squamisharts.com/wp-content/uploads/2023/12/Squamish-Arts-Monika-Loevenmark-Paint-Mount-Garibaldi.jpg
ORGANIZER;CN="Squamish Arts":MAILTO:info@squamisharts.com
END:VEVENT
BEGIN:VEVENT
DTSTART;TZID=America/Vancouver:20240125T190000
DTEND;TZID=America/Vancouver:20240125T210000
DTSTAMP:20260425T053022
CREATED:20231205T192018Z
LAST-MODIFIED:20231205T192018Z
UID:10000179-1706209200-1706216400@squamisharts.com
SUMMARY:Relief Printmaking 102
DESCRIPTION:Instructor\nTickets
URL:https://squamisharts.com/sa-event/relief-printmaking-102-1-25-24/
LOCATION:37776 2nd Ave Unit 204\, 37776 2nd Ave\, Squamish\, BC\, V8B 0K1\, Canada
CATEGORIES:Art School
ATTACH;FMTTYPE=image/jpeg:https://squamisharts.com/wp-content/uploads/2023/12/Squamish-Arts-Relief-Printmaking-102.jpg
ORGANIZER;CN="Squamish Arts":MAILTO:info@squamisharts.com
END:VEVENT
BEGIN:VEVENT
DTSTART;TZID=America/Vancouver:20240124T180000
DTEND;TZID=America/Vancouver:20240124T203000
DTSTAMP:20260425T053022
CREATED:20231205T185448Z
LAST-MODIFIED:20231205T185550Z
UID:10000176-1706119200-1706128200@squamisharts.com
SUMMARY:Salmon Studies in Watercolour
DESCRIPTION:Instructor\nTickets
URL:https://squamisharts.com/sa-event/salmon-studies-in-watercolour/
LOCATION:The 55 Activity Centre\, 1201 Village Green Way Squamish\, Squamish\, BC\, V8B 0N6\, Canada
CATEGORIES:Art School
ATTACH;FMTTYPE=image/jpeg:https://squamisharts.com/wp-content/uploads/2023/12/Squamish-Arts-Monika-Loevenmark-Watercolour-Salmon-Study.jpg
ORGANIZER;CN="Squamish Arts":MAILTO:info@squamisharts.com
END:VEVENT
BEGIN:VEVENT
DTSTART;TZID=America/Vancouver:20240118T190000
DTEND;TZID=America/Vancouver:20240118T210000
DTSTAMP:20260425T053022
CREATED:20231205T183524Z
LAST-MODIFIED:20231205T183524Z
UID:10000174-1705604400-1705611600@squamisharts.com
SUMMARY:Relief Printmaking 102
DESCRIPTION:Instructor\nTickets
URL:https://squamisharts.com/sa-event/relief-printmaking-102/
LOCATION:37776 2nd Ave Unit 204\, 37776 2nd Ave\, Squamish\, BC\, V8B 0K1\, Canada
CATEGORIES:Art School
ATTACH;FMTTYPE=image/jpeg:https://squamisharts.com/wp-content/uploads/2023/12/Squamish-Arts-Relief-Printmaking-102.jpg
ORGANIZER;CN="Squamish Arts":MAILTO:info@squamisharts.com
END:VEVENT
BEGIN:VEVENT
DTSTART;TZID=America/Vancouver:20240118T171500
DTEND;TZID=America/Vancouver:20240118T201500
DTSTAMP:20260425T053022
CREATED:20231205T180335Z
LAST-MODIFIED:20231205T180443Z
UID:10000172-1705598100-1705608900@squamisharts.com
SUMMARY:Oil Painting Level 1
DESCRIPTION:Instructor\nTickets
URL:https://squamisharts.com/sa-event/oil-painting-level-1/
LOCATION:The 55 Activity Centre\, 1201 Village Green Way Squamish\, Squamish\, BC\, V8B 0N6\, Canada
CATEGORIES:Art School
ATTACH;FMTTYPE=image/jpeg:https://squamisharts.com/wp-content/uploads/2023/03/Squamish-Arts-Elena-Senatorova.jpg
ORGANIZER;CN="Squamish Arts":MAILTO:info@squamisharts.com
END:VEVENT
BEGIN:VEVENT
DTSTART;TZID=America/Vancouver:20240116T180000
DTEND;TZID=America/Vancouver:20240116T200000
DTSTAMP:20260425T053022
CREATED:20231205T181303Z
LAST-MODIFIED:20231213T185339Z
UID:10000173-1705428000-1705435200@squamisharts.com
SUMMARY:Landscapes in Acrylics
DESCRIPTION:Instructor\nTickets
URL:https://squamisharts.com/sa-event/landscapes-in-acrylics-01-16-24/
LOCATION:The 55 Activity Centre\, 1201 Village Green Way Squamish\, Squamish\, BC\, V8B 0N6\, Canada
CATEGORIES:Art School
ATTACH;FMTTYPE=image/jpeg:https://squamisharts.com/wp-content/uploads/2023/02/squamish-arts-art-school-landscape-painting.jpg
ORGANIZER;CN="Squamish Arts":MAILTO:info@squamisharts.com
END:VEVENT
BEGIN:VEVENT
DTSTART;TZID=America/Vancouver:20240110T180000
DTEND;TZID=America/Vancouver:20240110T203000
DTSTAMP:20260425T053022
CREATED:20231205T184700Z
LAST-MODIFIED:20240111T225114Z
UID:10000175-1704909600-1704918600@squamisharts.com
SUMMARY:Watercolour Bird Study
DESCRIPTION:Instructor\nTickets
URL:https://squamisharts.com/sa-event/watercolour-bird-study/
LOCATION:The 55 Activity Centre\, 1201 Village Green Way Squamish\, Squamish\, BC\, V8B 0N6\, Canada
CATEGORIES:Art School
ATTACH;FMTTYPE=image/jpeg:https://squamisharts.com/wp-content/uploads/2023/12/Squamish-Arts-Monika-Loevenmark-Watercolour-Bird-Study.jpg
ORGANIZER;CN="Squamish Arts":MAILTO:info@squamisharts.com
END:VEVENT
BEGIN:VEVENT
DTSTART;TZID=America/Vancouver:20240104T190000
DTEND;TZID=America/Vancouver:20240104T210000
DTSTAMP:20260425T053022
CREATED:20231205T191703Z
LAST-MODIFIED:20231205T191703Z
UID:10000178-1704394800-1704402000@squamisharts.com
SUMMARY:Sketch Book 101
DESCRIPTION:Instructor\nTickets
URL:https://squamisharts.com/sa-event/sketch-book-101/
LOCATION:37776 2nd Ave Unit 204\, 37776 2nd Ave\, Squamish\, BC\, V8B 0K1\, Canada
CATEGORIES:Art School
ATTACH;FMTTYPE=image/jpeg:https://squamisharts.com/wp-content/uploads/2023/12/Squamish-Arts-Sketchbook-101.jpg
ORGANIZER;CN="Squamish Arts":MAILTO:info@squamisharts.com
END:VEVENT
BEGIN:VEVENT
DTSTART;TZID=America/Vancouver:20231214T173000
DTEND;TZID=America/Vancouver:20231214T200000
DTSTAMP:20260425T053022
CREATED:20231023T224323Z
LAST-MODIFIED:20231025T175450Z
UID:10000162-1702575000-1702584000@squamisharts.com
SUMMARY:Fungi Embroidery
DESCRIPTION:Instructor\nTickets
URL:https://squamisharts.com/sa-event/fungi-embroidery/
LOCATION:The 55 Activity Centre\, 1201 Village Green Way Squamish\, Squamish\, BC\, V8B 0N6\, Canada
CATEGORIES:Art School
ATTACH;FMTTYPE=image/jpeg:https://squamisharts.com/wp-content/uploads/2023/10/Squamish-Arts-Fungi-Embroidery.jpg
ORGANIZER;CN="Squamish Arts":MAILTO:info@squamisharts.com
END:VEVENT
BEGIN:VEVENT
DTSTART;TZID=America/Vancouver:20231207T190000
DTEND;TZID=America/Vancouver:20231207T210000
DTSTAMP:20260425T053022
CREATED:20231016T204247Z
LAST-MODIFIED:20231016T204611Z
UID:10000160-1701975600-1701982800@squamisharts.com
SUMMARY:Pattern Making with Linography for Textiles
DESCRIPTION:Instructor\nTickets
URL:https://squamisharts.com/sa-event/pattern-making-with-linography-for-textiles/
LOCATION:37776 2nd Ave Unit 204\, 37776 2nd Ave\, Squamish\, BC\, V8B 0K1\, Canada
CATEGORIES:Art School
ATTACH;FMTTYPE=image/jpeg:https://squamisharts.com/wp-content/uploads/2023/10/Squamish-Arts-Art-Pattern-Making-Textiles.jpg
ORGANIZER;CN="Squamish Arts":MAILTO:info@squamisharts.com
END:VEVENT
BEGIN:VEVENT
DTSTART;TZID=America/Vancouver:20231130T190000
DTEND;TZID=America/Vancouver:20231130T210000
DTSTAMP:20260425T053022
CREATED:20231010T224530Z
LAST-MODIFIED:20231010T224530Z
UID:10000157-1701370800-1701378000@squamisharts.com
SUMMARY:Sketch Book Exercises and Artist Trading Cards
DESCRIPTION:Instructor\nTickets
URL:https://squamisharts.com/sa-event/sketch-book-exercises-and-artist-trading-cards-11-30-23/
LOCATION:37776 2nd Ave Unit 204\, 37776 2nd Ave\, Squamish\, BC\, V8B 0K1\, Canada
CATEGORIES:Art School
ATTACH;FMTTYPE=image/jpeg:https://squamisharts.com/wp-content/uploads/2023/01/squamish-arts-sketchbook-exercises-art-school.jpg
ORGANIZER;CN="Squamish Arts":MAILTO:info@squamisharts.com
END:VEVENT
BEGIN:VEVENT
DTSTART;TZID=America/Vancouver:20231123T190000
DTEND;TZID=America/Vancouver:20231123T210000
DTSTAMP:20260425T053022
CREATED:20231010T224432Z
LAST-MODIFIED:20231010T224432Z
UID:10000156-1700766000-1700773200@squamisharts.com
SUMMARY:Relief Printmaking
DESCRIPTION:Instructor\nTickets
URL:https://squamisharts.com/sa-event/relief-printmaking-11-23-23/
LOCATION:37776 2nd Ave Unit 204\, 37776 2nd Ave\, Squamish\, BC\, V8B 0K1\, Canada
CATEGORIES:Art School
ATTACH;FMTTYPE=image/jpeg:https://squamisharts.com/wp-content/uploads/2022/11/squamish-arts-art-school-intro-to-relief-printmaking-olivia-rinne-1200x675-2.jpg
ORGANIZER;CN="Squamish Arts":MAILTO:info@squamisharts.com
END:VEVENT
BEGIN:VEVENT
DTSTART;TZID=America/Vancouver:20231114T180000
DTEND;TZID=America/Vancouver:20231114T200000
DTSTAMP:20260425T053022
CREATED:20230919T182950Z
LAST-MODIFIED:20231005T233919Z
UID:10000147-1699984800-1699992000@squamisharts.com
SUMMARY:Landscapes in Acrylics
DESCRIPTION:Instructor\nTickets
URL:https://squamisharts.com/sa-event/landscapes-in-acrylics/
LOCATION:The 55 Activity Centre\, 1201 Village Green Way Squamish\, Squamish\, BC\, V8B 0N6\, Canada
CATEGORIES:Art School
ATTACH;FMTTYPE=image/jpeg:https://squamisharts.com/wp-content/uploads/2023/02/squamish-arts-art-school-landscape-painting.jpg
ORGANIZER;CN="Squamish Arts":MAILTO:info@squamisharts.com
END:VEVENT
BEGIN:VEVENT
DTSTART;TZID=America/Vancouver:20231109T190000
DTEND;TZID=America/Vancouver:20231109T210000
DTSTAMP:20260425T053022
CREATED:20231010T224058Z
LAST-MODIFIED:20231010T224058Z
UID:10000154-1699556400-1699563600@squamisharts.com
SUMMARY:Relief Printmaking
DESCRIPTION:Instructor\nTickets
URL:https://squamisharts.com/sa-event/relief-printmaking-11-9-23/
LOCATION:37776 2nd Ave Unit 204\, 37776 2nd Ave\, Squamish\, BC\, V8B 0K1\, Canada
CATEGORIES:Art School
ATTACH;FMTTYPE=image/jpeg:https://squamisharts.com/wp-content/uploads/2022/11/squamish-arts-art-school-intro-to-relief-printmaking-olivia-rinne-1200x675-2.jpg
ORGANIZER;CN="Squamish Arts":MAILTO:info@squamisharts.com
END:VEVENT
BEGIN:VEVENT
DTSTART;TZID=America/Vancouver:20231107T160000
DTEND;TZID=America/Vancouver:20231107T173000
DTSTAMP:20260425T053022
CREATED:20231023T223324Z
LAST-MODIFIED:20231023T223324Z
UID:10000161-1699372800-1699378200@squamisharts.com
SUMMARY:Meditation & Art for Youth
DESCRIPTION:Instructor\nTickets
URL:https://squamisharts.com/sa-event/meditation-art-for-youth/
LOCATION:The 55 Activity Centre\, 1201 Village Green Way Squamish\, Squamish\, BC\, V8B 0N6\, Canada
CATEGORIES:Art School
ATTACH;FMTTYPE=image/jpeg:https://squamisharts.com/wp-content/uploads/2023/10/Squamish-Arts-Meditation-Art-for-Youth.jpg
ORGANIZER;CN="Squamish Arts":MAILTO:info@squamisharts.com
END:VEVENT
BEGIN:VEVENT
DTSTART;TZID=America/Vancouver:20231102T190000
DTEND;TZID=America/Vancouver:20231102T210000
DTSTAMP:20260425T053022
CREATED:20231010T211645Z
LAST-MODIFIED:20231010T211645Z
UID:10000153-1698951600-1698958800@squamisharts.com
SUMMARY:Sketch Book Exercises and Artist Trading Cards
DESCRIPTION:Instructor\nTickets
URL:https://squamisharts.com/sa-event/sketch-book-exercises-and-artist-trading-cards-11-2-23/
LOCATION:37776 2nd Ave Unit 204\, 37776 2nd Ave\, Squamish\, BC\, V8B 0K1\, Canada
CATEGORIES:Art School
ATTACH;FMTTYPE=image/jpeg:https://squamisharts.com/wp-content/uploads/2023/01/squamish-arts-sketchbook-exercises-art-school.jpg
ORGANIZER;CN="Squamish Arts":MAILTO:info@squamisharts.com
END:VEVENT
BEGIN:VEVENT
DTSTART;TZID=America/Vancouver:20231031T180000
DTEND;TZID=America/Vancouver:20231031T190000
DTSTAMP:20260425T053022
CREATED:20230918T212700Z
LAST-MODIFIED:20230918T212700Z
UID:10000145-1698775200-1698778800@squamisharts.com
SUMMARY:Beginner Cyanotype Workshop
DESCRIPTION:Instructor\nTickets
URL:https://squamisharts.com/sa-event/beginner-cyanotype-workshop/
LOCATION:The 55 Activity Centre\, 1201 Village Green Way Squamish\, Squamish\, BC\, V8B 0N6\, Canada
CATEGORIES:Art School
ATTACH;FMTTYPE=image/jpeg:https://squamisharts.com/wp-content/uploads/2023/09/Squamish-Arts-Art-School-Cyanotype-Workshop.jpg
ORGANIZER;CN="Squamish Arts":MAILTO:info@squamisharts.com
END:VEVENT
BEGIN:VEVENT
DTSTART;TZID=America/Vancouver:20231026T190000
DTEND;TZID=America/Vancouver:20231026T210000
DTSTAMP:20260425T053022
CREATED:20231010T211425Z
LAST-MODIFIED:20231010T211425Z
UID:10000152-1698346800-1698354000@squamisharts.com
SUMMARY:Relief Printmaking
DESCRIPTION:Instructor\nTickets
URL:https://squamisharts.com/sa-event/relief-printmaking-10-26-23/
LOCATION:37776 2nd Ave Unit 204\, 37776 2nd Ave\, Squamish\, BC\, V8B 0K1\, Canada
CATEGORIES:Art School
ATTACH;FMTTYPE=image/jpeg:https://squamisharts.com/wp-content/uploads/2022/11/squamish-arts-art-school-intro-to-relief-printmaking-olivia-rinne-1200x675-2.jpg
ORGANIZER;CN="Squamish Arts":MAILTO:info@squamisharts.com
END:VEVENT
BEGIN:VEVENT
DTSTART;TZID=America/Vancouver:20231026T171500
DTEND;TZID=America/Vancouver:20231026T201500
DTSTAMP:20260425T053022
CREATED:20231005T235103Z
LAST-MODIFIED:20231024T222503Z
UID:10000151-1698340500-1698351300@squamisharts.com
SUMMARY:Oil Painting For Beginners
DESCRIPTION:Instructor\nTickets
URL:https://squamisharts.com/sa-event/oil-painting-for-beginners-10-19-23/
LOCATION:The 55 Activity Centre\, 1201 Village Green Way Squamish\, Squamish\, BC\, V8B 0N6\, Canada
CATEGORIES:Art School
ATTACH;FMTTYPE=image/jpeg:https://squamisharts.com/wp-content/uploads/2023/03/Squamish-Arts-Elena-Senatorova.jpg
ORGANIZER;CN="Squamish Arts":MAILTO:info@squamisharts.com
END:VEVENT
BEGIN:VEVENT
DTSTART;TZID=America/Vancouver:20231025T173000
DTEND;TZID=America/Vancouver:20231025T203000
DTSTAMP:20260425T053022
CREATED:20231005T232200Z
LAST-MODIFIED:20231024T222311Z
UID:10000148-1698255000-1698265800@squamisharts.com
SUMMARY:Oil Painting Level II
DESCRIPTION:Instructor\nTickets
URL:https://squamisharts.com/sa-event/oil-painting-level-ii/
LOCATION:The 55 Activity Centre\, 1201 Village Green Way Squamish\, Squamish\, BC\, V8B 0N6\, Canada
CATEGORIES:Art School
ATTACH;FMTTYPE=image/jpeg:https://squamisharts.com/wp-content/uploads/2022/12/squamish-arts-hand-building-oil-painting-for-beginners.jpg
ORGANIZER;CN="Squamish Arts":MAILTO:info@squamisharts.com
END:VEVENT
BEGIN:VEVENT
DTSTART;TZID=America/Vancouver:20231010T180000
DTEND;TZID=America/Vancouver:20231010T203000
DTSTAMP:20260425T053022
CREATED:20230912T223140Z
LAST-MODIFIED:20230918T221315Z
UID:10000141-1696960800-1696969800@squamisharts.com
SUMMARY:Creative Sparky
DESCRIPTION:Instructor\nTickets
URL:https://squamisharts.com/sa-event/creative-sparky/
LOCATION:The 55 Activity Centre\, 1201 Village Green Way Squamish\, Squamish\, BC\, V8B 0N6\, Canada
CATEGORIES:Art School
ATTACH;FMTTYPE=image/jpeg:https://squamisharts.com/wp-content/uploads/2023/09/Squamish-Arts-Art-School-Creative-Sparky.jpg
ORGANIZER;CN="Squamish Arts":MAILTO:info@squamisharts.com
END:VEVENT
BEGIN:VEVENT
DTSTART;TZID=America/Vancouver:20230923T180000
DTEND;TZID=America/Vancouver:20230923T210000
DTSTAMP:20260425T053022
CREATED:20230810T020248Z
LAST-MODIFIED:20230912T182734Z
UID:10000136-1695492000-1695502800@squamisharts.com
SUMMARY:Photo Walk: Creative Nature Photography
DESCRIPTION:Instructor\nTickets
URL:https://squamisharts.com/sa-event/photo-walk-creative-nature-photography/
LOCATION:The 55 Activity Centre\, 1201 Village Green Way Squamish\, Squamish\, BC\, V8B 0N6\, Canada
CATEGORIES:Art School
ATTACH;FMTTYPE=image/jpeg:https://squamisharts.com/wp-content/uploads/2023/08/Squamish-Arts-Art-School-Photo-Walk.jpg
ORGANIZER;CN="Squamish Arts":MAILTO:info@squamisharts.com
END:VEVENT
BEGIN:VEVENT
DTSTART;TZID=America/Vancouver:20230919T180000
DTEND;TZID=America/Vancouver:20230919T200000
DTSTAMP:20260425T053022
CREATED:20230828T214812Z
LAST-MODIFIED:20230905T171042Z
UID:10000138-1695146400-1695153600@squamisharts.com
SUMMARY:Hand Building With Clay
DESCRIPTION:Instructor\nTickets
URL:https://squamisharts.com/sa-event/hand-building-with-clay-4/
LOCATION:The 55 Activity Centre\, 1201 Village Green Way Squamish\, Squamish\, BC\, V8B 0N6\, Canada
CATEGORIES:Art School
ATTACH;FMTTYPE=image/jpeg:https://squamisharts.com/wp-content/uploads/2023/08/Squamish-Arts-Art-School-Claytivity-Ceramics.jpg
ORGANIZER;CN="Squamish Arts":MAILTO:info@squamisharts.com
END:VEVENT
BEGIN:VEVENT
DTSTART;TZID=America/Vancouver:20230907T173000
DTEND;TZID=America/Vancouver:20230907T203000
DTSTAMP:20260425T053022
CREATED:20230808T234814Z
LAST-MODIFIED:20231006T195459Z
UID:10000134-1694107800-1694118600@squamisharts.com
SUMMARY:Oil Painting For Beginners
DESCRIPTION:Instructor\nTickets
URL:https://squamisharts.com/sa-event/oil-painting-for-beginners-2/
LOCATION:The 55 Activity Centre\, 1201 Village Green Way Squamish\, Squamish\, BC\, V8B 0N6\, Canada
CATEGORIES:Art School
ATTACH;FMTTYPE=image/jpeg:https://squamisharts.com/wp-content/uploads/2023/03/Squamish-Arts-Elena-Senatorova.jpg
ORGANIZER;CN="Squamish Arts":MAILTO:info@squamisharts.com
END:VEVENT
BEGIN:VEVENT
DTSTART;TZID=America/Vancouver:20230906T180000
DTEND;TZID=America/Vancouver:20230906T210000
DTSTAMP:20260425T053022
CREATED:20230810T015309Z
LAST-MODIFIED:20230810T021007Z
UID:10000135-1694023200-1694034000@squamisharts.com
SUMMARY:Intro to Photoshop: Basics of Photography Editing
DESCRIPTION:Instructor\nTickets
URL:https://squamisharts.com/sa-event/intro-to-photoshop-basics-of-photography-editing/
LOCATION:The 55 Activity Centre\, 1201 Village Green Way Squamish\, Squamish\, BC\, V8B 0N6\, Canada
CATEGORIES:Art School
ATTACH;FMTTYPE=image/jpeg:https://squamisharts.com/wp-content/uploads/2023/03/Squamish-Arts-Intro-to-Photoshop.jpg
ORGANIZER;CN="Squamish Arts":MAILTO:info@squamisharts.com
END:VEVENT
BEGIN:VEVENT
DTSTART;TZID=America/Vancouver:20230817T190000
DTEND;TZID=America/Vancouver:20230817T210000
DTSTAMP:20260425T053022
CREATED:20230724T185301Z
LAST-MODIFIED:20230724T185301Z
UID:10000133-1692298800-1692306000@squamisharts.com
SUMMARY:Amped in The Park
DESCRIPTION:Amped in the Park is a program by youth for the whole community. This exciting program brings emerging artists\, youth and older\, to the stage to hone their craft in front of Squamish’s most enthusiastic audience!
URL:https://squamisharts.com/sa-event/amped-in-the-park-5/
LOCATION:Junction Park & O’Siyam Pavilion\, Loggers Ln\, Squamish\, BC\, Canada
CATEGORIES:Community Event
ATTACH;FMTTYPE=image/jpeg:https://squamisharts.com/wp-content/uploads/2023/07/Amped2023_SocialFeed.jpg
ORGANIZER;CN="Squamish Arts":MAILTO:info@squamisharts.com
END:VEVENT
BEGIN:VEVENT
DTSTART;TZID=America/Vancouver:20230815T100000
DTEND;TZID=America/Vancouver:20230815T153000
DTSTAMP:20260425T053022
CREATED:20230620T011714Z
LAST-MODIFIED:20230718T223612Z
UID:10000126-1692093600-1692113400@squamisharts.com
SUMMARY:Youth Mural Camp
DESCRIPTION:Instructor\nTickets
URL:https://squamisharts.com/sa-event/youth-mural-camp/
LOCATION:Based out of the Youth Hub at Foundry Sea to Sky\, ​38646 Buckley Avenue\, Squamish\, BC\, V8B 0K6\, Canada
CATEGORIES:Art School,Youth At Art
ATTACH;FMTTYPE=image/jpeg:https://squamisharts.com/wp-content/uploads/2023/06/Squamish-Arts-Public-Art-Camp-1.jpg
ORGANIZER;CN="Squamish Arts":MAILTO:info@squamisharts.com
END:VEVENT
BEGIN:VEVENT
DTSTART;TZID=America/Vancouver:20230810T190000
DTEND;TZID=America/Vancouver:20230810T210000
DTSTAMP:20260425T053022
CREATED:20230724T185229Z
LAST-MODIFIED:20230724T185229Z
UID:10000132-1691694000-1691701200@squamisharts.com
SUMMARY:Amped in The Park
DESCRIPTION:Amped in the Park is a program by youth for the whole community. This exciting program brings emerging artists\, youth and older\, to the stage to hone their craft in front of Squamish’s most enthusiastic audience!
URL:https://squamisharts.com/sa-event/amped-in-the-park-4/
LOCATION:Junction Park & O’Siyam Pavilion\, Loggers Ln\, Squamish\, BC\, Canada
CATEGORIES:Community Event
ATTACH;FMTTYPE=image/jpeg:https://squamisharts.com/wp-content/uploads/2023/07/Amped2023_SocialFeed.jpg
ORGANIZER;CN="Squamish Arts":MAILTO:info@squamisharts.com
END:VEVENT
BEGIN:VEVENT
DTSTART;TZID=America/Vancouver:20230803T190000
DTEND;TZID=America/Vancouver:20230803T210000
DTSTAMP:20260425T053022
CREATED:20230724T182017Z
LAST-MODIFIED:20230724T182017Z
UID:10000131-1691089200-1691096400@squamisharts.com
SUMMARY:Amped in The Park
DESCRIPTION:Amped in the Park is a program by youth for the whole community. This exciting program brings emerging artists\, youth and older\, to the stage to hone their craft in front of Squamish’s most enthusiastic audience!
URL:https://squamisharts.com/sa-event/amped-in-the-park-3/
LOCATION:Junction Park & O’Siyam Pavilion\, Loggers Ln\, Squamish\, BC\, Canada
CATEGORIES:Community Event
ATTACH;FMTTYPE=image/jpeg:https://squamisharts.com/wp-content/uploads/2023/07/Amped2023_SocialFeed.jpg
ORGANIZER;CN="Squamish Arts":MAILTO:info@squamisharts.com
END:VEVENT
END:VCALENDAR