BEGIN:VCALENDAR
VERSION:2.0
PRODID:-//Squamish Arts - ECPv6.15.18//NONSGML v1.0//EN
CALSCALE:GREGORIAN
METHOD:PUBLISH
X-ORIGINAL-URL:https://squamisharts.com
X-WR-CALDESC:Events for Squamish Arts
REFRESH-INTERVAL;VALUE=DURATION:PT1H
X-Robots-Tag:noindex
X-PUBLISHED-TTL:PT1H
BEGIN:VTIMEZONE
TZID:America/Vancouver
BEGIN:DAYLIGHT
TZOFFSETFROM:-0800
TZOFFSETTO:-0700
TZNAME:PDT
DTSTART:20230312T100000
END:DAYLIGHT
BEGIN:STANDARD
TZOFFSETFROM:-0700
TZOFFSETTO:-0800
TZNAME:PST
DTSTART:20231105T090000
END:STANDARD
BEGIN:DAYLIGHT
TZOFFSETFROM:-0800
TZOFFSETTO:-0700
TZNAME:PDT
DTSTART:20240310T100000
END:DAYLIGHT
BEGIN:STANDARD
TZOFFSETFROM:-0700
TZOFFSETTO:-0800
TZNAME:PST
DTSTART:20241103T090000
END:STANDARD
BEGIN:DAYLIGHT
TZOFFSETFROM:-0800
TZOFFSETTO:-0700
TZNAME:PDT
DTSTART:20250309T100000
END:DAYLIGHT
BEGIN:STANDARD
TZOFFSETFROM:-0700
TZOFFSETTO:-0800
TZNAME:PST
DTSTART:20251102T090000
END:STANDARD
BEGIN:DAYLIGHT
TZOFFSETFROM:-0800
TZOFFSETTO:-0700
TZNAME:PDT
DTSTART:20260308T100000
END:DAYLIGHT
BEGIN:STANDARD
TZOFFSETFROM:-0700
TZOFFSETTO:-0800
TZNAME:PST
DTSTART:20261101T090000
END:STANDARD
END:VTIMEZONE
BEGIN:VEVENT
DTSTART;TZID=America/Vancouver:20250218T180000
DTEND;TZID=America/Vancouver:20250218T190000
DTSTAMP:20260423T022254
CREATED:20241212T225342Z
LAST-MODIFIED:20250219T192256Z
UID:10000389-1739901600-1739905200@squamisharts.com
SUMMARY:Tools to Help You Play
DESCRIPTION:Instructor\nTickets
URL:https://squamisharts.com/sa-event/tools-to-help-you-play/
LOCATION:The 55 Activity Centre\, 1201 Village Green Way Squamish\, Squamish\, BC\, V8B 0N6\, Canada
CATEGORIES:Art School
ATTACH;FMTTYPE=image/jpeg:https://squamisharts.com/wp-content/uploads/2023/01/squamish-arts-sketchbook-exercises-art-school.jpg
ORGANIZER;CN="Squamish Arts":MAILTO:info@squamisharts.com
END:VEVENT
BEGIN:VEVENT
DTSTART;TZID=America/Vancouver:20250207T100000
DTEND;TZID=America/Vancouver:20250207T110000
DTSTAMP:20260423T022254
CREATED:20241218T211112Z
LAST-MODIFIED:20241220T184606Z
UID:10000393-1738922400-1738926000@squamisharts.com
SUMMARY:Parent and Child Art through Storytelling
DESCRIPTION:Instructor\nTickets
URL:https://squamisharts.com/sa-event/parent-and-child-art-through-storytelling-2/
LOCATION:The 55 Activity Centre\, 1201 Village Green Way Squamish\, Squamish\, BC\, V8B 0N6\, Canada
ATTACH;FMTTYPE=image/png:https://squamisharts.com/wp-content/uploads/2024/12/Squamish-Arts-parent.png
ORGANIZER;CN="Squamish Arts":MAILTO:info@squamisharts.com
END:VEVENT
BEGIN:VEVENT
DTSTART;TZID=America/Vancouver:20250130T173000
DTEND;TZID=America/Vancouver:20250130T200000
DTSTAMP:20260423T022254
CREATED:20241212T220916Z
LAST-MODIFIED:20241213T202640Z
UID:10000385-1738258200-1738267200@squamisharts.com
SUMMARY:Block Printing
DESCRIPTION:Instructor\nTickets
URL:https://squamisharts.com/sa-event/block-printing/
LOCATION:The 55 Activity Centre\, 1201 Village Green Way Squamish\, Squamish\, BC\, V8B 0N6\, Canada
CATEGORIES:Art School
ATTACH;FMTTYPE=image/jpeg:https://squamisharts.com/wp-content/uploads/2024/12/Squamish-Arts-Block-Printing.jpg
ORGANIZER;CN="Squamish Arts":MAILTO:info@squamisharts.com
END:VEVENT
BEGIN:VEVENT
DTSTART;TZID=America/Vancouver:20250122T173000
DTEND;TZID=America/Vancouver:20250122T200000
DTSTAMP:20260423T022254
CREATED:20241212T221732Z
LAST-MODIFIED:20241213T225509Z
UID:10000386-1737567000-1737576000@squamisharts.com
SUMMARY:Fundamentals of Drawing
DESCRIPTION:Instructor\nTickets
URL:https://squamisharts.com/sa-event/fundamentals-of-drawing/
LOCATION:The 55 Activity Centre\, 1201 Village Green Way Squamish\, Squamish\, BC\, V8B 0N6\, Canada
CATEGORIES:Art School
ATTACH;FMTTYPE=image/jpeg:https://squamisharts.com/wp-content/uploads/2024/12/Squamish-Arts-fundamentals-of-drawing.jpg
ORGANIZER;CN="Squamish Arts":MAILTO:info@squamisharts.com
END:VEVENT
BEGIN:VEVENT
DTSTART;TZID=America/Vancouver:20250121T180000
DTEND;TZID=America/Vancouver:20250121T210000
DTSTAMP:20260423T022254
CREATED:20241212T215422Z
LAST-MODIFIED:20250114T190915Z
UID:10000378-1737482400-1737493200@squamisharts.com
SUMMARY:Figure Drawing
DESCRIPTION:Instructor\nTickets
URL:https://squamisharts.com/sa-event/figure-drawing-01-21-25/
LOCATION:The Brackendale Art Gallery\, 41950 Government Rd\, Brackendale\, BC\, V0N 1H0\, Canada
CATEGORIES:Art School
ATTACH;FMTTYPE=image/jpeg:https://squamisharts.com/wp-content/uploads/2024/12/Squamish-Arts-Figure-Drawing-Maskull.jpg
ORGANIZER;CN="Squamish Arts":MAILTO:info@squamisharts.com
END:VEVENT
BEGIN:VEVENT
DTSTART;TZID=America/Vancouver:20250121T180000
DTEND;TZID=America/Vancouver:20250121T200000
DTSTAMP:20260423T022254
CREATED:20241212T220343Z
LAST-MODIFIED:20241212T220343Z
UID:10000384-1737482400-1737489600@squamisharts.com
SUMMARY:Expressive Landscape Painting
DESCRIPTION:Instructor\nTickets
URL:https://squamisharts.com/sa-event/expressive-landscape-painting/
LOCATION:The 55 Activity Centre\, 1201 Village Green Way Squamish\, Squamish\, BC\, V8B 0N6\, Canada
CATEGORIES:Art School
ATTACH;FMTTYPE=image/jpeg:https://squamisharts.com/wp-content/uploads/2023/02/squamish-arts-art-school-landscape-painting.jpg
ORGANIZER;CN="Squamish Arts":MAILTO:info@squamisharts.com
END:VEVENT
BEGIN:VEVENT
DTSTART;TZID=America/Vancouver:20250115T171500
DTEND;TZID=America/Vancouver:20250115T201500
DTSTAMP:20260423T022254
CREATED:20241212T222830Z
LAST-MODIFIED:20250214T210329Z
UID:10000387-1736961300-1736972100@squamisharts.com
SUMMARY:Oil Painting For Beginners
DESCRIPTION:Instructor\nTickets
URL:https://squamisharts.com/sa-event/oil-painting-for-beginners-4/
LOCATION:The 55 Activity Centre\, 1201 Village Green Way Squamish\, Squamish\, BC\, V8B 0N6\, Canada
CATEGORIES:Art School
ATTACH;FMTTYPE=image/jpeg:https://squamisharts.com/wp-content/uploads/2024/12/Squamish-Arts-Oil-Painting-For-Beginners.jpg
ORGANIZER;CN="Squamish Arts":MAILTO:info@squamisharts.com
END:VEVENT
BEGIN:VEVENT
DTSTART;TZID=America/Vancouver:20250107T180000
DTEND;TZID=America/Vancouver:20250107T210000
DTSTAMP:20260423T022254
CREATED:20241212T215112Z
LAST-MODIFIED:20241213T043508Z
UID:10000377-1736272800-1736283600@squamisharts.com
SUMMARY:Figure Drawing
DESCRIPTION:Instructor\nTickets
URL:https://squamisharts.com/sa-event/figure-drawing-01-07-25/
LOCATION:The Brackendale Art Gallery\, 41950 Government Rd\, Brackendale\, BC\, V0N 1H0\, Canada
CATEGORIES:Art School
ATTACH;FMTTYPE=image/jpeg:https://squamisharts.com/wp-content/uploads/2024/12/Squamish-Arts-Figure-Drawing-Maskull.jpg
ORGANIZER;CN="Squamish Arts":MAILTO:info@squamisharts.com
END:VEVENT
BEGIN:VEVENT
DTSTART;VALUE=DATE:20241225
DTEND;VALUE=DATE:20250127
DTSTAMP:20260423T022254
CREATED:20241212T211358Z
LAST-MODIFIED:20250109T185000Z
UID:10000374-1735084800-1737935999@squamisharts.com
SUMMARY:$200 Gift Card
DESCRIPTION:Instructor\nTickets
URL:https://squamisharts.com/sa-event/200-gift-card/
CATEGORIES:Art School
ATTACH;FMTTYPE=image/jpeg:https://squamisharts.com/wp-content/uploads/2024/12/Squamish-Arts-gift-card-200.jpg
ORGANIZER;CN="Squamish Arts":MAILTO:info@squamisharts.com
END:VEVENT
BEGIN:VEVENT
DTSTART;VALUE=DATE:20241225
DTEND;VALUE=DATE:20250127
DTSTAMP:20260423T022254
CREATED:20241212T210624Z
LAST-MODIFIED:20250109T184754Z
UID:10000372-1735084800-1737935999@squamisharts.com
SUMMARY:$100 Gift Card
DESCRIPTION:Instructor\nTickets
URL:https://squamisharts.com/sa-event/100-gift-card/
CATEGORIES:Art School
ATTACH;FMTTYPE=image/jpeg:https://squamisharts.com/wp-content/uploads/2024/12/Squamish-Arts-gift-card-100.jpg
ORGANIZER;CN="Squamish Arts":MAILTO:info@squamisharts.com
END:VEVENT
BEGIN:VEVENT
DTSTART;VALUE=DATE:20241225
DTEND;VALUE=DATE:20250127
DTSTAMP:20260423T022254
CREATED:20241212T205654Z
LAST-MODIFIED:20250109T184759Z
UID:10000371-1735084800-1737935999@squamisharts.com
SUMMARY:$50 Gift Card
DESCRIPTION:Instructor\nTickets
URL:https://squamisharts.com/sa-event/50-gift-card/
CATEGORIES:Art School
ATTACH;FMTTYPE=image/jpeg:https://squamisharts.com/wp-content/uploads/2024/12/Squamish-Arts-gift-card-50.jpg
ORGANIZER;CN="Squamish Arts":MAILTO:info@squamisharts.com
END:VEVENT
BEGIN:VEVENT
DTSTART;TZID=America/Vancouver:20241211T173000
DTEND;TZID=America/Vancouver:20241211T203000
DTSTAMP:20260423T022254
CREATED:20241029T225328Z
LAST-MODIFIED:20241129T184153Z
UID:10000363-1733938200-1733949000@squamisharts.com
SUMMARY:Holiday Zine Making: DIY Photo Album
DESCRIPTION:Instructor\nTickets
URL:https://squamisharts.com/sa-event/holiday-zine-making-diy-photo-album/
LOCATION:The 55 Activity Centre\, 1201 Village Green Way Squamish\, Squamish\, BC\, V8B 0N6\, Canada
CATEGORIES:Art School
ATTACH;FMTTYPE=image/jpeg:https://squamisharts.com/wp-content/uploads/2024/10/Squamish-Arts-Holiday-Zine-Making.jpg
ORGANIZER;CN="Squamish Arts":MAILTO:info@squamisharts.com
END:VEVENT
BEGIN:VEVENT
DTSTART;TZID=America/Vancouver:20241204T180000
DTEND;TZID=America/Vancouver:20241204T200000
DTSTAMP:20260423T022254
CREATED:20241011T180044Z
LAST-MODIFIED:20241203T204603Z
UID:10000338-1733335200-1733342400@squamisharts.com
SUMMARY:Pottery Lantern Carving
DESCRIPTION:
URL:https://squamisharts.com/sa-event/pottery-lantern-carving/
LOCATION:The 55 Activity Centre\, 1201 Village Green Way Squamish\, Squamish\, BC\, V8B 0N6\, Canada
CATEGORIES:Art School,Community Event
ATTACH;FMTTYPE=image/jpeg:https://squamisharts.com/wp-content/uploads/2024/10/Squamish-Arts-Lantern-Carving-Liz-Sax.jpg
ORGANIZER;CN="Squamish Arts":MAILTO:info@squamisharts.com
END:VEVENT
BEGIN:VEVENT
DTSTART;TZID=America/Vancouver:20241203T180000
DTEND;TZID=America/Vancouver:20241203T200000
DTSTAMP:20260423T022254
CREATED:20241011T182026Z
LAST-MODIFIED:20241108T180840Z
UID:10000343-1733248800-1733256000@squamisharts.com
SUMMARY:Two-Part Workshop: Hand Building & Glazing Ceramic Mugs
DESCRIPTION:Instructor\nTickets
URL:https://squamisharts.com/sa-event/hand-building-glazing-ceramic-mugs/
LOCATION:The 55 Activity Centre\, 1201 Village Green Way Squamish\, Squamish\, BC\, V8B 0N6\, Canada
CATEGORIES:Art School
ATTACH;FMTTYPE=image/jpeg:https://squamisharts.com/wp-content/uploads/2024/10/Squamish-Arts-Claytivity-Slab-Mugs.jpg
ORGANIZER;CN="Squamish Arts":MAILTO:info@squamisharts.com
END:VEVENT
BEGIN:VEVENT
DTSTART;TZID=America/Vancouver:20241127T173000
DTEND;TZID=America/Vancouver:20241127T203000
DTSTAMP:20260423T022254
CREATED:20241011T180131Z
LAST-MODIFIED:20241011T180131Z
UID:10000339-1732728600-1732739400@squamisharts.com
SUMMARY:Block Print Holiday Cards
DESCRIPTION:Instructor\nTickets
URL:https://squamisharts.com/sa-event/block-print-holiday-cards/
LOCATION:The 55 Activity Centre\, 1201 Village Green Way Squamish\, Squamish\, BC\, V8B 0N6\, Canada
CATEGORIES:Art School
ATTACH;FMTTYPE=image/jpeg:https://squamisharts.com/wp-content/uploads/2024/10/Squamish-Arts-Steffi-Lai-Block-Print.jpg
ORGANIZER;CN="Squamish Arts":MAILTO:info@squamisharts.com
END:VEVENT
BEGIN:VEVENT
DTSTART;TZID=America/Vancouver:20241126T173000
DTEND;TZID=America/Vancouver:20241126T200000
DTSTAMP:20260423T022254
CREATED:20240227T174720Z
LAST-MODIFIED:20241106T201441Z
UID:10000205-1732642200-1732651200@squamisharts.com
SUMMARY:Holiday Embroidery
DESCRIPTION:Instructor\nTickets
URL:https://squamisharts.com/sa-event/holiday-embroidery/
LOCATION:The 55 Activity Centre\, 1201 Village Green Way Squamish\, Squamish\, BC\, V8B 0N6\, Canada
CATEGORIES:Art School
ATTACH;FMTTYPE=image/jpeg:https://squamisharts.com/wp-content/uploads/2024/02/Squamish-Arts-Holiday-Embroidery.jpg
ORGANIZER;CN="Squamish Arts":MAILTO:info@squamisharts.com
END:VEVENT
BEGIN:VEVENT
DTSTART;TZID=America/Vancouver:20241123T100000
DTEND;TZID=America/Vancouver:20241123T130000
DTSTAMP:20260423T022254
CREATED:20241011T180311Z
LAST-MODIFIED:20241113T200855Z
UID:10000340-1732356000-1732366800@squamisharts.com
SUMMARY:Pet Portraiture in Watercolour
DESCRIPTION:Instructor\nTickets
URL:https://squamisharts.com/sa-event/pet-portraiture-in-watercolour/
LOCATION:The 55 Activity Centre\, 1201 Village Green Way Squamish\, Squamish\, BC\, V8B 0N6\, Canada
CATEGORIES:Art School
ATTACH;FMTTYPE=image/jpeg:https://squamisharts.com/wp-content/uploads/2024/10/Squamish-Arts-Lorraine-Simmonds-Pet.jpg
ORGANIZER;CN="Squamish Arts":MAILTO:info@squamisharts.com
END:VEVENT
BEGIN:VEVENT
DTSTART;TZID=America/Vancouver:20241112T180000
DTEND;TZID=America/Vancouver:20241112T200000
DTSTAMP:20260423T022254
CREATED:20240924T022101Z
LAST-MODIFIED:20241011T180336Z
UID:10000332-1731434400-1731441600@squamisharts.com
SUMMARY:Macrame Plant Hanger
DESCRIPTION:
URL:https://squamisharts.com/sa-event/macrame-plant-hanger-11-12-24/
LOCATION:The 55 Activity Centre\, 1201 Village Green Way Squamish\, Squamish\, BC\, V8B 0N6\, Canada
CATEGORIES:Art School,Community Event
ATTACH;FMTTYPE=image/jpeg:https://squamisharts.com/wp-content/uploads/2024/09/Squamish-Arts-Macrame-Plant-Hanger.jpg
ORGANIZER;CN="Squamish Arts":MAILTO:info@squamisharts.com
END:VEVENT
BEGIN:VEVENT
DTSTART;TZID=America/Vancouver:20241107T171500
DTEND;TZID=America/Vancouver:20241107T201500
DTSTAMP:20260423T022254
CREATED:20240827T010926Z
LAST-MODIFIED:20241107T193015Z
UID:10000315-1730999700-1731010500@squamisharts.com
SUMMARY:Oil Painting: The Next Step
DESCRIPTION:Instructor\nTickets
URL:https://squamisharts.com/sa-event/oil-painting-the-next-step-11-07-24/
LOCATION:The 55 Activity Centre\, 1201 Village Green Way Squamish\, Squamish\, BC\, V8B 0N6\, Canada
CATEGORIES:Art School
ATTACH;FMTTYPE=image/jpeg:https://squamisharts.com/wp-content/uploads/2024/08/Squamish-Arts-Oil-Painting-The-Next-Step.jpg
ORGANIZER;CN="Squamish Arts":MAILTO:info@squamisharts.com
END:VEVENT
BEGIN:VEVENT
DTSTART;TZID=America/Vancouver:20241106T173000
DTEND;TZID=America/Vancouver:20241106T203000
DTSTAMP:20260423T022254
CREATED:20241011T180439Z
LAST-MODIFIED:20241106T201331Z
UID:10000341-1730914200-1730925000@squamisharts.com
SUMMARY:Oil Painting For Beginners
DESCRIPTION:Instructor\nTickets
URL:https://squamisharts.com/sa-event/oil-painting-for-beginners-3/
LOCATION:The 55 Activity Centre\, 1201 Village Green Way Squamish\, Squamish\, BC\, V8B 0N6\, Canada
CATEGORIES:Art School
ATTACH;FMTTYPE=image/jpeg:https://squamisharts.com/wp-content/uploads/2023/03/Squamish-Arts-Elena-Senatorova.jpg
ORGANIZER;CN="Squamish Arts":MAILTO:info@squamisharts.com
END:VEVENT
BEGIN:VEVENT
DTSTART;TZID=America/Vancouver:20241021T180000
DTEND;TZID=America/Vancouver:20241021T210000
DTSTAMP:20260423T022254
CREATED:20241010T170805Z
LAST-MODIFIED:20241011T182158Z
UID:10000342-1729533600-1729544400@squamisharts.com
SUMMARY:Figure Drawing
DESCRIPTION:Instructor\nTickets
URL:https://squamisharts.com/sa-event/figure-drawing-10-21-24/
LOCATION:Trickster’s Hideout\, Back Alley\, 38005 Cleveland Ave\, Squamish\, BC\, V8B 0C3\, Canada
CATEGORIES:Art School
ATTACH;FMTTYPE=image/jpeg:https://squamisharts.com/wp-content/uploads/2024/10/Squamish-Arts-Figure-Drawing.jpg
ORGANIZER;CN="Squamish Arts":MAILTO:info@squamisharts.com
END:VEVENT
BEGIN:VEVENT
DTSTART;TZID=America/Vancouver:20241015T180000
DTEND;TZID=America/Vancouver:20241015T193000
DTSTAMP:20260423T022254
CREATED:20240924T020011Z
LAST-MODIFIED:20241015T171008Z
UID:10000331-1729015200-1729020600@squamisharts.com
SUMMARY:Mandala Drawing
DESCRIPTION:
URL:https://squamisharts.com/sa-event/mandala-drawing/
LOCATION:The 55 Activity Centre\, 1201 Village Green Way Squamish\, Squamish\, BC\, V8B 0N6\, Canada
CATEGORIES:Art School,Community Event
ATTACH;FMTTYPE=image/jpeg:https://squamisharts.com/wp-content/uploads/2024/09/Squamish-Arts-Mandala-Drawing.jpg
ORGANIZER;CN="Squamish Arts":MAILTO:info@squamisharts.com
END:VEVENT
BEGIN:VEVENT
DTSTART;TZID=America/Vancouver:20241007T180000
DTEND;TZID=America/Vancouver:20241007T210000
DTSTAMP:20260423T022254
CREATED:20240919T204217Z
LAST-MODIFIED:20240919T205452Z
UID:10000330-1728324000-1728334800@squamisharts.com
SUMMARY:Figure Drawing
DESCRIPTION:Instructor\nTickets
URL:https://squamisharts.com/sa-event/figure-drawing-10-07-024/
LOCATION:Trickster’s Hideout\, Back Alley\, 38005 Cleveland Ave\, Squamish\, BC\, V8B 0C3\, Canada
CATEGORIES:Art School
ATTACH;FMTTYPE=image/jpeg:https://squamisharts.com/wp-content/uploads/2024/02/Squamish-Arts-Figure-Drawing-Class.jpg
ORGANIZER;CN="Squamish Arts":MAILTO:info@squamisharts.com
END:VEVENT
BEGIN:VEVENT
DTSTART;TZID=America/Vancouver:20240925T173000
DTEND;TZID=America/Vancouver:20240925T203000
DTSTAMP:20260423T022254
CREATED:20240827T005721Z
LAST-MODIFIED:20240918T224548Z
UID:10000314-1727285400-1727296200@squamisharts.com
SUMMARY:Oil Painting For Beginners
DESCRIPTION:Instructor\nTickets
URL:https://squamisharts.com/sa-event/oil-painting-for-beginners-09-18-24/
LOCATION:The 55 Activity Centre\, 1201 Village Green Way Squamish\, Squamish\, BC\, V8B 0N6\, Canada
CATEGORIES:Art School
ATTACH;FMTTYPE=image/jpeg:https://squamisharts.com/wp-content/uploads/2023/03/Squamish-Arts-Elena-Senatorova.jpg
ORGANIZER;CN="Squamish Arts":MAILTO:info@squamisharts.com
END:VEVENT
BEGIN:VEVENT
DTSTART;TZID=America/Vancouver:20240922T110000
DTEND;TZID=America/Vancouver:20240922T123000
DTSTAMP:20260423T022254
CREATED:20240719T215103Z
LAST-MODIFIED:20240905T163410Z
UID:10000279-1727002800-1727008200@squamisharts.com
SUMMARY:Wild Robot Fans\, Unite!
DESCRIPTION:
URL:https://squamisharts.com/sa-event/wild-robot-fans-unite/
CATEGORIES:Art School,Community Event
ATTACH;FMTTYPE=image/jpeg:https://squamisharts.com/wp-content/uploads/2024/07/squamish-arts-festiva-the-wild-robot.jpg
ORGANIZER;CN="Squamish Arts":MAILTO:info@squamisharts.com
END:VEVENT
BEGIN:VEVENT
DTSTART;TZID=America/Vancouver:20240910T180000
DTEND;TZID=America/Vancouver:20240910T200000
DTSTAMP:20260423T022254
CREATED:20240826T201612Z
LAST-MODIFIED:20240826T201612Z
UID:10000313-1725991200-1725998400@squamisharts.com
SUMMARY:Expressive Landscape Painting
DESCRIPTION:Instructor\nTickets
URL:https://squamisharts.com/sa-event/expressive-landscape-painting-9-10-24/
LOCATION:The 55 Activity Centre\, 1201 Village Green Way Squamish\, Squamish\, BC\, V8B 0N6\, Canada
CATEGORIES:Art School
ATTACH;FMTTYPE=image/jpeg:https://squamisharts.com/wp-content/uploads/2023/02/squamish-arts-art-school-landscape-painting.jpg
ORGANIZER;CN="Squamish Arts":MAILTO:info@squamisharts.com
END:VEVENT
BEGIN:VEVENT
DTSTART;TZID=America/Vancouver:20240817T140000
DTEND;TZID=America/Vancouver:20240817T230000
DTSTAMP:20260423T022254
CREATED:20240726T222855Z
LAST-MODIFIED:20240726T223055Z
UID:10000292-1723903200-1723935600@squamisharts.com
SUMMARY:Sp'akw'us Feather Park Shakedown
DESCRIPTION:AUGUST 17\, 2PM-11PM \nSp’akw’us Feather Park\, Oceanfront Squamish \nFree public event | Site-wide Liquor License \nComplimentary Bike Parking| Limited Parking On-site \nJoin Matthews West & Squamish Arts for the event of the summer!
URL:https://squamisharts.com/sa-event/spakwus-feather-park-shakedown/
LOCATION:Junction Park & O’Siyam Pavilion\, Loggers Ln\, Squamish\, BC\, Canada
CATEGORIES:Community Event
ATTACH;FMTTYPE=image/png:https://squamisharts.com/wp-content/uploads/2024/07/SFS_Poster_1080x1080.png
ORGANIZER;CN="Squamish Arts":MAILTO:info@squamisharts.com
END:VEVENT
BEGIN:VEVENT
DTSTART;TZID=America/Vancouver:20240815T190000
DTEND;TZID=America/Vancouver:20240815T220000
DTSTAMP:20260423T022254
CREATED:20240710T195011Z
LAST-MODIFIED:20240710T195011Z
UID:10000269-1723748400-1723759200@squamisharts.com
SUMMARY:Amped in The Park
DESCRIPTION:Amped in the Park is a program by youth for the whole community. This exciting program brings emerging artists\, youth and older\, to the stage to hone their craft in front of Squamish’s most enthusiastic audience!
URL:https://squamisharts.com/sa-event/amped-in-the-park-11/
LOCATION:Junction Park & O’Siyam Pavilion\, Loggers Ln\, Squamish\, BC\, Canada
CATEGORIES:Community Event
ATTACH;FMTTYPE=image/jpeg:https://squamisharts.com/wp-content/uploads/2024/07/Amped_Social_1-scaled.jpg
ORGANIZER;CN="Squamish Arts":MAILTO:info@squamisharts.com
END:VEVENT
BEGIN:VEVENT
DTSTART;TZID=America/Vancouver:20240815T180000
DTEND;TZID=America/Vancouver:20240815T200000
DTSTAMP:20260423T022254
CREATED:20240722T224803Z
LAST-MODIFIED:20240803T064205Z
UID:10000287-1723744800-1723752000@squamisharts.com
SUMMARY:Laser Cut Jewelry
DESCRIPTION:
URL:https://squamisharts.com/sa-event/laser-cut-jewelry/
CATEGORIES:Art School,Community Event
ATTACH;FMTTYPE=image/jpeg:https://squamisharts.com/wp-content/uploads/2024/07/squamish-arts-festival-laser-cut-jewelry-1.jpg
ORGANIZER;CN="Squamish Arts":MAILTO:info@squamisharts.com
END:VEVENT
BEGIN:VEVENT
DTSTART;TZID=America/Vancouver:20240814T180000
DTEND;TZID=America/Vancouver:20240814T200000
DTSTAMP:20260423T022254
CREATED:20240722T223739Z
LAST-MODIFIED:20240812T183233Z
UID:10000286-1723658400-1723665600@squamisharts.com
SUMMARY:Pinching and Coiling: Create a Pottery Piece
DESCRIPTION:
URL:https://squamisharts.com/sa-event/pinching-and-coiling-create-a-pottery-piece/
LOCATION:The 55 Activity Centre\, 1201 Village Green Way Squamish\, Squamish\, BC\, V8B 0N6\, Canada
CATEGORIES:Art School,Community Event
ATTACH;FMTTYPE=image/jpeg:https://squamisharts.com/wp-content/uploads/2024/07/squamish-arts-festival-claytivity-pinch-pot-1.jpg
ORGANIZER;CN="Squamish Arts":MAILTO:info@squamisharts.com
END:VEVENT
END:VCALENDAR