BEGIN:VCALENDAR
VERSION:2.0
PRODID:-//Squamish Arts - ECPv6.15.18//NONSGML v1.0//EN
CALSCALE:GREGORIAN
METHOD:PUBLISH
X-WR-CALNAME:Squamish Arts
X-ORIGINAL-URL:https://squamisharts.com
X-WR-CALDESC:Events for Squamish Arts
REFRESH-INTERVAL;VALUE=DURATION:PT1H
X-Robots-Tag:noindex
X-PUBLISHED-TTL:PT1H
BEGIN:VTIMEZONE
TZID:America/Vancouver
BEGIN:DAYLIGHT
TZOFFSETFROM:-0800
TZOFFSETTO:-0700
TZNAME:PDT
DTSTART:20230312T100000
END:DAYLIGHT
BEGIN:STANDARD
TZOFFSETFROM:-0700
TZOFFSETTO:-0800
TZNAME:PST
DTSTART:20231105T090000
END:STANDARD
BEGIN:DAYLIGHT
TZOFFSETFROM:-0800
TZOFFSETTO:-0700
TZNAME:PDT
DTSTART:20240310T100000
END:DAYLIGHT
BEGIN:STANDARD
TZOFFSETFROM:-0700
TZOFFSETTO:-0800
TZNAME:PST
DTSTART:20241103T090000
END:STANDARD
BEGIN:DAYLIGHT
TZOFFSETFROM:-0800
TZOFFSETTO:-0700
TZNAME:PDT
DTSTART:20250309T100000
END:DAYLIGHT
BEGIN:STANDARD
TZOFFSETFROM:-0700
TZOFFSETTO:-0800
TZNAME:PST
DTSTART:20251102T090000
END:STANDARD
BEGIN:DAYLIGHT
TZOFFSETFROM:-0800
TZOFFSETTO:-0700
TZNAME:PDT
DTSTART:20260308T100000
END:DAYLIGHT
BEGIN:STANDARD
TZOFFSETFROM:-0700
TZOFFSETTO:-0800
TZNAME:PST
DTSTART:20261101T090000
END:STANDARD
END:VTIMEZONE
BEGIN:VEVENT
DTSTART;TZID=America/Vancouver:20250513T180000
DTEND;TZID=America/Vancouver:20250513T210000
DTSTAMP:20260423T011232
CREATED:20250305T185809Z
LAST-MODIFIED:20250305T185809Z
UID:10000417-1747159200-1747170000@squamisharts.com
SUMMARY:Figure Drawing
DESCRIPTION:Instructor\nTickets
URL:https://squamisharts.com/sa-event/figure-drawing-7/
LOCATION:The Brackendale Art Gallery\, 41950 Government Rd\, Brackendale\, BC\, V0N 1H0\, Canada
CATEGORIES:Art School
ATTACH;FMTTYPE=image/jpeg:https://squamisharts.com/wp-content/uploads/2024/12/Squamish-Arts-Figure-Drawing-Maskull.jpg
ORGANIZER;CN="Squamish Arts":MAILTO:info@squamisharts.com
END:VEVENT
BEGIN:VEVENT
DTSTART;TZID=America/Vancouver:20250508T180000
DTEND;TZID=America/Vancouver:20250508T200000
DTSTAMP:20260423T011232
CREATED:20250313T223930Z
LAST-MODIFIED:20250522T224630Z
UID:10000426-1746727200-1746734400@squamisharts.com
SUMMARY:Art Gym
DESCRIPTION:Instructor\nTickets
URL:https://squamisharts.com/sa-event/art-gym-10/
LOCATION:The 55 Activity Centre\, 1201 Village Green Way Squamish\, Squamish\, BC\, V8B 0N6\, Canada
CATEGORIES:Art School
ATTACH;FMTTYPE=image/jpeg:https://squamisharts.com/wp-content/uploads/2025/03/Squamish-Arts-Art-Gym.jpg
ORGANIZER;CN="Squamish Arts":MAILTO:info@squamisharts.com
END:VEVENT
BEGIN:VEVENT
DTSTART;TZID=America/Vancouver:20250505T190000
DTEND;TZID=America/Vancouver:20250505T200000
DTSTAMP:20260423T011232
CREATED:20250414T194639Z
LAST-MODIFIED:20250416T170404Z
UID:10000439-1746471600-1746475200@squamisharts.com
SUMMARY:Squamish Arts AGM
DESCRIPTION:Instructor\nTickets
URL:https://squamisharts.com/sa-event/squamish-arts-agm-2/
LOCATION:The 55 Activity Centre\, 1201 Village Green Way Squamish\, Squamish\, BC\, V8B 0N6\, Canada
CATEGORIES:Art School,Community Event
ATTACH;FMTTYPE=image/jpeg:https://squamisharts.com/wp-content/uploads/2025/04/ANNUAL-GENERAL-MEETING-1128-×-564-px-1920-x-1080-px.jpg
ORGANIZER;CN="Squamish Arts":MAILTO:info@squamisharts.com
END:VEVENT
BEGIN:VEVENT
DTSTART;TZID=America/Vancouver:20250502T100000
DTEND;TZID=America/Vancouver:20250502T140000
DTSTAMP:20260423T011232
CREATED:20250313T233418Z
LAST-MODIFIED:20250417T211950Z
UID:10000431-1746180000-1746194400@squamisharts.com
SUMMARY:Portraiture in Watercolour
DESCRIPTION:Instructor\nTickets
URL:https://squamisharts.com/sa-event/portraiture-in-watercolour/
LOCATION:The 55 Activity Centre\, 1201 Village Green Way Squamish\, Squamish\, BC\, V8B 0N6\, Canada
CATEGORIES:Art School
ATTACH;FMTTYPE=image/jpeg:https://squamisharts.com/wp-content/uploads/2025/03/Squamish-Arts-Lorraine-Simmonds-Liz.jpg
ORGANIZER;CN="Squamish Arts":MAILTO:info@squamisharts.com
END:VEVENT
BEGIN:VEVENT
DTSTART;TZID=America/Vancouver:20250429T180000
DTEND;TZID=America/Vancouver:20250429T210000
DTSTAMP:20260423T011232
CREATED:20250306T173810Z
LAST-MODIFIED:20250306T173810Z
UID:10000416-1745949600-1745960400@squamisharts.com
SUMMARY:Figure Drawing - Instructed
DESCRIPTION:Instructor\nTickets
URL:https://squamisharts.com/sa-event/figure-drawing-instructed-2/
LOCATION:The Brackendale Art Gallery\, 41950 Government Rd\, Brackendale\, BC\, V0N 1H0\, Canada
CATEGORIES:Art School
ATTACH;FMTTYPE=image/jpeg:https://squamisharts.com/wp-content/uploads/2025/02/Squamish-Arts-Art-School-Figure-Drawing-Maskull-Lasserre.jpg
ORGANIZER;CN="Squamish Arts":MAILTO:info@squamisharts.com
END:VEVENT
BEGIN:VEVENT
DTSTART;TZID=America/Vancouver:20250424T180000
DTEND;TZID=America/Vancouver:20250424T200000
DTSTAMP:20260423T011232
CREATED:20250313T223829Z
LAST-MODIFIED:20250313T223829Z
UID:10000425-1745517600-1745524800@squamisharts.com
SUMMARY:Art Gym
DESCRIPTION:Instructor\nTickets
URL:https://squamisharts.com/sa-event/art-gym-9/
LOCATION:The 55 Activity Centre\, 1201 Village Green Way Squamish\, Squamish\, BC\, V8B 0N6\, Canada
CATEGORIES:Art School
ATTACH;FMTTYPE=image/jpeg:https://squamisharts.com/wp-content/uploads/2025/02/1-1.jpg
ORGANIZER;CN="Squamish Arts":MAILTO:info@squamisharts.com
END:VEVENT
BEGIN:VEVENT
DTSTART;TZID=America/Vancouver:20250415T180000
DTEND;TZID=America/Vancouver:20250415T210000
DTSTAMP:20260423T011232
CREATED:20250305T192213Z
LAST-MODIFIED:20250411T195105Z
UID:10000419-1744740000-1744750800@squamisharts.com
SUMMARY:Figure Drawing
DESCRIPTION:Instructor\nTickets
URL:https://squamisharts.com/sa-event/figure-drawing-8/
LOCATION:The Brackendale Art Gallery\, 41950 Government Rd\, Brackendale\, BC\, V0N 1H0\, Canada
CATEGORIES:Art School
ATTACH;FMTTYPE=image/jpeg:https://squamisharts.com/wp-content/uploads/2024/12/Squamish-Arts-Figure-Drawing-Maskull.jpg
ORGANIZER;CN="Squamish Arts":MAILTO:info@squamisharts.com
END:VEVENT
BEGIN:VEVENT
DTSTART;TZID=America/Vancouver:20250410T180000
DTEND;TZID=America/Vancouver:20250410T200000
DTSTAMP:20260423T011232
CREATED:20250313T223556Z
LAST-MODIFIED:20250313T223556Z
UID:10000424-1744308000-1744315200@squamisharts.com
SUMMARY:Art Gym
DESCRIPTION:Instructor\nTickets
URL:https://squamisharts.com/sa-event/art-gym-8/
LOCATION:The 55 Activity Centre\, 1201 Village Green Way Squamish\, Squamish\, BC\, V8B 0N6\, Canada
CATEGORIES:Art School
ATTACH;FMTTYPE=image/jpeg:https://squamisharts.com/wp-content/uploads/2025/02/1-1.jpg
ORGANIZER;CN="Squamish Arts":MAILTO:info@squamisharts.com
END:VEVENT
BEGIN:VEVENT
DTSTART;TZID=America/Vancouver:20250408T180000
DTEND;TZID=America/Vancouver:20250408T200000
DTSTAMP:20260423T011232
CREATED:20250313T230855Z
LAST-MODIFIED:20250323T215417Z
UID:10000430-1744135200-1744142400@squamisharts.com
SUMMARY:Expressive Landscape Painting
DESCRIPTION:Instructor\nTickets
URL:https://squamisharts.com/sa-event/expressive-landscape-painting-2/
LOCATION:The 55 Activity Centre\, 1201 Village Green Way Squamish\, Squamish\, BC\, V8B 0N6\, Canada
CATEGORIES:Art School
ATTACH;FMTTYPE=image/jpeg:https://squamisharts.com/wp-content/uploads/2023/02/squamish-arts-art-school-landscape-painting.jpg
ORGANIZER;CN="Squamish Arts":MAILTO:info@squamisharts.com
END:VEVENT
BEGIN:VEVENT
DTSTART;TZID=America/Vancouver:20250327T180000
DTEND;TZID=America/Vancouver:20250327T200000
DTSTAMP:20260423T011232
CREATED:20250310T175811Z
LAST-MODIFIED:20250313T223708Z
UID:10000423-1743098400-1743105600@squamisharts.com
SUMMARY:Art Gym
DESCRIPTION:Instructor\nTickets
URL:https://squamisharts.com/sa-event/art-gym-7/
LOCATION:The 55 Activity Centre\, 1201 Village Green Way Squamish\, Squamish\, BC\, V8B 0N6\, Canada
CATEGORIES:Art School
ATTACH;FMTTYPE=image/jpeg:https://squamisharts.com/wp-content/uploads/2025/02/1-1.jpg
ORGANIZER;CN="Squamish Arts":MAILTO:info@squamisharts.com
END:VEVENT
BEGIN:VEVENT
DTSTART;TZID=America/Vancouver:20250318T180000
DTEND;TZID=America/Vancouver:20250318T210000
DTSTAMP:20260423T011232
CREATED:20241213T043802Z
LAST-MODIFIED:20250207T181607Z
UID:10000391-1742320800-1742331600@squamisharts.com
SUMMARY:Figure Drawing - Instructed
DESCRIPTION:Instructor\nTickets
URL:https://squamisharts.com/sa-event/figure-drawing-03-18-24/
LOCATION:The Brackendale Art Gallery\, 41950 Government Rd\, Brackendale\, BC\, V0N 1H0\, Canada
CATEGORIES:Art School
ATTACH;FMTTYPE=image/jpeg:https://squamisharts.com/wp-content/uploads/2025/02/Squamish-Arts-Art-School-Figure-Drawing-Maskull-Lasserre.jpg
ORGANIZER;CN="Squamish Arts":MAILTO:info@squamisharts.com
END:VEVENT
BEGIN:VEVENT
DTSTART;TZID=America/Vancouver:20250318T173000
DTEND;TZID=America/Vancouver:20250318T200000
DTSTAMP:20260423T011232
CREATED:20250212T171059Z
LAST-MODIFIED:20250212T171059Z
UID:10000411-1742319000-1742328000@squamisharts.com
SUMMARY:Block Printing
DESCRIPTION:Instructor\nTickets
URL:https://squamisharts.com/sa-event/block-printing-3/
LOCATION:The 55 Activity Centre\, 1201 Village Green Way Squamish\, Squamish\, BC\, V8B 0N6\, Canada
CATEGORIES:Art School
ATTACH;FMTTYPE=image/jpeg:https://squamisharts.com/wp-content/uploads/2024/12/Squamish-Arts-Block-Printing.jpg
ORGANIZER;CN="Squamish Arts":MAILTO:info@squamisharts.com
END:VEVENT
BEGIN:VEVENT
DTSTART;TZID=America/Vancouver:20250313T180000
DTEND;TZID=America/Vancouver:20250313T200000
DTSTAMP:20260423T011232
CREATED:20250210T193248Z
LAST-MODIFIED:20250210T201255Z
UID:10000409-1741888800-1741896000@squamisharts.com
SUMMARY:Art Gym
DESCRIPTION:Instructor\nTickets
URL:https://squamisharts.com/sa-event/art-gym-03-13-25/
LOCATION:The 55 Activity Centre\, 1201 Village Green Way Squamish\, Squamish\, BC\, V8B 0N6\, Canada
CATEGORIES:Art School
ATTACH;FMTTYPE=image/jpeg:https://squamisharts.com/wp-content/uploads/2025/02/1-1.jpg
ORGANIZER;CN="Squamish Arts":MAILTO:info@squamisharts.com
END:VEVENT
BEGIN:VEVENT
DTSTART;TZID=America/Vancouver:20250311T173000
DTEND;TZID=America/Vancouver:20250311T200000
DTSTAMP:20260423T011232
CREATED:20250212T170644Z
LAST-MODIFIED:20250212T170644Z
UID:10000410-1741714200-1741723200@squamisharts.com
SUMMARY:Block Printing
DESCRIPTION:Instructor\nTickets
URL:https://squamisharts.com/sa-event/block-printing-2/
LOCATION:The 55 Activity Centre\, 1201 Village Green Way Squamish\, Squamish\, BC\, V8B 0N6\, Canada
CATEGORIES:Art School
ATTACH;FMTTYPE=image/jpeg:https://squamisharts.com/wp-content/uploads/2024/12/Squamish-Arts-Block-Printing.jpg
ORGANIZER;CN="Squamish Arts":MAILTO:info@squamisharts.com
END:VEVENT
BEGIN:VEVENT
DTSTART;TZID=America/Vancouver:20250304T180000
DTEND;TZID=America/Vancouver:20250304T210000
DTSTAMP:20260423T011232
CREATED:20250206T231449Z
LAST-MODIFIED:20250207T181648Z
UID:10000406-1741111200-1741122000@squamisharts.com
SUMMARY:Figure Drawing - Instructed
DESCRIPTION:Instructor\nTickets
URL:https://squamisharts.com/sa-event/figure-drawing-instructed/
LOCATION:The Brackendale Art Gallery\, 41950 Government Rd\, Brackendale\, BC\, V0N 1H0\, Canada
CATEGORIES:Art School
ATTACH;FMTTYPE=image/jpeg:https://squamisharts.com/wp-content/uploads/2025/02/Squamish-Arts-Art-School-Figure-Drawing-Maskull-Lasserre.jpg
ORGANIZER;CN="Squamish Arts":MAILTO:info@squamisharts.com
END:VEVENT
BEGIN:VEVENT
DTSTART;TZID=America/Vancouver:20250227T180000
DTEND;TZID=America/Vancouver:20250227T200000
DTSTAMP:20260423T011232
CREATED:20250210T190957Z
LAST-MODIFIED:20250227T203341Z
UID:10000407-1740679200-1740686400@squamisharts.com
SUMMARY:Art Gym
DESCRIPTION:Instructor\nTickets
URL:https://squamisharts.com/sa-event/art-gym-02-27-25/
LOCATION:The 55 Activity Centre\, 1201 Village Green Way Squamish\, Squamish\, BC\, V8B 0N6\, Canada
CATEGORIES:Art School
ATTACH;FMTTYPE=image/jpeg:https://squamisharts.com/wp-content/uploads/2025/02/1-1.jpg
ORGANIZER;CN="Squamish Arts":MAILTO:info@squamisharts.com
END:VEVENT
BEGIN:VEVENT
DTSTART;TZID=America/Vancouver:20250226T173000
DTEND;TZID=America/Vancouver:20250226T200000
DTSTAMP:20260423T011232
CREATED:20250210T191155Z
LAST-MODIFIED:20250214T205407Z
UID:10000403-1740591000-1740600000@squamisharts.com
SUMMARY:Loose Watercolour Made Simple
DESCRIPTION:Instructor\nTickets
URL:https://squamisharts.com/sa-event/loose-watercolour-made-simple/
LOCATION:The 55 Activity Centre\, 1201 Village Green Way Squamish\, Squamish\, BC\, V8B 0N6\, Canada
CATEGORIES:Art School
ATTACH;FMTTYPE=image/jpeg:https://squamisharts.com/wp-content/uploads/2025/02/1-2.jpg
ORGANIZER;CN="Squamish Arts":MAILTO:info@squamisharts.com
END:VEVENT
BEGIN:VEVENT
DTSTART;TZID=America/Vancouver:20250218T180000
DTEND;TZID=America/Vancouver:20250218T210000
DTSTAMP:20260423T011232
CREATED:20241212T215926Z
LAST-MODIFIED:20241213T043304Z
UID:10000381-1739901600-1739912400@squamisharts.com
SUMMARY:Figure Drawing
DESCRIPTION:Instructor\nTickets
URL:https://squamisharts.com/sa-event/figure-drawing-02-18-25/
LOCATION:The Brackendale Art Gallery\, 41950 Government Rd\, Brackendale\, BC\, V0N 1H0\, Canada
CATEGORIES:Art School
ATTACH;FMTTYPE=image/jpeg:https://squamisharts.com/wp-content/uploads/2024/12/Squamish-Arts-Figure-Drawing-Maskull.jpg
ORGANIZER;CN="Squamish Arts":MAILTO:info@squamisharts.com
END:VEVENT
BEGIN:VEVENT
DTSTART;TZID=America/Vancouver:20250218T180000
DTEND;TZID=America/Vancouver:20250218T190000
DTSTAMP:20260423T011232
CREATED:20241212T225342Z
LAST-MODIFIED:20250219T192256Z
UID:10000389-1739901600-1739905200@squamisharts.com
SUMMARY:Tools to Help You Play
DESCRIPTION:Instructor\nTickets
URL:https://squamisharts.com/sa-event/tools-to-help-you-play/
LOCATION:The 55 Activity Centre\, 1201 Village Green Way Squamish\, Squamish\, BC\, V8B 0N6\, Canada
CATEGORIES:Art School
ATTACH;FMTTYPE=image/jpeg:https://squamisharts.com/wp-content/uploads/2023/01/squamish-arts-sketchbook-exercises-art-school.jpg
ORGANIZER;CN="Squamish Arts":MAILTO:info@squamisharts.com
END:VEVENT
BEGIN:VEVENT
DTSTART;TZID=America/Vancouver:20250207T100000
DTEND;TZID=America/Vancouver:20250207T110000
DTSTAMP:20260423T011232
CREATED:20241218T211112Z
LAST-MODIFIED:20241220T184606Z
UID:10000393-1738922400-1738926000@squamisharts.com
SUMMARY:Parent and Child Art through Storytelling
DESCRIPTION:Instructor\nTickets
URL:https://squamisharts.com/sa-event/parent-and-child-art-through-storytelling-2/
LOCATION:The 55 Activity Centre\, 1201 Village Green Way Squamish\, Squamish\, BC\, V8B 0N6\, Canada
ATTACH;FMTTYPE=image/png:https://squamisharts.com/wp-content/uploads/2024/12/Squamish-Arts-parent.png
ORGANIZER;CN="Squamish Arts":MAILTO:info@squamisharts.com
END:VEVENT
BEGIN:VEVENT
DTSTART;TZID=America/Vancouver:20250130T173000
DTEND;TZID=America/Vancouver:20250130T200000
DTSTAMP:20260423T011232
CREATED:20241212T220916Z
LAST-MODIFIED:20241213T202640Z
UID:10000385-1738258200-1738267200@squamisharts.com
SUMMARY:Block Printing
DESCRIPTION:Instructor\nTickets
URL:https://squamisharts.com/sa-event/block-printing/
LOCATION:The 55 Activity Centre\, 1201 Village Green Way Squamish\, Squamish\, BC\, V8B 0N6\, Canada
CATEGORIES:Art School
ATTACH;FMTTYPE=image/jpeg:https://squamisharts.com/wp-content/uploads/2024/12/Squamish-Arts-Block-Printing.jpg
ORGANIZER;CN="Squamish Arts":MAILTO:info@squamisharts.com
END:VEVENT
BEGIN:VEVENT
DTSTART;TZID=America/Vancouver:20250122T173000
DTEND;TZID=America/Vancouver:20250122T200000
DTSTAMP:20260423T011232
CREATED:20241212T221732Z
LAST-MODIFIED:20241213T225509Z
UID:10000386-1737567000-1737576000@squamisharts.com
SUMMARY:Fundamentals of Drawing
DESCRIPTION:Instructor\nTickets
URL:https://squamisharts.com/sa-event/fundamentals-of-drawing/
LOCATION:The 55 Activity Centre\, 1201 Village Green Way Squamish\, Squamish\, BC\, V8B 0N6\, Canada
CATEGORIES:Art School
ATTACH;FMTTYPE=image/jpeg:https://squamisharts.com/wp-content/uploads/2024/12/Squamish-Arts-fundamentals-of-drawing.jpg
ORGANIZER;CN="Squamish Arts":MAILTO:info@squamisharts.com
END:VEVENT
BEGIN:VEVENT
DTSTART;TZID=America/Vancouver:20250121T180000
DTEND;TZID=America/Vancouver:20250121T210000
DTSTAMP:20260423T011232
CREATED:20241212T215422Z
LAST-MODIFIED:20250114T190915Z
UID:10000378-1737482400-1737493200@squamisharts.com
SUMMARY:Figure Drawing
DESCRIPTION:Instructor\nTickets
URL:https://squamisharts.com/sa-event/figure-drawing-01-21-25/
LOCATION:The Brackendale Art Gallery\, 41950 Government Rd\, Brackendale\, BC\, V0N 1H0\, Canada
CATEGORIES:Art School
ATTACH;FMTTYPE=image/jpeg:https://squamisharts.com/wp-content/uploads/2024/12/Squamish-Arts-Figure-Drawing-Maskull.jpg
ORGANIZER;CN="Squamish Arts":MAILTO:info@squamisharts.com
END:VEVENT
BEGIN:VEVENT
DTSTART;TZID=America/Vancouver:20250121T180000
DTEND;TZID=America/Vancouver:20250121T200000
DTSTAMP:20260423T011232
CREATED:20241212T220343Z
LAST-MODIFIED:20241212T220343Z
UID:10000384-1737482400-1737489600@squamisharts.com
SUMMARY:Expressive Landscape Painting
DESCRIPTION:Instructor\nTickets
URL:https://squamisharts.com/sa-event/expressive-landscape-painting/
LOCATION:The 55 Activity Centre\, 1201 Village Green Way Squamish\, Squamish\, BC\, V8B 0N6\, Canada
CATEGORIES:Art School
ATTACH;FMTTYPE=image/jpeg:https://squamisharts.com/wp-content/uploads/2023/02/squamish-arts-art-school-landscape-painting.jpg
ORGANIZER;CN="Squamish Arts":MAILTO:info@squamisharts.com
END:VEVENT
BEGIN:VEVENT
DTSTART;TZID=America/Vancouver:20250115T171500
DTEND;TZID=America/Vancouver:20250115T201500
DTSTAMP:20260423T011232
CREATED:20241212T222830Z
LAST-MODIFIED:20250214T210329Z
UID:10000387-1736961300-1736972100@squamisharts.com
SUMMARY:Oil Painting For Beginners
DESCRIPTION:Instructor\nTickets
URL:https://squamisharts.com/sa-event/oil-painting-for-beginners-4/
LOCATION:The 55 Activity Centre\, 1201 Village Green Way Squamish\, Squamish\, BC\, V8B 0N6\, Canada
CATEGORIES:Art School
ATTACH;FMTTYPE=image/jpeg:https://squamisharts.com/wp-content/uploads/2024/12/Squamish-Arts-Oil-Painting-For-Beginners.jpg
ORGANIZER;CN="Squamish Arts":MAILTO:info@squamisharts.com
END:VEVENT
BEGIN:VEVENT
DTSTART;TZID=America/Vancouver:20250107T180000
DTEND;TZID=America/Vancouver:20250107T210000
DTSTAMP:20260423T011232
CREATED:20241212T215112Z
LAST-MODIFIED:20241213T043508Z
UID:10000377-1736272800-1736283600@squamisharts.com
SUMMARY:Figure Drawing
DESCRIPTION:Instructor\nTickets
URL:https://squamisharts.com/sa-event/figure-drawing-01-07-25/
LOCATION:The Brackendale Art Gallery\, 41950 Government Rd\, Brackendale\, BC\, V0N 1H0\, Canada
CATEGORIES:Art School
ATTACH;FMTTYPE=image/jpeg:https://squamisharts.com/wp-content/uploads/2024/12/Squamish-Arts-Figure-Drawing-Maskull.jpg
ORGANIZER;CN="Squamish Arts":MAILTO:info@squamisharts.com
END:VEVENT
BEGIN:VEVENT
DTSTART;VALUE=DATE:20241225
DTEND;VALUE=DATE:20250127
DTSTAMP:20260423T011232
CREATED:20241212T211358Z
LAST-MODIFIED:20250109T185000Z
UID:10000374-1735084800-1737935999@squamisharts.com
SUMMARY:$200 Gift Card
DESCRIPTION:Instructor\nTickets
URL:https://squamisharts.com/sa-event/200-gift-card/
CATEGORIES:Art School
ATTACH;FMTTYPE=image/jpeg:https://squamisharts.com/wp-content/uploads/2024/12/Squamish-Arts-gift-card-200.jpg
ORGANIZER;CN="Squamish Arts":MAILTO:info@squamisharts.com
END:VEVENT
BEGIN:VEVENT
DTSTART;VALUE=DATE:20241225
DTEND;VALUE=DATE:20250127
DTSTAMP:20260423T011232
CREATED:20241212T210624Z
LAST-MODIFIED:20250109T184754Z
UID:10000372-1735084800-1737935999@squamisharts.com
SUMMARY:$100 Gift Card
DESCRIPTION:Instructor\nTickets
URL:https://squamisharts.com/sa-event/100-gift-card/
CATEGORIES:Art School
ATTACH;FMTTYPE=image/jpeg:https://squamisharts.com/wp-content/uploads/2024/12/Squamish-Arts-gift-card-100.jpg
ORGANIZER;CN="Squamish Arts":MAILTO:info@squamisharts.com
END:VEVENT
BEGIN:VEVENT
DTSTART;VALUE=DATE:20241225
DTEND;VALUE=DATE:20250127
DTSTAMP:20260423T011232
CREATED:20241212T205654Z
LAST-MODIFIED:20250109T184759Z
UID:10000371-1735084800-1737935999@squamisharts.com
SUMMARY:$50 Gift Card
DESCRIPTION:Instructor\nTickets
URL:https://squamisharts.com/sa-event/50-gift-card/
CATEGORIES:Art School
ATTACH;FMTTYPE=image/jpeg:https://squamisharts.com/wp-content/uploads/2024/12/Squamish-Arts-gift-card-50.jpg
ORGANIZER;CN="Squamish Arts":MAILTO:info@squamisharts.com
END:VEVENT
BEGIN:VEVENT
DTSTART;TZID=America/Vancouver:20241211T173000
DTEND;TZID=America/Vancouver:20241211T203000
DTSTAMP:20260423T011232
CREATED:20241029T225328Z
LAST-MODIFIED:20241129T184153Z
UID:10000363-1733938200-1733949000@squamisharts.com
SUMMARY:Holiday Zine Making: DIY Photo Album
DESCRIPTION:Instructor\nTickets
URL:https://squamisharts.com/sa-event/holiday-zine-making-diy-photo-album/
LOCATION:The 55 Activity Centre\, 1201 Village Green Way Squamish\, Squamish\, BC\, V8B 0N6\, Canada
CATEGORIES:Art School
ATTACH;FMTTYPE=image/jpeg:https://squamisharts.com/wp-content/uploads/2024/10/Squamish-Arts-Holiday-Zine-Making.jpg
ORGANIZER;CN="Squamish Arts":MAILTO:info@squamisharts.com
END:VEVENT
END:VCALENDAR